PDS_VERSION_ID = PDS3
/* FILE DATA ELEMENTS */
RECORD_TYPE = STREAM
/* POINTERS TO DATA OBJECTS */
^COMPRESSED_FILE = "H7167_0000_S23.JP2"
/* IDENTIFICATION DATA ELEMENTS */
DATA_SET_ID = "MEX-M-HRSC-5-REFDR-MAPPROJECTED-V3.0"
DATA_SET_NAME = "MARS EXPRESS HRSC MAP PROJECTED REFDR V3.0"
DETECTOR_ID = MEX_HRSC_S2
EVENT_TYPE = "MARS-REGIONAL-MAPPING-Im-Fl"
INSTRUMENT_HOST_ID = MEX
INSTRUMENT_HOST_NAME = "MARS EXPRESS"
INSTRUMENT_ID = HRSC
INSTRUMENT_NAME = "HIGH RESOLUTION STEREO CAMERA"
MISSION_NAME = "MARS EXPRESS"
MISSION_PHASE_NAME = ME_Phase_18
PROCESSING_LEVEL_ID = 3
PRODUCT_CREATION_TIME = 2016-06-29T18:20:58.000Z
PRODUCT_ID = "H7167_0000_S23.JP2"
RELEASE_ID = 0079
REVISION_ID = 0000
/* QUALITY DATA ELEMENTS */
DATA_QUALITY_ID = 1
DATA_QUALITY_DESC = "Data calculated based on original SPICE kernels"
/* TIME DATA ELEMENTS */
SPACECRAFT_CLOCK_START_COUNT = "1/0197420273.07289"
SPACECRAFT_CLOCK_STOP_COUNT = "1/0197420492.04272"
START_TIME = 2009-08-03T22:59:01.103Z
STOP_TIME = 2009-08-03T23:01:32.552Z
/* ORBITAL DATA ELEMENTS */
ASCENDING_NODE_LONGITUDE = 80.8
MAXIMUM_RESOLUTION = 31.5
FOOTPRINT_POINT_LATITUDE = (-12.6195,-12.6194,-12.6181,-12.6167, -12.6185,-12.8011,-12.9829,-13.1625, -13.3436,-13.528,-13.7078,-13.8886, -14.069,-14.3399,-14.5192,-14.6989, -14.8779,-15.1466,-15.3258,-15.5044, -15.6828,-15.8609,-16.0392,-16.217, -16.3954,-16.5732,-16.7514,-17.102, -17.3664,-17.6305,-17.8067,-17.9858, -18.1697,-18.3499,-18.6193,-18.7981, -18.977,-19.1604,-19.4355,-19.6183, -19.8012,-19.9836,-20.1697,-20.3563, -20.5422,-20.7279,-20.9133,-21.1973, -21.3877,-21.573,-21.6707,-21.6745, -21.6768,-21.6772,-21.6728,-21.6717, -21.3884,-21.1984,-20.9138,-20.7285, -20.5425,-20.2639,-19.9848,-19.8028, -19.6183,-19.4334,-19.2505,-18.9764, -18.6212,-18.4406,-18.2605,-18.081, -17.9029,-17.6385,-17.4616,-17.2843, -17.1078,-16.9312,-16.7542,-16.5767, -16.311,-16.1341,-15.9553,-15.6873, -15.5083,-15.3298,-15.0628,-14.8839, -14.7041,-14.5238,-14.3436,-14.0733, -13.893,-13.622,-13.4411,-13.2599, -12.9883,-12.8069,-12.6252,-12.6195)
FOOTPRINT_POINT_LONGITUDE = (140.827,140.621,140.26,140.053,139.792 ,139.788,139.785,139.781,139.778, 139.775,139.771,139.768,139.764,139.759 ,139.755,139.752,139.748,139.742, 139.739,139.735,139.731,139.727,139.724 ,139.72,139.716,139.712,139.709,139.7, 139.694,139.688,139.684,139.68,139.676, 139.672,139.666,139.661,139.657,139.653 ,139.646,139.641,139.637,139.632, 139.627,139.623,139.618,139.613,139.608 ,139.601,139.596,139.59,139.947,140.177 ,140.536,140.732,141.043,141.277,141.27 ,141.266,141.259,141.255,141.25,141.244 ,141.237,141.233,141.23,141.227,141.223 ,141.217,141.209,141.205,141.202, 141.199,141.195,141.19,141.187,141.184, 141.181,141.178,141.176,141.173,141.168 ,141.165,141.163,141.159,141.157, 141.154,141.15,141.148,141.146,141.144, 141.141,141.138,141.136,141.133,141.131 ,141.129,141.126,141.124,141.122, 140.827)
ORBIT_NUMBER = 7167
ORBITAL_ECCENTRICITY = 0.575
ORBITAL_INCLINATION = 86.78
ORBITAL_SEMIMAJOR_AXIS = 8774.61
PERIAPSIS_ALTITUDE = 329.37
PERIAPSIS_ARGUMENT_ANGLE = 180.96
PERIAPSIS_TIME = 2009-08-03T22:55:27.000Z
SPACECRAFT_ORIENTATION = (0.0,-1.0,0.0)
^MEX_ORIENTATION_DESC = "MEX_ORIENTATION_DESC.TXT"
SPACECRAFT_POINTING_MODE = NADIR
^MEX_POINTING_DESC = "MEX_POINTING_DESC.TXT"
RIGHT_ASCENSION = -1e+32
DECLINATION = -1e+32
OFFSET_ANGLE = -1e+32
SPACECRAFT_SOLAR_DISTANCE = 2.17098e+08
TARGET_NAME = MARS
/* CAMERA DATA ELEMENTS */
DETECTOR_TEMPERATURE = 18.5744
FOCAL_PLANE_TEMPERATURE = 8.3794
INST_CMPRS_NAME = "DISCRETE COSINE TRANSFORMATION (DCT)"
INST_CMPRS_RATIO = 12.1105
INST_CMPRS_QUALITY = 0
INST_CMPRS_QUANTZ_TBL_ID = 0
INSTRUMENT_TEMPERATURE = 11.4379
LENS_TEMPERATURE = 8.7872
MACROPIXEL_SIZE = 2
MISSING_FRAMES = 0
PIXEL_SUBSAMPLING_FLAG = N
SIGNAL_CHAIN_ID = 1
/* RADIOMETRIC DATA ELEMENTS */
BANDWIDTH = 178.0
CENTER_FILTER_WAVELENGTH = 679.0
RADIANCE_OFFSET = 1.42385
RADIANCE_SCALING_FACTOR = 0.011327
REFLECTANCE_SCALING_FACTOR = 0.000282719
MEX:REFLECTANCE_OFFSET = 0.035539
/* IMAGE OBJECT DEFINITIONS */
OBJECT = IMAGE
  INTERCHANGE_FORMAT = BINARY
  LINES = 21485
  LINE_SAMPLES = 3653
  SAMPLE_TYPE = UNSIGNED_INTEGER
  SAMPLE_BITS = 8
  BANDS = 1
  BAND_STORAGE_TYPE = BAND_SEQUENTIAL
  MAXIMUM = 255
  MEAN = 82.0156
  MINIMUM = 1
  STANDARD_DEVIATION = 28.3765
END_OBJECT = IMAGE
/* MAP OBJECT DEFINITIONS */
OBJECT = IMAGE_MAP_PROJECTION
  ^DATA_SET_MAP_PROJECTION_CATALOG= "DSMAP.CAT"
  A_AXIS_RADIUS = 3396.0
  B_AXIS_RADIUS = 3396.0
  C_AXIS_RADIUS = 3396.0
  CENTER_LATITUDE = 0.0
  CENTER_LONGITUDE = 140.0
  COORDINATE_SYSTEM_NAME = PLANETOGRAPHIC
  COORDINATE_SYSTEM_TYPE = "BODY-FIXED ROTATING"
  EASTERNMOST_LONGITUDE = 141.277
  FIRST_STANDARD_PARALLEL = "N/A"
  LINE_FIRST_PIXEL = 1
  LINE_LAST_PIXEL = 21485
  LINE_PROJECTION_OFFSET = -29870.75
  MAP_PROJECTION_ROTATION = 0.0
  MAP_PROJECTION_TYPE = SINUSOIDAL
  MAP_RESOLUTION = 2370.85521546667
  MAP_SCALE = 0.025
  MAXIMUM_LATITUDE = -12.6167
  MINIMUM_LATITUDE = -21.6772
  POSITIVE_LONGITUDE_DIRECTION = EAST
  REFERENCE_LATITUDE = "N/A"
  REFERENCE_LONGITUDE = "N/A"
  SAMPLE_FIRST_PIXEL = 1
  SAMPLE_LAST_PIXEL = 3653
  SAMPLE_PROJECTION_OFFSET = 862.25
  SECOND_STANDARD_PARALLEL = "N/A"
  WESTERNMOST_LONGITUDE = 139.59
END_OBJECT = IMAGE_MAP_PROJECTION
/* The JPEG2000 image data file associated with this label. */
OBJECT = COMPRESSED_FILE
  FILE_NAME = "H7167_0000_S23.JP2"
  RECORD_TYPE = UNDEFINED
  FILE_RECORDS = UNK
  ENCODING_TYPE = "JP2"
  INTERCHANGE_FORMAT = BINARY
  UNCOMPRESSED_FILE_NAME = "H7167_0000_S23.IMG"
  REQUIRED_STORAGE_BYTES = "78506623"
  ^DESCRIPTION = "JP2INFO.TXT"
END_OBJECT = COMPRESSED_FILE
END
