PDS_VERSION_ID = PDS3
/* FILE DATA ELEMENTS */
RECORD_TYPE = STREAM
/* POINTERS TO DATA OBJECTS */
^COMPRESSED_FILE = "H7170_0000_BL3.JP2"
/* IDENTIFICATION DATA ELEMENTS */
DATA_SET_ID = "MEX-M-HRSC-5-REFDR-MAPPROJECTED-V3.0"
DATA_SET_NAME = "MARS EXPRESS HRSC MAP PROJECTED REFDR V3.0"
DETECTOR_ID = MEX_HRSC_BLUE
EVENT_TYPE = "MARS-REGIONAL-MAPPING-Te-Im-Fl"
INSTRUMENT_HOST_ID = MEX
INSTRUMENT_HOST_NAME = "MARS EXPRESS"
INSTRUMENT_ID = HRSC
INSTRUMENT_NAME = "HIGH RESOLUTION STEREO CAMERA"
MISSION_NAME = "MARS EXPRESS"
MISSION_PHASE_NAME = ME_Phase_18
PROCESSING_LEVEL_ID = 3
PRODUCT_CREATION_TIME = 2016-06-29T18:20:58.000Z
PRODUCT_ID = "H7170_0000_BL3.JP2"
RELEASE_ID = 0079
REVISION_ID = 0000
/* QUALITY DATA ELEMENTS */
DATA_QUALITY_ID = 1
DATA_QUALITY_DESC = "Data calculated based on original SPICE kernels"
/* TIME DATA ELEMENTS */
SPACECRAFT_CLOCK_START_COUNT = "1/0197494869.07304"
SPACECRAFT_CLOCK_STOP_COUNT = "1/0197495038.24230"
START_TIME = 2009-08-04T19:41:55.966Z
STOP_TIME = 2009-08-04T19:43:17.169Z
/* ORBITAL DATA ELEMENTS */
ASCENDING_NODE_LONGITUDE = 80.75
MAXIMUM_RESOLUTION = 68.2
FOOTPRINT_POINT_LATITUDE = (-21.0005,-21.0009,-21.0013,-21.0015, -21.0017,-21.0017,-21.0016,-21.0013, -21.001,-21.0006,-21.0001,-20.9992, -21.1811,-21.3653,-21.5523,-21.788, -22.0706,-22.2115,-22.3996,-22.5421, -22.7329,-22.8288,-22.9247,-23.021, -23.1171,-23.3567,-23.5018,-23.5998, -23.7466,-23.8443,-23.9908,-24.0884, -24.186,-24.2835,-24.4313,-24.5309, -24.6305,-24.7301,-24.8296,-24.9789, -25.0782,-25.2272,-25.379,-25.4803, -25.5817,-25.6828,-25.7842,-25.8854, -25.9274,-25.9274,-25.9279,-25.928, -25.9278,-25.9275,-25.927,-25.9265, -25.9256,-25.9241,-25.9215,-25.8206, -25.7196,-25.6185,-25.5172,-25.4159, -25.3145,-25.2137,-25.1145,-25.0153, -24.9161,-24.8168,-24.7174,-24.618, -24.5185,-24.4189,-24.3202,-24.2229, -24.1255,-23.9791,-23.8814,-23.7837, -23.6861,-23.5394,-23.4415,-23.3458, -23.2502,-23.1545,-23.0588,-22.9631, -22.8674,-22.7716,-22.6276,-22.5316, -22.3894,-22.2018,-22.0141,-21.6849, -21.4497,-21.2654,-21.0813,-21.0005)
FOOTPRINT_POINT_LONGITUDE = (198.647,198.529,198.412,198.265, 198.089,197.972,197.854,197.737,197.605 ,197.488,197.37,197.194,197.151,197.147 ,197.143,197.138,197.132,197.128, 197.124,197.121,197.114,197.111,197.109 ,197.107,197.105,197.1,197.096,197.094, 197.091,197.088,197.084,197.082,197.079 ,197.077,197.073,197.07,197.068,197.065 ,197.062,197.059,197.056,197.052, 197.048,197.045,197.043,197.04,197.037, 197.035,197.254,197.408,197.563,197.683 ,197.888,198.025,198.197,198.317, 198.488,198.711,198.871,198.868,198.864 ,198.861,198.858,198.855,198.852, 198.849,198.846,198.843,198.84,198.837, 198.834,198.831,198.828,198.825,198.822 ,198.82,198.817,198.813,198.81,198.808, 198.805,198.801,198.799,198.796,198.794 ,198.791,198.789,198.786,198.784, 198.781,198.778,198.775,198.772,198.767 ,198.763,198.755,198.749,198.746, 198.742,198.647)
ORBIT_NUMBER = 7170
ORBITAL_ECCENTRICITY = 0.575
ORBITAL_INCLINATION = 86.79
ORBITAL_SEMIMAJOR_AXIS = 8771.53
PERIAPSIS_ALTITUDE = 329.66
PERIAPSIS_ARGUMENT_ANGLE = 180.4
PERIAPSIS_TIME = 2009-08-04T19:36:28.000Z
SPACECRAFT_ORIENTATION = (0.0,-1.0,0.0)
^MEX_ORIENTATION_DESC = "MEX_ORIENTATION_DESC.TXT"
SPACECRAFT_POINTING_MODE = NADIR
^MEX_POINTING_DESC = "MEX_POINTING_DESC.TXT"
RIGHT_ASCENSION = -1e+32
DECLINATION = -1e+32
OFFSET_ANGLE = -1e+32
SPACECRAFT_SOLAR_DISTANCE = 2.1725e+08
TARGET_NAME = MARS
/* CAMERA DATA ELEMENTS */
DETECTOR_TEMPERATURE = 18.5744
FOCAL_PLANE_TEMPERATURE = 7.7677
INST_CMPRS_NAME = "DISCRETE COSINE TRANSFORMATION (DCT)"
INST_CMPRS_RATIO = 5.43947
INST_CMPRS_QUALITY = 0
INST_CMPRS_QUANTZ_TBL_ID = 0
INSTRUMENT_TEMPERATURE = 11.0301
LENS_TEMPERATURE = 8.3794
MACROPIXEL_SIZE = 4
MISSING_FRAMES = 0
PIXEL_SUBSAMPLING_FLAG = N
SIGNAL_CHAIN_ID = 2
/* RADIOMETRIC DATA ELEMENTS */
BANDWIDTH = 76.0
CENTER_FILTER_WAVELENGTH = 444.0
RADIANCE_OFFSET = 0.299249
RADIANCE_SCALING_FACTOR = 0.00146691
REFLECTANCE_SCALING_FACTOR = 7.11344e-05
MEX:REFLECTANCE_OFFSET = 0.0145114
/* IMAGE OBJECT DEFINITIONS */
OBJECT = IMAGE
  INTERCHANGE_FORMAT = BINARY
  LINES = 5835
  LINE_SAMPLES = 2020
  SAMPLE_TYPE = UNSIGNED_INTEGER
  SAMPLE_BITS = 8
  BANDS = 1
  BAND_STORAGE_TYPE = BAND_SEQUENTIAL
  MAXIMUM = 255
  MEAN = 105.781
  MINIMUM = 1
  STANDARD_DEVIATION = 22.0994
END_OBJECT = IMAGE
/* MAP OBJECT DEFINITIONS */
OBJECT = IMAGE_MAP_PROJECTION
  ^DATA_SET_MAP_PROJECTION_CATALOG= "DSMAP.CAT"
  A_AXIS_RADIUS = 3396.0
  B_AXIS_RADIUS = 3396.0
  C_AXIS_RADIUS = 3396.0
  CENTER_LATITUDE = 0.0
  CENTER_LONGITUDE = 198.0
  COORDINATE_SYSTEM_NAME = PLANETOGRAPHIC
  COORDINATE_SYSTEM_TYPE = "BODY-FIXED ROTATING"
  EASTERNMOST_LONGITUDE = 198.871
  FIRST_STANDARD_PARALLEL = "N/A"
  LINE_FIRST_PIXEL = 1
  LINE_LAST_PIXEL = 5835
  LINE_PROJECTION_OFFSET = -24885.375
  MAP_PROJECTION_ROTATION = 0.0
  MAP_PROJECTION_TYPE = SINUSOIDAL
  MAP_RESOLUTION = 1185.42760773333
  MAP_SCALE = 0.05
  MAXIMUM_LATITUDE = -20.9992
  MINIMUM_LATITUDE = -25.928
  POSITIVE_LONGITUDE_DIRECTION = EAST
  REFERENCE_LATITUDE = "N/A"
  REFERENCE_LONGITUDE = "N/A"
  SAMPLE_FIRST_PIXEL = 1
  SAMPLE_LAST_PIXEL = 2020
  SAMPLE_PROJECTION_OFFSET = 1069.125
  SECOND_STANDARD_PARALLEL = "N/A"
  WESTERNMOST_LONGITUDE = 197.035
END_OBJECT = IMAGE_MAP_PROJECTION
/* The JPEG2000 image data file associated with this label. */
OBJECT = COMPRESSED_FILE
  FILE_NAME = "H7170_0000_BL3.JP2"
  RECORD_TYPE = UNDEFINED
  FILE_RECORDS = UNK
  ENCODING_TYPE = "JP2"
  INTERCHANGE_FORMAT = BINARY
  UNCOMPRESSED_FILE_NAME = "H7170_0000_BL3.IMG"
  REQUIRED_STORAGE_BYTES = "11806900"
  ^DESCRIPTION = "JP2INFO.TXT"
END_OBJECT = COMPRESSED_FILE
END
