PDS_VERSION_ID = PDS3
/* FILE DATA ELEMENTS */
RECORD_TYPE = STREAM
/* POINTERS TO DATA OBJECTS */
^COMPRESSED_FILE = "H7171_0000_ND3.JP2"
/* IDENTIFICATION DATA ELEMENTS */
DATA_SET_ID = "MEX-M-HRSC-5-REFDR-MAPPROJECTED-V3.0"
DATA_SET_NAME = "MARS EXPRESS HRSC MAP PROJECTED REFDR V3.0"
DETECTOR_ID = MEX_HRSC_NADIR
EVENT_TYPE = "MARS-REGIONAL-MAPPING-Im-Fl"
INSTRUMENT_HOST_ID = MEX
INSTRUMENT_HOST_NAME = "MARS EXPRESS"
INSTRUMENT_ID = HRSC
INSTRUMENT_NAME = "HIGH RESOLUTION STEREO CAMERA"
MISSION_NAME = "MARS EXPRESS"
MISSION_PHASE_NAME = ME_Phase_18
PROCESSING_LEVEL_ID = 3
PRODUCT_CREATION_TIME = 2016-06-29T18:20:58.000Z
PRODUCT_ID = "H7171_0000_ND3.JP2"
RELEASE_ID = 0079
REVISION_ID = 0000
/* QUALITY DATA ELEMENTS */
DATA_QUALITY_ID = 1
DATA_QUALITY_DESC = "Data calculated based on original SPICE kernels"
/* TIME DATA ELEMENTS */
SPACECRAFT_CLOCK_START_COUNT = "1/0197519510.09037"
SPACECRAFT_CLOCK_STOP_COUNT = "1/0197519791.14474"
START_TIME = 2009-08-05T02:32:23.082Z
STOP_TIME = 2009-08-05T02:35:48.083Z
/* ORBITAL DATA ELEMENTS */
ASCENDING_NODE_LONGITUDE = 80.73
MAXIMUM_RESOLUTION = 13.7
FOOTPRINT_POINT_LATITUDE = (-8.83682,-8.83474,-8.83158,-9.06848, -9.30521,-9.54195,-9.77849,-10.0149, -10.2512,-10.4874,-10.7234,-10.9594, -11.1952,-11.4308,-11.6663,-11.9017, -12.1369,-12.3719,-12.8415,-13.3106, -13.7789,-14.1965,-14.4753,-14.7539, -15.0322,-15.3102,-15.588,-15.8655, -16.1427,-16.4197,-16.6964,-16.9728, -17.2489,-17.5247,-17.8002,-18.0754, -18.3503,-18.6249,-18.8992,-19.1732, -19.4468,-19.7262,-20.0065,-20.2865, -20.5661,-20.8502,-21.1364,-21.4223, -21.7077,-21.8611,-21.8629,-21.8635, -21.8637,-21.7178,-21.4325,-21.1469, -20.8608,-20.5767,-20.2973,-20.0174, -19.7372,-19.4578,-19.1843,-18.9105, -18.6364,-18.3619,-18.0871,-17.812, -17.5366,-17.2609,-16.9849,-16.7086, -16.432,-16.1551,-15.8779,-15.6005, -15.3229,-15.0449,-14.7666,-14.4881, -14.07,-13.791,-13.3227,-12.8538, -12.3843,-11.9141,-11.6787,-11.4433, -11.2077,-10.9719,-10.7361,-10.5, -10.2639,-10.0276,-9.79123,-9.55471, -9.31807,-9.0813,-8.84444,-8.83682)
FOOTPRINT_POINT_LONGITUDE = (97.1285,96.7797,96.2813,96.2779, 96.2732,96.2712,96.2674,96.2637,96.2598 ,96.256,96.2526,96.2492,96.2458,96.2421 ,96.2383,96.2344,96.2303,96.2265, 96.2176,96.2089,96.2006,96.1936,96.1882 ,96.1832,96.1775,96.1719,96.1662, 96.1606,96.1548,96.1488,96.1432,96.1373 ,96.1317,96.1255,96.1192,96.1133, 96.1069,96.1009,96.0949,96.0884,96.082, 96.0754,96.0683,96.0617,96.0544,96.0469 ,96.0399,96.0321,96.025,96.2451,96.6748 ,96.9455,97.3583,97.6324,97.6264, 97.6208,97.6152,97.6098,97.6043,97.5993 ,97.5947,97.5901,97.5859,97.5812,97.577 ,97.5729,97.5689,97.5652,97.5613, 97.5576,97.5541,97.5506,97.547,97.5444, 97.542,97.539,97.5352,97.5319,97.5304, 97.5277,97.5236,97.5215,97.518,97.5151, 97.5116,97.5088,97.5077,97.5066,97.5054 ,97.5043,97.5033,97.5023,97.5014, 97.5006,97.4996,97.4989,97.4982,97.4977 ,97.4969,97.1285)
ORBIT_NUMBER = 7171
ORBITAL_ECCENTRICITY = 0.576
ORBITAL_INCLINATION = 86.79
ORBITAL_SEMIMAJOR_AXIS = 8779.16
PERIAPSIS_ALTITUDE = 329.17
PERIAPSIS_ARGUMENT_ANGLE = 180.23
PERIAPSIS_TIME = 2009-08-05T02:30:10.000Z
SPACECRAFT_ORIENTATION = (0.0,-1.0,0.0)
^MEX_ORIENTATION_DESC = "MEX_ORIENTATION_DESC.TXT"
SPACECRAFT_POINTING_MODE = ACROSSTRACK
^MEX_POINTING_DESC = "MEX_POINTING_DESC.TXT"
RIGHT_ASCENSION = -1e+32
DECLINATION = -1e+32
OFFSET_ANGLE = -0.25
SPACECRAFT_SOLAR_DISTANCE = 2.173e+08
TARGET_NAME = MARS
/* CAMERA DATA ELEMENTS */
DETECTOR_TEMPERATURE = 18.1666
FOCAL_PLANE_TEMPERATURE = 8.7872
INST_CMPRS_NAME = "DISCRETE COSINE TRANSFORMATION (DCT)"
INST_CMPRS_RATIO = 6.73396
INST_CMPRS_QUALITY = 0
INST_CMPRS_QUANTZ_TBL_ID = 0
INSTRUMENT_TEMPERATURE = 11.6418
LENS_TEMPERATURE = 9.195
MACROPIXEL_SIZE = 1
MISSING_FRAMES = 0
PIXEL_SUBSAMPLING_FLAG = N
SIGNAL_CHAIN_ID = 0
/* RADIOMETRIC DATA ELEMENTS */
BANDWIDTH = 177.0
CENTER_FILTER_WAVELENGTH = 677.5
RADIANCE_OFFSET = 1.19598
RADIANCE_SCALING_FACTOR = 0.00741691
REFLECTANCE_SCALING_FACTOR = 0.00018605
MEX:REFLECTANCE_OFFSET = 0.0300005
/* IMAGE OBJECT DEFINITIONS */
OBJECT = IMAGE
  INTERCHANGE_FORMAT = BINARY
  LINES = 61797
  LINE_SAMPLES = 7423
  SAMPLE_TYPE = UNSIGNED_INTEGER
  SAMPLE_BITS = 8
  BANDS = 1
  BAND_STORAGE_TYPE = BAND_SEQUENTIAL
  MAXIMUM = 255
  MEAN = 88.8054
  MINIMUM = 1
  STANDARD_DEVIATION = 23.3015
END_OBJECT = IMAGE
/* MAP OBJECT DEFINITIONS */
OBJECT = IMAGE_MAP_PROJECTION
  ^DATA_SET_MAP_PROJECTION_CATALOG= "DSMAP.CAT"
  A_AXIS_RADIUS = 3396.0
  B_AXIS_RADIUS = 3396.0
  C_AXIS_RADIUS = 3396.0
  CENTER_LATITUDE = 0.0
  CENTER_LONGITUDE = 97.0
  COORDINATE_SYSTEM_NAME = PLANETOGRAPHIC
  COORDINATE_SYSTEM_TYPE = "BODY-FIXED ROTATING"
  EASTERNMOST_LONGITUDE = 97.6324
  FIRST_STANDARD_PARALLEL = "N/A"
  LINE_FIRST_PIXEL = 1
  LINE_LAST_PIXEL = 61797
  LINE_PROJECTION_OFFSET = -41875.0
  MAP_PROJECTION_ROTATION = 0.0
  MAP_PROJECTION_TYPE = SINUSOIDAL
  MAP_RESOLUTION = 4741.71043093333
  MAP_SCALE = 0.0125
  MAXIMUM_LATITUDE = -8.831580000000001
  MINIMUM_LATITUDE = -21.8637
  POSITIVE_LONGITUDE_DIRECTION = EAST
  REFERENCE_LATITUDE = "N/A"
  REFERENCE_LONGITUDE = "N/A"
  SAMPLE_FIRST_PIXEL = 1
  SAMPLE_LAST_PIXEL = 7423
  SAMPLE_PROJECTION_OFFSET = 4528.0
  SECOND_STANDARD_PARALLEL = "N/A"
  WESTERNMOST_LONGITUDE = 96.02500000000001
END_OBJECT = IMAGE_MAP_PROJECTION
/* The JPEG2000 image data file associated with this label. */
OBJECT = COMPRESSED_FILE
  FILE_NAME = "H7171_0000_ND3.JP2"
  RECORD_TYPE = UNDEFINED
  FILE_RECORDS = UNK
  ENCODING_TYPE = "JP2"
  INTERCHANGE_FORMAT = BINARY
  UNCOMPRESSED_FILE_NAME = "H7171_0000_ND3.IMG"
  REQUIRED_STORAGE_BYTES = "458748823"
  ^DESCRIPTION = "JP2INFO.TXT"
END_OBJECT = COMPRESSED_FILE
END
