PDS_VERSION_ID = PDS3
/* FILE DATA ELEMENTS */
RECORD_TYPE = STREAM
/* POINTERS TO DATA OBJECTS */
^COMPRESSED_FILE = "H7171_0000_S13.JP2"
/* IDENTIFICATION DATA ELEMENTS */
DATA_SET_ID = "MEX-M-HRSC-5-REFDR-MAPPROJECTED-V3.0"
DATA_SET_NAME = "MARS EXPRESS HRSC MAP PROJECTED REFDR V3.0"
DETECTOR_ID = MEX_HRSC_S1
EVENT_TYPE = "MARS-REGIONAL-MAPPING-Im-Fl"
INSTRUMENT_HOST_ID = MEX
INSTRUMENT_HOST_NAME = "MARS EXPRESS"
INSTRUMENT_ID = HRSC
INSTRUMENT_NAME = "HIGH RESOLUTION STEREO CAMERA"
MISSION_NAME = "MARS EXPRESS"
MISSION_PHASE_NAME = ME_Phase_18
PROCESSING_LEVEL_ID = 3
PRODUCT_CREATION_TIME = 2016-06-29T18:20:58.000Z
PRODUCT_ID = "H7171_0000_S13.JP2"
RELEASE_ID = 0079
REVISION_ID = 0000
/* QUALITY DATA ELEMENTS */
DATA_QUALITY_ID = 1
DATA_QUALITY_DESC = "Data calculated based on original SPICE kernels"
/* TIME DATA ELEMENTS */
SPACECRAFT_CLOCK_START_COUNT = "1/0197519510.09037"
SPACECRAFT_CLOCK_STOP_COUNT = "1/0197519791.14474"
START_TIME = 2009-08-05T02:31:52.578Z
STOP_TIME = 2009-08-05T02:35:09.711Z
/* ORBITAL DATA ELEMENTS */
ASCENDING_NODE_LONGITUDE = 80.73
MAXIMUM_RESOLUTION = 28.6
FOOTPRINT_POINT_LATITUDE = (-8.82327,-8.82677,-8.82869,-8.82257, -9.06348,-9.30701,-9.66443,-9.90529, -10.1463,-10.3878,-10.6281,-10.9878, -11.2277,-11.4681,-11.7086,-11.9506, -12.1906,-12.5526,-12.7939,-13.0346, -13.2759,-13.52,-13.7599,-14.1202, -14.3613,-14.6017,-14.8415,-15.0828, -15.3273,-15.5686,-15.8093,-16.0736, -16.3612,-16.7915,-17.0791,-17.5086, -17.7959,-18.0823,-18.5126,-18.7984, -19.0849,-19.5146,-19.8007,-20.0877, -20.5169,-20.9476,-21.3759,-21.6613, -21.8487,-21.848,-21.8527,-21.8505, -21.8423,-21.8403,-21.555,-21.1269, -20.6977,-20.4096,-20.1235,-19.8388, -19.5529,-19.1227,-18.8362,-18.5499, -18.2637,-17.9766,-17.6902,-17.4023, -17.1154,-16.828,-16.5401,-16.113, -15.8431,-15.6023,-15.3581,-15.1103, -14.8742,-14.6337,-14.3911,-14.1474, -13.9083,-13.6678,-13.4273,-13.1827, -12.8236,-12.5798,-12.3393,-12.0982, -11.7386,-11.498,-11.2567,-11.0161, -10.6551,-10.2933,-9.93227,-9.69057, -9.32937,-9.08897,-8.84721,-8.82327)
FOOTPRINT_POINT_LONGITUDE = (97.1652,96.793,96.6061,96.2896,96.2863 ,96.2818,96.2785,96.2751,96.2716, 96.2679,96.2647,96.2601,96.257,96.2535, 96.2501,96.2459,96.2425,96.2365,96.2325 ,96.2287,96.2246,96.2207,96.217,96.2114 ,96.2071,96.2031,96.1993,96.1948, 96.1903,96.1857,96.1813,96.1763,96.1707 ,96.1627,96.1569,96.1489,96.1429, 96.1374,96.1285,96.1229,96.1169,96.1077 ,96.1016,96.095,96.0854,96.0749,96.0652 ,96.0587,96.2795,96.549,96.7871,97.0564 ,97.2796,97.5968,97.5918,97.5845, 97.5774,97.5724,97.5681,97.5641,97.5601 ,97.554,97.5503,97.5467,97.5432,97.5397 ,97.5365,97.5332,97.5301,97.5271, 97.5241,97.5208,97.5187,97.5167,97.514, 97.5114,97.5105,97.5088,97.5068,97.5047 ,97.5035,97.5021,97.5007,97.4994, 97.4979,97.4963,97.4953,97.4942,97.4931 ,97.4923,97.4915,97.4908,97.4899,97.489 ,97.4883,97.4878,97.4873,97.4871, 97.4868,97.1652)
ORBIT_NUMBER = 7171
ORBITAL_ECCENTRICITY = 0.576
ORBITAL_INCLINATION = 86.79
ORBITAL_SEMIMAJOR_AXIS = 8779.16
PERIAPSIS_ALTITUDE = 329.17
PERIAPSIS_ARGUMENT_ANGLE = 180.23
PERIAPSIS_TIME = 2009-08-05T02:30:10.000Z
SPACECRAFT_ORIENTATION = (0.0,-1.0,0.0)
^MEX_ORIENTATION_DESC = "MEX_ORIENTATION_DESC.TXT"
SPACECRAFT_POINTING_MODE = ACROSSTRACK
^MEX_POINTING_DESC = "MEX_POINTING_DESC.TXT"
RIGHT_ASCENSION = -1e+32
DECLINATION = -1e+32
OFFSET_ANGLE = -0.25
SPACECRAFT_SOLAR_DISTANCE = 2.173e+08
TARGET_NAME = MARS
/* CAMERA DATA ELEMENTS */
DETECTOR_TEMPERATURE = 17.5549
FOCAL_PLANE_TEMPERATURE = 8.7872
INST_CMPRS_NAME = "DISCRETE COSINE TRANSFORMATION (DCT)"
INST_CMPRS_RATIO = 8.33536
INST_CMPRS_QUALITY = 0
INST_CMPRS_QUANTZ_TBL_ID = 0
INSTRUMENT_TEMPERATURE = 11.6418
LENS_TEMPERATURE = 9.195
MACROPIXEL_SIZE = 2
MISSING_FRAMES = 2
PIXEL_SUBSAMPLING_FLAG = N
SIGNAL_CHAIN_ID = 1
/* RADIOMETRIC DATA ELEMENTS */
BANDWIDTH = 180.0
CENTER_FILTER_WAVELENGTH = 677.0
RADIANCE_OFFSET = 1.66659
RADIANCE_SCALING_FACTOR = 0.00806063
REFLECTANCE_SCALING_FACTOR = 0.000198579
MEX:REFLECTANCE_OFFSET = 0.0410575
/* IMAGE OBJECT DEFINITIONS */
OBJECT = IMAGE
  INTERCHANGE_FORMAT = BINARY
  LINES = 30899
  LINE_SAMPLES = 3712
  SAMPLE_TYPE = UNSIGNED_INTEGER
  SAMPLE_BITS = 8
  BANDS = 1
  BAND_STORAGE_TYPE = BAND_SEQUENTIAL
  MAXIMUM = 255
  MEAN = 91.7605
  MINIMUM = 1
  STANDARD_DEVIATION = 24.0743
END_OBJECT = IMAGE
/* MAP OBJECT DEFINITIONS */
OBJECT = IMAGE_MAP_PROJECTION
  ^DATA_SET_MAP_PROJECTION_CATALOG= "DSMAP.CAT"
  A_AXIS_RADIUS = 3396.0
  B_AXIS_RADIUS = 3396.0
  C_AXIS_RADIUS = 3396.0
  CENTER_LATITUDE = 0.0
  CENTER_LONGITUDE = 97.0
  COORDINATE_SYSTEM_NAME = PLANETOGRAPHIC
  COORDINATE_SYSTEM_TYPE = "BODY-FIXED ROTATING"
  EASTERNMOST_LONGITUDE = 97.5968
  FIRST_STANDARD_PARALLEL = "N/A"
  LINE_FIRST_PIXEL = 1
  LINE_LAST_PIXEL = 30899
  LINE_PROJECTION_OFFSET = -20937.75
  MAP_PROJECTION_ROTATION = 0.0
  MAP_PROJECTION_TYPE = SINUSOIDAL
  MAP_RESOLUTION = 2370.85521546667
  MAP_SCALE = 0.025
  MAXIMUM_LATITUDE = -8.822570000000001
  MINIMUM_LATITUDE = -21.8527
  POSITIVE_LONGITUDE_DIRECTION = EAST
  REFERENCE_LATITUDE = "N/A"
  REFERENCE_LONGITUDE = "N/A"
  SAMPLE_FIRST_PIXEL = 1
  SAMPLE_LAST_PIXEL = 3712
  SAMPLE_PROJECTION_OFFSET = 2263.75
  SECOND_STANDARD_PARALLEL = "N/A"
  WESTERNMOST_LONGITUDE = 96.0587
END_OBJECT = IMAGE_MAP_PROJECTION
/* The JPEG2000 image data file associated with this label. */
OBJECT = COMPRESSED_FILE
  FILE_NAME = "H7171_0000_S13.JP2"
  RECORD_TYPE = UNDEFINED
  FILE_RECORDS = UNK
  ENCODING_TYPE = "JP2"
  INTERCHANGE_FORMAT = BINARY
  UNCOMPRESSED_FILE_NAME = "H7171_0000_S13.IMG"
  REQUIRED_STORAGE_BYTES = "114719360"
  ^DESCRIPTION = "JP2INFO.TXT"
END_OBJECT = COMPRESSED_FILE
END
