PDS_VERSION_ID = PDS3
/* FILE DATA ELEMENTS */
RECORD_TYPE = STREAM
/* POINTERS TO DATA OBJECTS */
^COMPRESSED_FILE = "H7174_0000_BL3.JP2"
/* IDENTIFICATION DATA ELEMENTS */
DATA_SET_ID = "MEX-M-HRSC-5-REFDR-MAPPROJECTED-V3.0"
DATA_SET_NAME = "MARS EXPRESS HRSC MAP PROJECTED REFDR V3.0"
DETECTOR_ID = MEX_HRSC_BLUE
EVENT_TYPE = "MARS-REGIONAL-MAPPING-Im-Fl"
INSTRUMENT_HOST_ID = MEX
INSTRUMENT_HOST_NAME = "MARS EXPRESS"
INSTRUMENT_ID = HRSC
INSTRUMENT_NAME = "HIGH RESOLUTION STEREO CAMERA"
MISSION_NAME = "MARS EXPRESS"
MISSION_PHASE_NAME = ME_Phase_18
PROCESSING_LEVEL_ID = 3
PRODUCT_CREATION_TIME = 2016-06-29T18:20:58.000Z
PRODUCT_ID = "H7174_0000_BL3.JP2"
RELEASE_ID = 0079
REVISION_ID = 0000
/* QUALITY DATA ELEMENTS */
DATA_QUALITY_ID = 1
DATA_QUALITY_DESC = "Data calculated based on original SPICE kernels"
/* TIME DATA ELEMENTS */
SPACECRAFT_CLOCK_START_COUNT = "1/0197594138.09054"
SPACECRAFT_CLOCK_STOP_COUNT = "1/0197594457.16239"
START_TIME = 2009-08-05T23:16:23.679Z
STOP_TIME = 2009-08-05T23:20:03.860Z
/* ORBITAL DATA ELEMENTS */
ASCENDING_NODE_LONGITUDE = 80.66
MAXIMUM_RESOLUTION = 66
FOOTPRINT_POINT_LATITUDE = (-18.9796,-18.9763,-18.9717,-19.0845, -19.3154,-19.5459,-19.8994,-20.1352, -20.3699,-20.6052,-20.9647,-21.2054, -21.4455,-21.6854,-21.9306,-22.1759, -22.422,-22.6662,-22.916,-23.2906, -23.5398,-23.9202,-24.1742,-24.428, -24.8152,-25.0738,-25.3321,-25.5956, -25.8587,-26.1216,-26.3886,-26.6563, -26.9235,-27.1955,-27.6033,-27.878, -28.1545,-28.5709,-28.8519,-29.1319, -29.4167,-29.8436,-30.2777,-30.5656, -30.8588,-31.3029,-31.5986,-31.8975, -32.086,-32.0876,-32.0904,-32.0902, -32.089,-32.0867,-32.0828,-31.7817, -31.4849,-31.0413,-30.7485,-30.4564, -30.1679,-29.7365,-29.4523,-29.1673, -28.7474,-28.4664,-28.1908,-27.9145, -27.6395,-27.3683,-26.9613,-26.6947, -26.4274,-26.0282,-25.634,-25.3708, -25.1114,-24.8529,-24.4661,-24.2125, -23.9574,-23.5762,-23.3285,-23.079, -22.8291,-22.4592,-22.2145,-21.9696, -21.6032,-21.3632,-21.123,-20.8825, -20.6435,-20.2911,-20.0555,-19.8196, -19.5836,-19.3532,-19.1223,-18.9796)
FOOTPRINT_POINT_LONGITUDE = (154.53,154.078,153.623,153.385,153.379 ,153.373,153.364,153.357,153.349, 153.342,153.333,153.326,153.319,153.312 ,153.305,153.298,153.294,153.286, 153.278,153.267,153.259,153.248,153.239 ,153.232,153.219,153.211,153.203, 153.194,153.185,153.177,153.168,153.159 ,153.15,153.14,153.126,153.116,153.107, 153.092,153.082,153.071,153.06,153.044, 153.028,153.013,153.001,152.99,152.973, 152.961,153.133,153.547,153.985,154.355 ,154.702,155.026,155.293,155.279, 155.265,155.246,155.233,155.221,155.209 ,155.192,155.181,155.17,155.154,155.145 ,155.135,155.125,155.116,155.107, 155.092,155.084,155.075,155.064,155.052 ,155.045,155.039,155.032,155.021, 155.014,155.009,155.0,154.993,154.987, 154.981,154.973,154.968,154.963,154.956 ,154.951,154.946,154.942,154.937,154.93 ,154.926,154.922,154.918,154.914, 154.911,154.53)
ORBIT_NUMBER = 7174
ORBITAL_ECCENTRICITY = 0.575
ORBITAL_INCLINATION = 86.79
ORBITAL_SEMIMAJOR_AXIS = 8771.82
PERIAPSIS_ALTITUDE = 330.24
PERIAPSIS_ARGUMENT_ANGLE = 179.75
PERIAPSIS_TIME = 2009-08-05T23:11:18.000Z
SPACECRAFT_ORIENTATION = (0.0,-1.0,0.0)
^MEX_ORIENTATION_DESC = "MEX_ORIENTATION_DESC.TXT"
SPACECRAFT_POINTING_MODE = ACROSSTRACK
^MEX_POINTING_DESC = "MEX_POINTING_DESC.TXT"
RIGHT_ASCENSION = -1e+32
DECLINATION = -1e+32
OFFSET_ANGLE = -0.4
SPACECRAFT_SOLAR_DISTANCE = 2.17453e+08
TARGET_NAME = MARS
/* CAMERA DATA ELEMENTS */
DETECTOR_TEMPERATURE = 17.9627
FOCAL_PLANE_TEMPERATURE = 7.9716
INST_CMPRS_NAME = "DISCRETE COSINE TRANSFORMATION (DCT)"
INST_CMPRS_RATIO = 6.6213
INST_CMPRS_QUALITY = 0
INST_CMPRS_QUANTZ_TBL_ID = 0
INSTRUMENT_TEMPERATURE = 11.4379
LENS_TEMPERATURE = 8.5833
MACROPIXEL_SIZE = 4
MISSING_FRAMES = 0
PIXEL_SUBSAMPLING_FLAG = N
SIGNAL_CHAIN_ID = 2
/* RADIOMETRIC DATA ELEMENTS */
BANDWIDTH = 76.0
CENTER_FILTER_WAVELENGTH = 444.0
RADIANCE_OFFSET = 0.313277
RADIANCE_SCALING_FACTOR = 0.00163194
REFLECTANCE_SCALING_FACTOR = 7.92854e-05
MEX:REFLECTANCE_OFFSET = 0.0152201
/* IMAGE OBJECT DEFINITIONS */
OBJECT = IMAGE
  INTERCHANGE_FORMAT = BINARY
  LINES = 15554
  LINE_SAMPLES = 2398
  SAMPLE_TYPE = UNSIGNED_INTEGER
  SAMPLE_BITS = 8
  BANDS = 1
  BAND_STORAGE_TYPE = BAND_SEQUENTIAL
  MAXIMUM = 255
  MEAN = 104.368
  MINIMUM = 1
  STANDARD_DEVIATION = 21.4189
END_OBJECT = IMAGE
/* MAP OBJECT DEFINITIONS */
OBJECT = IMAGE_MAP_PROJECTION
  ^DATA_SET_MAP_PROJECTION_CATALOG= "DSMAP.CAT"
  A_AXIS_RADIUS = 3396.0
  B_AXIS_RADIUS = 3396.0
  C_AXIS_RADIUS = 3396.0
  CENTER_LATITUDE = 0.0
  CENTER_LONGITUDE = 154.0
  COORDINATE_SYSTEM_NAME = PLANETOGRAPHIC
  COORDINATE_SYSTEM_TYPE = "BODY-FIXED ROTATING"
  EASTERNMOST_LONGITUDE = 155.293
  FIRST_STANDARD_PARALLEL = "N/A"
  LINE_FIRST_PIXEL = 1
  LINE_LAST_PIXEL = 15554
  LINE_PROJECTION_OFFSET = -22489.875
  MAP_PROJECTION_ROTATION = 0.0
  MAP_PROJECTION_TYPE = SINUSOIDAL
  MAP_RESOLUTION = 1185.42760773333
  MAP_SCALE = 0.05
  MAXIMUM_LATITUDE = -18.9717
  MINIMUM_LATITUDE = -32.0904
  POSITIVE_LONGITUDE_DIRECTION = EAST
  REFERENCE_LATITUDE = "N/A"
  REFERENCE_LONGITUDE = "N/A"
  SAMPLE_FIRST_PIXEL = 1
  SAMPLE_LAST_PIXEL = 2398
  SAMPLE_PROJECTION_OFFSET = 1095.875
  SECOND_STANDARD_PARALLEL = "N/A"
  WESTERNMOST_LONGITUDE = 152.961
END_OBJECT = IMAGE_MAP_PROJECTION
/* The JPEG2000 image data file associated with this label. */
OBJECT = COMPRESSED_FILE
  FILE_NAME = "H7174_0000_BL3.JP2"
  RECORD_TYPE = UNDEFINED
  FILE_RECORDS = UNK
  ENCODING_TYPE = "JP2"
  INTERCHANGE_FORMAT = BINARY
  UNCOMPRESSED_FILE_NAME = "H7174_0000_BL3.IMG"
  REQUIRED_STORAGE_BYTES = "37317676"
  ^DESCRIPTION = "JP2INFO.TXT"
END_OBJECT = COMPRESSED_FILE
END
