PDS_VERSION_ID = PDS3
/* FILE DATA ELEMENTS */
RECORD_TYPE = STREAM
/* POINTERS TO DATA OBJECTS */
^COMPRESSED_FILE = "H7174_0000_ND3.JP2"
/* IDENTIFICATION DATA ELEMENTS */
DATA_SET_ID = "MEX-M-HRSC-5-REFDR-MAPPROJECTED-V3.0"
DATA_SET_NAME = "MARS EXPRESS HRSC MAP PROJECTED REFDR V3.0"
DETECTOR_ID = MEX_HRSC_NADIR
EVENT_TYPE = "MARS-REGIONAL-MAPPING-Im-Fl"
INSTRUMENT_HOST_ID = MEX
INSTRUMENT_HOST_NAME = "MARS EXPRESS"
INSTRUMENT_ID = HRSC
INSTRUMENT_NAME = "HIGH RESOLUTION STEREO CAMERA"
MISSION_NAME = "MARS EXPRESS"
MISSION_PHASE_NAME = ME_Phase_18
PROCESSING_LEVEL_ID = 3
PRODUCT_CREATION_TIME = 2016-06-29T18:20:58.000Z
PRODUCT_ID = "H7174_0000_ND3.JP2"
RELEASE_ID = 0079
REVISION_ID = 0000
/* QUALITY DATA ELEMENTS */
DATA_QUALITY_ID = 1
DATA_QUALITY_DESC = "Data calculated based on original SPICE kernels"
/* TIME DATA ELEMENTS */
SPACECRAFT_CLOCK_START_COUNT = "1/0197594138.09054"
SPACECRAFT_CLOCK_STOP_COUNT = "1/0197594457.16239"
START_TIME = 2009-08-05T23:16:17.200Z
STOP_TIME = 2009-08-05T23:19:54.202Z
/* ORBITAL DATA ELEMENTS */
ASCENDING_NODE_LONGITUDE = 80.66
MAXIMUM_RESOLUTION = 16.4
FOOTPRINT_POINT_LATITUDE = (-18.9791,-18.9771,-18.9731,-19.2064, -19.4395,-19.9051,-20.141,-20.3792, -20.6172,-20.8549,-21.0923,-21.3351, -21.578,-21.8207,-22.0631,-22.3094, -22.5572,-22.8047,-23.0518,-23.303, -23.5555,-23.8077,-24.0595,-24.3168, -24.7023,-24.9588,-25.2208,-25.4826, -25.7439,-26.0091,-26.2755,-26.5415, -26.8105,-27.0816,-27.3522,-27.6262, -27.9017,-28.1767,-28.4564,-28.876, -29.3016,-29.5857,-30.0176,-30.3061, -30.7446,-31.0376,-31.3351,-31.6322, -31.9328,-32.0908,-32.092,-32.0907, -32.0867,-31.9333,-31.6331,-31.3363, -31.0392,-30.7468,-30.3087,-30.0206, -29.5892,-29.3055,-28.8803,-28.4611, -28.1817,-27.907,-27.6317,-27.3579, -27.0876,-26.8169,-26.5481,-26.2824, -26.0161,-25.7511,-25.49,-25.2285, -24.9665,-24.7102,-24.4534,-24.1963, -23.8159,-23.564,-23.3117,-23.0606, -22.8135,-22.5662,-22.3185,-22.0724, -21.8301,-21.5875,-21.3447,-21.1019, -20.8646,-20.6271,-20.3892,-20.1511, -19.9151,-19.4498,-18.9834,-18.9791)
FOOTPRINT_POINT_LONGITUDE = (154.443,153.966,153.385,153.379, 153.372,153.361,153.354,153.346,153.339 ,153.333,153.327,153.32,153.313,153.306 ,153.299,153.294,153.288,153.28,153.272 ,153.265,153.257,153.25,153.241,153.234 ,153.222,153.213,153.205,153.197, 153.188,153.18,153.171,153.161,153.153, 153.144,153.135,153.125,153.116,153.106 ,153.096,153.081,153.065,153.055, 153.039,153.029,153.006,153.0,152.989, 152.974,152.962,153.374,153.97,154.448, 155.038,155.269,155.255,155.242,155.23, 155.218,155.2,155.189,155.172,155.161, 155.146,155.131,155.121,155.112,155.103 ,155.094,155.085,155.076,155.068,155.06 ,155.053,155.045,155.038,155.031, 155.025,155.017,155.011,155.005,154.997 ,154.99,154.984,154.978,154.972,154.967 ,154.962,154.957,154.952,154.948, 154.943,154.938,154.934,154.929,154.925 ,154.921,154.917,154.909,154.902, 154.443)
ORBIT_NUMBER = 7174
ORBITAL_ECCENTRICITY = 0.575
ORBITAL_INCLINATION = 86.79
ORBITAL_SEMIMAJOR_AXIS = 8771.82
PERIAPSIS_ALTITUDE = 330.24
PERIAPSIS_ARGUMENT_ANGLE = 179.75
PERIAPSIS_TIME = 2009-08-05T23:11:18.000Z
SPACECRAFT_ORIENTATION = (0.0,-1.0,0.0)
^MEX_ORIENTATION_DESC = "MEX_ORIENTATION_DESC.TXT"
SPACECRAFT_POINTING_MODE = ACROSSTRACK
^MEX_POINTING_DESC = "MEX_POINTING_DESC.TXT"
RIGHT_ASCENSION = -1e+32
DECLINATION = -1e+32
OFFSET_ANGLE = -0.4
SPACECRAFT_SOLAR_DISTANCE = 2.17453e+08
TARGET_NAME = MARS
/* CAMERA DATA ELEMENTS */
DETECTOR_TEMPERATURE = 17.9627
FOCAL_PLANE_TEMPERATURE = 7.9716
INST_CMPRS_NAME = "DISCRETE COSINE TRANSFORMATION (DCT)"
INST_CMPRS_RATIO = 6.22743
INST_CMPRS_QUALITY = 0
INST_CMPRS_QUANTZ_TBL_ID = 0
INSTRUMENT_TEMPERATURE = 11.4379
LENS_TEMPERATURE = 8.5833
MACROPIXEL_SIZE = 1
MISSING_FRAMES = 0
PIXEL_SUBSAMPLING_FLAG = N
SIGNAL_CHAIN_ID = 0
/* RADIOMETRIC DATA ELEMENTS */
BANDWIDTH = 177.0
CENTER_FILTER_WAVELENGTH = 677.5
RADIANCE_OFFSET = 1.43081
RADIANCE_SCALING_FACTOR = 0.0122908
REFLECTANCE_SCALING_FACTOR = 0.000308744
MEX:REFLECTANCE_OFFSET = 0.0359418
/* IMAGE OBJECT DEFINITIONS */
OBJECT = IMAGE
  INTERCHANGE_FORMAT = BINARY
  LINES = 62215
  LINE_SAMPLES = 9592
  SAMPLE_TYPE = UNSIGNED_INTEGER
  SAMPLE_BITS = 8
  BANDS = 1
  BAND_STORAGE_TYPE = BAND_SEQUENTIAL
  MAXIMUM = 255
  MEAN = 75.4421
  MINIMUM = 1
  STANDARD_DEVIATION = 21.0639
END_OBJECT = IMAGE
/* MAP OBJECT DEFINITIONS */
OBJECT = IMAGE_MAP_PROJECTION
  ^DATA_SET_MAP_PROJECTION_CATALOG= "DSMAP.CAT"
  A_AXIS_RADIUS = 3396.0
  B_AXIS_RADIUS = 3396.0
  C_AXIS_RADIUS = 3396.0
  CENTER_LATITUDE = 0.0
  CENTER_LONGITUDE = 154.0
  COORDINATE_SYSTEM_NAME = PLANETOGRAPHIC
  COORDINATE_SYSTEM_TYPE = "BODY-FIXED ROTATING"
  EASTERNMOST_LONGITUDE = 155.269
  FIRST_STANDARD_PARALLEL = "N/A"
  LINE_FIRST_PIXEL = 1
  LINE_LAST_PIXEL = 62215
  LINE_PROJECTION_OFFSET = -89958.0
  MAP_PROJECTION_ROTATION = 0.0
  MAP_PROJECTION_TYPE = SINUSOIDAL
  MAP_RESOLUTION = 4741.71043093333
  MAP_SCALE = 0.0125
  MAXIMUM_LATITUDE = -18.9731
  MINIMUM_LATITUDE = -32.092
  POSITIVE_LONGITUDE_DIRECTION = EAST
  REFERENCE_LATITUDE = "N/A"
  REFERENCE_LONGITUDE = "N/A"
  SAMPLE_FIRST_PIXEL = 1
  SAMPLE_LAST_PIXEL = 9592
  SAMPLE_PROJECTION_OFFSET = 4385.0
  SECOND_STANDARD_PARALLEL = "N/A"
  WESTERNMOST_LONGITUDE = 152.962
END_OBJECT = IMAGE_MAP_PROJECTION
/* The JPEG2000 image data file associated with this label. */
OBJECT = COMPRESSED_FILE
  FILE_NAME = "H7174_0000_ND3.JP2"
  RECORD_TYPE = UNDEFINED
  FILE_RECORDS = UNK
  ENCODING_TYPE = "JP2"
  INTERCHANGE_FORMAT = BINARY
  UNCOMPRESSED_FILE_NAME = "H7174_0000_ND3.IMG"
  REQUIRED_STORAGE_BYTES = "596795056"
  ^DESCRIPTION = "JP2INFO.TXT"
END_OBJECT = COMPRESSED_FILE
END
