PDS_VERSION_ID = PDS3
/* FILE DATA ELEMENTS */
RECORD_TYPE = STREAM
/* POINTERS TO DATA OBJECTS */
^COMPRESSED_FILE = "H7174_0000_RE3.JP2"
/* IDENTIFICATION DATA ELEMENTS */
DATA_SET_ID = "MEX-M-HRSC-5-REFDR-MAPPROJECTED-V3.0"
DATA_SET_NAME = "MARS EXPRESS HRSC MAP PROJECTED REFDR V3.0"
DETECTOR_ID = MEX_HRSC_RED
EVENT_TYPE = "MARS-REGIONAL-MAPPING-Im-Fl"
INSTRUMENT_HOST_ID = MEX
INSTRUMENT_HOST_NAME = "MARS EXPRESS"
INSTRUMENT_ID = HRSC
INSTRUMENT_NAME = "HIGH RESOLUTION STEREO CAMERA"
MISSION_NAME = "MARS EXPRESS"
MISSION_PHASE_NAME = ME_Phase_18
PROCESSING_LEVEL_ID = 3
PRODUCT_CREATION_TIME = 2016-06-29T18:20:58.000Z
PRODUCT_ID = "H7174_0000_RE3.JP2"
RELEASE_ID = 0079
REVISION_ID = 0000
/* QUALITY DATA ELEMENTS */
DATA_QUALITY_ID = 1
DATA_QUALITY_DESC = "Data calculated based on original SPICE kernels"
/* TIME DATA ELEMENTS */
SPACECRAFT_CLOCK_START_COUNT = "1/0197594138.09054"
SPACECRAFT_CLOCK_STOP_COUNT = "1/0197594457.16239"
START_TIME = 2009-08-05T23:16:50.574Z
STOP_TIME = 2009-08-05T23:20:45.650Z
/* ORBITAL DATA ELEMENTS */
ASCENDING_NODE_LONGITUDE = 80.66
MAXIMUM_RESOLUTION = 71.6
FOOTPRINT_POINT_LATITUDE = (-18.9992,-18.99,-18.969,-19.4354, -19.7856,-20.0189,-20.2533,-20.6085, -20.8456,-21.2068,-21.4481,-21.6888, -21.9316,-22.1785,-22.4277,-22.6712, -22.9201,-23.1695,-23.4181,-23.6703, -23.9238,-24.1761,-24.4314,-24.6886, -24.9449,-25.2047,-25.4659,-25.7262, -25.9908,-26.3871,-26.7892,-27.0573, -27.4645,-27.736,-28.0115,-28.4249, -28.7048,-28.9833,-29.2657,-29.548, -29.8339,-30.1198,-30.4105,-30.6907, -30.9882,-31.2874,-31.5753,-31.8711, -32.0931,-32.0957,-32.1081,-32.1094, -32.1075,-32.1026,-31.8043,-31.5079, -31.0674,-30.7742,-30.4856,-30.1961, -29.9107,-29.6249,-29.3432,-29.0604, -28.7819,-28.4999,-28.2282,-27.9527, -27.5432,-27.2749,-26.8742,-26.6073, -26.2088,-25.9425,-25.681,-25.4209, -25.1586,-24.8969,-24.6441,-24.3867, -24.0008,-23.7446,-23.493,-23.2501, -23.0012,-22.6284,-22.3833,-22.0161, -21.7697,-21.5276,-21.2862,-21.0454, -20.8079,-20.5742,-20.3374,-19.9817, -19.7468,-19.2813,-19.0471,-18.9992)
FOOTPRINT_POINT_LONGITUDE = (154.524,154.052,153.346,153.332, 153.322,153.315,153.306,153.295,153.288 ,153.277,153.269,153.261,153.254, 153.246,153.24,153.232,153.223,153.215, 153.206,153.197,153.189,153.18,153.17, 153.161,153.152,153.142,153.133,153.123 ,153.113,153.098,153.082,153.072, 153.055,153.045,153.033,153.016,153.005 ,152.993,152.981,152.968,152.956, 152.943,152.931,152.913,152.902,152.892 ,152.873,152.859,152.971,153.488, 154.099,154.497,155.032,155.366,155.351 ,155.336,155.314,155.3,155.286,155.273, 155.26,155.248,155.236,155.224,155.212, 155.201,155.19,155.179,155.164,155.153, 155.138,155.128,155.115,155.106,155.097 ,155.089,155.081,155.074,155.066, 155.058,155.049,155.042,155.035,155.027 ,155.021,155.011,155.005,154.996, 154.991,154.986,154.981,154.975,154.97, 154.964,154.959,154.952,154.948,154.939 ,154.935,154.524)
ORBIT_NUMBER = 7174
ORBITAL_ECCENTRICITY = 0.575
ORBITAL_INCLINATION = 86.79
ORBITAL_SEMIMAJOR_AXIS = 8771.82
PERIAPSIS_ALTITUDE = 330.24
PERIAPSIS_ARGUMENT_ANGLE = 179.75
PERIAPSIS_TIME = 2009-08-05T23:11:18.000Z
SPACECRAFT_ORIENTATION = (0.0,-1.0,0.0)
^MEX_ORIENTATION_DESC = "MEX_ORIENTATION_DESC.TXT"
SPACECRAFT_POINTING_MODE = ACROSSTRACK
^MEX_POINTING_DESC = "MEX_POINTING_DESC.TXT"
RIGHT_ASCENSION = -1e+32
DECLINATION = -1e+32
OFFSET_ANGLE = -0.4
SPACECRAFT_SOLAR_DISTANCE = 2.17453e+08
TARGET_NAME = MARS
/* CAMERA DATA ELEMENTS */
DETECTOR_TEMPERATURE = 18.5744
FOCAL_PLANE_TEMPERATURE = 7.9716
INST_CMPRS_NAME = "DISCRETE COSINE TRANSFORMATION (DCT)"
INST_CMPRS_RATIO = 12.3633
INST_CMPRS_QUALITY = 0
INST_CMPRS_QUANTZ_TBL_ID = 0
INSTRUMENT_TEMPERATURE = 11.4379
LENS_TEMPERATURE = 8.5833
MACROPIXEL_SIZE = 4
MISSING_FRAMES = 0
PIXEL_SUBSAMPLING_FLAG = N
SIGNAL_CHAIN_ID = 2
/* RADIOMETRIC DATA ELEMENTS */
BANDWIDTH = 48.0
CENTER_FILTER_WAVELENGTH = 748.0
RADIANCE_OFFSET = 0.411206
RADIANCE_SCALING_FACTOR = 0.00348766
REFLECTANCE_SCALING_FACTOR = 0.000376351
MEX:REFLECTANCE_OFFSET = 0.044373
/* IMAGE OBJECT DEFINITIONS */
OBJECT = IMAGE
  INTERCHANGE_FORMAT = BINARY
  LINES = 15554
  LINE_SAMPLES = 2398
  SAMPLE_TYPE = UNSIGNED_INTEGER
  SAMPLE_BITS = 8
  BANDS = 1
  BAND_STORAGE_TYPE = BAND_SEQUENTIAL
  MAXIMUM = 255
  MEAN = 70.4913
  MINIMUM = 1
  STANDARD_DEVIATION = 22.6238
END_OBJECT = IMAGE
/* MAP OBJECT DEFINITIONS */
OBJECT = IMAGE_MAP_PROJECTION
  ^DATA_SET_MAP_PROJECTION_CATALOG= "DSMAP.CAT"
  A_AXIS_RADIUS = 3396.0
  B_AXIS_RADIUS = 3396.0
  C_AXIS_RADIUS = 3396.0
  CENTER_LATITUDE = 0.0
  CENTER_LONGITUDE = 154.0
  COORDINATE_SYSTEM_NAME = PLANETOGRAPHIC
  COORDINATE_SYSTEM_TYPE = "BODY-FIXED ROTATING"
  EASTERNMOST_LONGITUDE = 155.366
  FIRST_STANDARD_PARALLEL = "N/A"
  LINE_FIRST_PIXEL = 1
  LINE_LAST_PIXEL = 15554
  LINE_PROJECTION_OFFSET = -22489.875
  MAP_PROJECTION_ROTATION = 0.0
  MAP_PROJECTION_TYPE = SINUSOIDAL
  MAP_RESOLUTION = 1185.42760773333
  MAP_SCALE = 0.05
  MAXIMUM_LATITUDE = -18.969
  MINIMUM_LATITUDE = -32.1094
  POSITIVE_LONGITUDE_DIRECTION = EAST
  REFERENCE_LATITUDE = "N/A"
  REFERENCE_LONGITUDE = "N/A"
  SAMPLE_FIRST_PIXEL = 1
  SAMPLE_LAST_PIXEL = 2398
  SAMPLE_PROJECTION_OFFSET = 1095.875
  SECOND_STANDARD_PARALLEL = "N/A"
  WESTERNMOST_LONGITUDE = 152.859
END_OBJECT = IMAGE_MAP_PROJECTION
/* The JPEG2000 image data file associated with this label. */
OBJECT = COMPRESSED_FILE
  FILE_NAME = "H7174_0000_RE3.JP2"
  RECORD_TYPE = UNDEFINED
  FILE_RECORDS = UNK
  ENCODING_TYPE = "JP2"
  INTERCHANGE_FORMAT = BINARY
  UNCOMPRESSED_FILE_NAME = "H7174_0000_RE3.IMG"
  REQUIRED_STORAGE_BYTES = "37317676"
  ^DESCRIPTION = "JP2INFO.TXT"
END_OBJECT = COMPRESSED_FILE
END
