PDS_VERSION_ID = PDS3
/* FILE DATA ELEMENTS */
RECORD_TYPE = STREAM
/* POINTERS TO DATA OBJECTS */
^COMPRESSED_FILE = "H7178_0000_GR3.JP2"
/* IDENTIFICATION DATA ELEMENTS */
DATA_SET_ID = "MEX-M-HRSC-5-REFDR-MAPPROJECTED-V3.0"
DATA_SET_NAME = "MARS EXPRESS HRSC MAP PROJECTED REFDR V3.0"
DETECTOR_ID = MEX_HRSC_GREEN
EVENT_TYPE = "MARS-REGIONAL-MAPPING-Vo"
INSTRUMENT_HOST_ID = MEX
INSTRUMENT_HOST_NAME = "MARS EXPRESS"
INSTRUMENT_ID = HRSC
INSTRUMENT_NAME = "HIGH RESOLUTION STEREO CAMERA"
MISSION_NAME = "MARS EXPRESS"
MISSION_PHASE_NAME = ME_Phase_18
PROCESSING_LEVEL_ID = 3
PRODUCT_CREATION_TIME = 2016-06-29T18:20:58.000Z
PRODUCT_ID = "H7178_0000_GR3.JP2"
RELEASE_ID = 0079
REVISION_ID = 0000
/* QUALITY DATA ELEMENTS */
DATA_QUALITY_ID = 1
DATA_QUALITY_DESC = "Data calculated based on original SPICE kernels"
/* TIME DATA ELEMENTS */
SPACECRAFT_CLOCK_START_COUNT = "1/0197693452.08231"
SPACECRAFT_CLOCK_STOP_COUNT = "1/0197693856.35214"
START_TIME = 2009-08-07T02:51:26.169Z
STOP_TIME = 2009-08-07T02:56:05.610Z
/* ORBITAL DATA ELEMENTS */
ASCENDING_NODE_LONGITUDE = 80.59
MAXIMUM_RESOLUTION = 68
FOOTPRINT_POINT_LATITUDE = (-20.5716,-20.5713,-20.5697,-20.5692, -20.8485,-21.1326,-21.4181,-21.846, -22.2806,-22.5718,-22.8626,-23.1577, -23.4548,-23.7514,-24.2028,-24.5054, -24.962,-25.2704,-25.5784,-25.9003, -26.3709,-26.8479,-27.1673,-27.6525, -27.9769,-28.4709,-28.8008,-29.1361, -29.4713,-29.8109,-30.1515,-30.496, -30.8419,-31.1917,-31.5434,-31.9001, -32.4364,-32.798,-33.164,-33.7168, -34.0886,-34.4652,-34.8438,-35.2254, -35.6113,-36.0012,-36.5905,-36.9877, -37.2819,-37.2801,-37.2741,-37.2697, -37.2648,-37.0565,-36.6595,-36.2651, -35.8744,-35.4883,-35.1044,-34.7233, -34.3471,-33.7875,-33.4176,-33.0516, -32.5077,-32.148,-31.7922,-31.2632, -30.9126,-30.5674,-30.2222,-29.8823, -29.5417,-29.2071,-28.7064,-28.3769, -28.0471,-27.7232,-27.2373,-26.9188, -26.4408,-26.1277,-25.8141,-25.3405, -25.0323,-24.7257,-24.4237,-24.1214, -23.8203,-23.5239,-23.2272,-22.9308, -22.6403,-22.3494,-21.9136,-21.6289, -21.2009,-20.9154,-20.6366,-20.5716)
FOOTPRINT_POINT_LONGITUDE = (111.655,111.362,110.863,110.476, 110.469,110.462,110.455,110.444,110.433 ,110.426,110.419,110.411,110.404, 110.396,110.384,110.376,110.363,110.355 ,110.346,110.337,110.323,110.309,110.3, 110.285,110.275,110.26,110.25,110.24, 110.229,110.219,110.208,110.197,110.185 ,110.174,110.161,110.147,110.131, 110.118,110.104,110.085,110.071,110.057 ,110.043,110.029,110.015,109.997, 109.975,109.959,110.26,110.995,111.73, 112.071,112.386,112.748,112.721,112.693 ,112.667,112.642,112.618,112.594, 112.571,112.539,112.518,112.498,112.469 ,112.45,112.432,112.406,112.39,112.374, 112.358,112.343,112.329,112.315,112.294 ,112.282,112.269,112.257,112.239, 112.228,112.212,112.201,112.191,112.176 ,112.166,112.157,112.148,112.139, 112.131,112.123,112.115,112.108,112.1, 112.093,112.083,112.076,112.067,112.06, 112.055,111.655)
ORBIT_NUMBER = 7178
ORBITAL_ECCENTRICITY = 0.576
ORBITAL_INCLINATION = 86.79
ORBITAL_SEMIMAJOR_AXIS = 8778.3
PERIAPSIS_ALTITUDE = 329.96
PERIAPSIS_ARGUMENT_ANGLE = 179.01
PERIAPSIS_TIME = 2009-08-07T02:45:56.000Z
SPACECRAFT_ORIENTATION = (0.0,-1.0,0.0)
^MEX_ORIENTATION_DESC = "MEX_ORIENTATION_DESC.TXT"
SPACECRAFT_POINTING_MODE = NADIR
^MEX_POINTING_DESC = "MEX_POINTING_DESC.TXT"
RIGHT_ASCENSION = -1e+32
DECLINATION = -1e+32
OFFSET_ANGLE = -1e+32
SPACECRAFT_SOLAR_DISTANCE = 2.17658e+08
TARGET_NAME = MARS
/* CAMERA DATA ELEMENTS */
DETECTOR_TEMPERATURE = 18.3705
FOCAL_PLANE_TEMPERATURE = 8.3794
INST_CMPRS_NAME = "DISCRETE COSINE TRANSFORMATION (DCT)"
INST_CMPRS_RATIO = 7.52857
INST_CMPRS_QUALITY = 0
INST_CMPRS_QUANTZ_TBL_ID = 0
INSTRUMENT_TEMPERATURE = 11.0301
LENS_TEMPERATURE = 8.5833
MACROPIXEL_SIZE = 4
MISSING_FRAMES = 1
PIXEL_SUBSAMPLING_FLAG = N
SIGNAL_CHAIN_ID = 2
/* RADIOMETRIC DATA ELEMENTS */
BANDWIDTH = 88.0
CENTER_FILTER_WAVELENGTH = 538.0
RADIANCE_OFFSET = 0.736622
RADIANCE_SCALING_FACTOR = 0.0041065
REFLECTANCE_SCALING_FACTOR = 0.000167499
MEX:REFLECTANCE_OFFSET = 0.0300458
/* IMAGE OBJECT DEFINITIONS */
OBJECT = IMAGE
  INTERCHANGE_FORMAT = BINARY
  LINES = 19803
  LINE_SAMPLES = 2766
  SAMPLE_TYPE = UNSIGNED_INTEGER
  SAMPLE_BITS = 8
  BANDS = 1
  BAND_STORAGE_TYPE = BAND_SEQUENTIAL
  MAXIMUM = 255
  MEAN = 97.9253
  MINIMUM = 1
  STANDARD_DEVIATION = 25.2235
END_OBJECT = IMAGE
/* MAP OBJECT DEFINITIONS */
OBJECT = IMAGE_MAP_PROJECTION
  ^DATA_SET_MAP_PROJECTION_CATALOG= "DSMAP.CAT"
  A_AXIS_RADIUS = 3396.0
  B_AXIS_RADIUS = 3396.0
  C_AXIS_RADIUS = 3396.0
  CENTER_LATITUDE = 0.0
  CENTER_LONGITUDE = 111.0
  COORDINATE_SYSTEM_NAME = PLANETOGRAPHIC
  COORDINATE_SYSTEM_TYPE = "BODY-FIXED ROTATING"
  EASTERNMOST_LONGITUDE = 112.748
  FIRST_STANDARD_PARALLEL = "N/A"
  LINE_FIRST_PIXEL = 1
  LINE_LAST_PIXEL = 19803
  LINE_PROJECTION_OFFSET = -24385.875
  MAP_PROJECTION_ROTATION = 0.0
  MAP_PROJECTION_TYPE = SINUSOIDAL
  MAP_RESOLUTION = 1185.42760773333
  MAP_SCALE = 0.05
  MAXIMUM_LATITUDE = -20.5692
  MINIMUM_LATITUDE = -37.2819
  POSITIVE_LONGITUDE_DIRECTION = EAST
  REFERENCE_LATITUDE = "N/A"
  REFERENCE_LONGITUDE = "N/A"
  SAMPLE_FIRST_PIXEL = 1
  SAMPLE_LAST_PIXEL = 2766
  SAMPLE_PROJECTION_OFFSET = 1056.125
  SECOND_STANDARD_PARALLEL = "N/A"
  WESTERNMOST_LONGITUDE = 109.959
END_OBJECT = IMAGE_MAP_PROJECTION
/* The JPEG2000 image data file associated with this label. */
OBJECT = COMPRESSED_FILE
  FILE_NAME = "H7178_0000_GR3.JP2"
  RECORD_TYPE = UNDEFINED
  FILE_RECORDS = UNK
  ENCODING_TYPE = "JP2"
  INTERCHANGE_FORMAT = BINARY
  UNCOMPRESSED_FILE_NAME = "H7178_0000_GR3.IMG"
  REQUIRED_STORAGE_BYTES = "54797226"
  ^DESCRIPTION = "JP2INFO.TXT"
END_OBJECT = COMPRESSED_FILE
END
