PDS_VERSION_ID = PDS3
/* FILE DATA ELEMENTS */
RECORD_TYPE = STREAM
/* POINTERS TO DATA OBJECTS */
^COMPRESSED_FILE = "H7182_0000_P13.JP2"
/* IDENTIFICATION DATA ELEMENTS */
DATA_SET_ID = "MEX-M-HRSC-5-REFDR-MAPPROJECTED-V3.0"
DATA_SET_NAME = "MARS EXPRESS HRSC MAP PROJECTED REFDR V3.0"
DETECTOR_ID = MEX_HRSC_P1
EVENT_TYPE = "MARS-REGIONAL-MAPPING-Im-Fl"
INSTRUMENT_HOST_ID = MEX
INSTRUMENT_HOST_NAME = "MARS EXPRESS"
INSTRUMENT_ID = HRSC
INSTRUMENT_NAME = "HIGH RESOLUTION STEREO CAMERA"
MISSION_NAME = "MARS EXPRESS"
MISSION_PHASE_NAME = ME_Phase_18
PROCESSING_LEVEL_ID = 3
PRODUCT_CREATION_TIME = 2016-06-29T18:20:58.000Z
PRODUCT_ID = "H7182_0000_P13.JP2"
RELEASE_ID = 0079
REVISION_ID = 0000
/* QUALITY DATA ELEMENTS */
DATA_QUALITY_ID = 1
DATA_QUALITY_DESC = "Data calculated based on original SPICE kernels"
/* TIME DATA ELEMENTS */
SPACECRAFT_CLOCK_START_COUNT = "1/0197792518.09119"
SPACECRAFT_CLOCK_STOP_COUNT = "1/0197792825.30146"
START_TIME = 2009-08-08T06:22:11.024Z
STOP_TIME = 2009-08-08T06:25:56.011Z
/* ORBITAL DATA ELEMENTS */
ASCENDING_NODE_LONGITUDE = 80.51
MAXIMUM_RESOLUTION = 55
FOOTPRINT_POINT_LATITUDE = (-5.55709,-5.55507,-5.5531,-5.5438, -5.81072,-6.07808,-6.34957,-6.62091, -6.89243,-7.29925,-7.84142,-8.11273, -8.38366,-8.65486,-8.92609,-9.19999, -9.47064,-9.74201,-10.013,-10.4188, -10.6893,-11.0959,-11.5016,-11.7721, -12.0422,-12.3119,-12.5839,-12.8545, -13.1222,-13.4234,-13.7494,-14.0732, -14.5526,-14.8746,-15.1948,-15.5161, -15.8385,-16.1598,-16.6395,-16.9602, -17.2804,-17.6009,-17.9215,-18.2413, -18.5611,-18.8797,-19.2017,-19.5275, -19.8544,-20.2466,-20.247,-20.2468, -20.2492,-20.2515,-20.0873,-19.7593, -19.2688,-18.9511,-18.6324,-18.3079, -17.8289,-17.5093,-17.187,-16.7071, -16.3869,-16.0717,-15.7464,-15.4257, -15.1047,-14.7821,-14.2993,-13.9771, -13.6555,-13.1825,-12.9117,-12.6415, -12.3703,-12.1006,-11.8312,-11.5609, -11.2899,-11.0187,-10.6128,-10.3419, -9.93535,-9.66444,-9.39313,-8.9865, -8.71711,-8.44563,-8.1735,-7.76766, -7.49659,-7.22509,-6.81785,-6.54632, -6.13924,-5.86572,-5.5989,-5.55709)
FOOTPRINT_POINT_LONGITUDE = (68.3384,68.0518,67.7434,67.4026, 67.3995,67.398,67.3945,67.391,67.3874, 67.382,67.3748,67.3709,67.3672,67.3633, 67.3593,67.354,67.3501,67.3458,67.3416, 67.3355,67.3313,67.3244,67.3179,67.3133 ,67.3089,67.3045,67.299,67.294,67.2904, 67.2855,67.2776,67.2708,67.2632,67.2568 ,67.2512,67.2447,67.2376,67.2309, 67.2216,67.2147,67.2079,67.2008,67.1933 ,67.1862,67.1787,67.1717,67.1635, 67.1566,67.149,67.2986,67.5607,67.8804, 68.3311,68.5499,68.6973,68.6904,68.6815 ,68.6778,68.6726,68.6647,68.6573, 68.6526,68.6469,68.6405,68.6364,68.635, 68.629,68.6254,68.622,68.618,68.6129, 68.6097,68.6069,68.6031,68.6006,68.5985 ,68.5961,68.5945,68.5932,68.5916, 68.5898,68.5881,68.586,68.5847,68.5828, 68.5818,68.5806,68.5793,68.5793,68.5785 ,68.5774,68.5771,68.5767,68.5763, 68.5757,68.5755,68.5753,68.5743,68.5753 ,68.3384)
ORBIT_NUMBER = 7182
ORBITAL_ECCENTRICITY = 0.576
ORBITAL_INCLINATION = 86.81
ORBITAL_SEMIMAJOR_AXIS = 8779.23
PERIAPSIS_ALTITUDE = 330.08
PERIAPSIS_ARGUMENT_ANGLE = 178.33
PERIAPSIS_TIME = 2009-08-08T06:20:39.000Z
SPACECRAFT_ORIENTATION = (0.0,-1.0,0.0)
^MEX_ORIENTATION_DESC = "MEX_ORIENTATION_DESC.TXT"
SPACECRAFT_POINTING_MODE = NADIR
^MEX_POINTING_DESC = "MEX_POINTING_DESC.TXT"
RIGHT_ASCENSION = -1e+32
DECLINATION = -1e+32
OFFSET_ANGLE = -1e+32
SPACECRAFT_SOLAR_DISTANCE = 2.17863e+08
TARGET_NAME = MARS
/* CAMERA DATA ELEMENTS */
DETECTOR_TEMPERATURE = 17.7588
FOCAL_PLANE_TEMPERATURE = 8.3794
INST_CMPRS_NAME = "DISCRETE COSINE TRANSFORMATION (DCT)"
INST_CMPRS_RATIO = 14.7378
INST_CMPRS_QUALITY = 0
INST_CMPRS_QUANTZ_TBL_ID = 0
INSTRUMENT_TEMPERATURE = 9.6028
LENS_TEMPERATURE = 8.5833
MACROPIXEL_SIZE = 4
MISSING_FRAMES = 0
PIXEL_SUBSAMPLING_FLAG = N
SIGNAL_CHAIN_ID = 3
/* RADIOMETRIC DATA ELEMENTS */
BANDWIDTH = 174.0
CENTER_FILTER_WAVELENGTH = 675.0
RADIANCE_OFFSET = 1.56296
RADIANCE_SCALING_FACTOR = 0.00851285
REFLECTANCE_SCALING_FACTOR = 0.000217335
MEX:REFLECTANCE_OFFSET = 0.0399028
/* IMAGE OBJECT DEFINITIONS */
OBJECT = IMAGE
  INTERCHANGE_FORMAT = BINARY
  LINES = 17415
  LINE_SAMPLES = 1874
  SAMPLE_TYPE = UNSIGNED_INTEGER
  SAMPLE_BITS = 8
  BANDS = 1
  BAND_STORAGE_TYPE = BAND_SEQUENTIAL
  MAXIMUM = 255
  MEAN = 95.6517
  MINIMUM = 1
  STANDARD_DEVIATION = 23.605
END_OBJECT = IMAGE
/* MAP OBJECT DEFINITIONS */
OBJECT = IMAGE_MAP_PROJECTION
  ^DATA_SET_MAP_PROJECTION_CATALOG= "DSMAP.CAT"
  A_AXIS_RADIUS = 3396.0
  B_AXIS_RADIUS = 3396.0
  C_AXIS_RADIUS = 3396.0
  CENTER_LATITUDE = 0.0
  CENTER_LONGITUDE = 68.0
  COORDINATE_SYSTEM_NAME = PLANETOGRAPHIC
  COORDINATE_SYSTEM_TYPE = "BODY-FIXED ROTATING"
  EASTERNMOST_LONGITUDE = 68.6973
  FIRST_STANDARD_PARALLEL = "N/A"
  LINE_FIRST_PIXEL = 1
  LINE_LAST_PIXEL = 17415
  LINE_PROJECTION_OFFSET = -6574.875
  MAP_PROJECTION_ROTATION = 0.0
  MAP_PROJECTION_TYPE = SINUSOIDAL
  MAP_RESOLUTION = 1185.42760773333
  MAP_SCALE = 0.05
  MAXIMUM_LATITUDE = -5.5438
  MINIMUM_LATITUDE = -20.2515
  POSITIVE_LONGITUDE_DIRECTION = EAST
  REFERENCE_LATITUDE = "N/A"
  REFERENCE_LONGITUDE = "N/A"
  SAMPLE_FIRST_PIXEL = 1
  SAMPLE_LAST_PIXEL = 1874
  SAMPLE_PROJECTION_OFFSET = 1027.625
  SECOND_STANDARD_PARALLEL = "N/A"
  WESTERNMOST_LONGITUDE = 67.149
END_OBJECT = IMAGE_MAP_PROJECTION
/* The JPEG2000 image data file associated with this label. */
OBJECT = COMPRESSED_FILE
  FILE_NAME = "H7182_0000_P13.JP2"
  RECORD_TYPE = UNDEFINED
  FILE_RECORDS = UNK
  ENCODING_TYPE = "JP2"
  INTERCHANGE_FORMAT = BINARY
  UNCOMPRESSED_FILE_NAME = "H7182_0000_P13.IMG"
  REQUIRED_STORAGE_BYTES = "32656324"
  ^DESCRIPTION = "JP2INFO.TXT"
END_OBJECT = COMPRESSED_FILE
END
