PDS_VERSION_ID = PDS3
/* FILE DATA ELEMENTS */
RECORD_TYPE = STREAM
/* POINTERS TO DATA OBJECTS */
^COMPRESSED_FILE = "H7182_0000_RE3.JP2"
/* IDENTIFICATION DATA ELEMENTS */
DATA_SET_ID = "MEX-M-HRSC-5-REFDR-MAPPROJECTED-V3.0"
DATA_SET_NAME = "MARS EXPRESS HRSC MAP PROJECTED REFDR V3.0"
DETECTOR_ID = MEX_HRSC_RED
EVENT_TYPE = "MARS-REGIONAL-MAPPING-Im-Fl"
INSTRUMENT_HOST_ID = MEX
INSTRUMENT_HOST_NAME = "MARS EXPRESS"
INSTRUMENT_ID = HRSC
INSTRUMENT_NAME = "HIGH RESOLUTION STEREO CAMERA"
MISSION_NAME = "MARS EXPRESS"
MISSION_PHASE_NAME = ME_Phase_18
PROCESSING_LEVEL_ID = 3
PRODUCT_CREATION_TIME = 2016-06-29T18:20:58.000Z
PRODUCT_ID = "H7182_0000_RE3.JP2"
RELEASE_ID = 0079
REVISION_ID = 0000
/* QUALITY DATA ELEMENTS */
DATA_QUALITY_ID = 1
DATA_QUALITY_DESC = "Data calculated based on original SPICE kernels"
/* TIME DATA ELEMENTS */
SPACECRAFT_CLOCK_START_COUNT = "1/0197792518.09119"
SPACECRAFT_CLOCK_STOP_COUNT = "1/0197792825.30146"
START_TIME = 2009-08-08T06:22:56.772Z
STOP_TIME = 2009-08-08T06:26:54.454Z
/* ORBITAL DATA ELEMENTS */
ASCENDING_NODE_LONGITUDE = 80.51
MAXIMUM_RESOLUTION = 115.1
FOOTPRINT_POINT_LATITUDE = (-5.55814,-5.55729,-5.55591,-5.55352, -5.56436,-5.95855,-6.22405,-6.48466, -6.87524,-7.13541,-7.52551,-7.78599, -8.17443,-8.43348,-8.69183,-8.94977, -9.20293,-9.46176,-9.71853,-9.97482, -10.4206,-10.7261,-11.0304,-11.3341, -11.7898,-12.0931,-12.3963,-12.6949, -12.9969,-13.451,-13.8939,-14.1937, -14.6434,-14.9406,-15.2386,-15.5345, -15.8334,-16.1366,-16.4411,-16.8969, -17.2052,-17.512,-17.9763,-18.4454, -18.9183,-19.2363,-19.5547,-19.8768, -20.0531,-20.0553,-20.052,-20.0565, -20.0575,-20.0536,-19.7274,-19.4128, -19.0857,-18.7661,-18.4532,-18.1492, -17.8336,-17.5253,-17.2209,-16.9117, -16.6057,-16.304,-15.9968,-15.6975, -15.2518,-14.955,-14.6595,-14.362, -13.9144,-13.6153,-13.1643,-12.7139, -12.4139,-12.111,-11.8068,-11.3522, -11.0489,-10.5917,-10.2867,-9.99318, -9.73638,-9.35143,-9.09385,-8.83359, -8.57466,-8.31944,-8.05874,-7.79936, -7.5396,-7.15071,-6.75985,-6.36899, -6.10837,-5.84929,-5.58164,-5.55814)
FOOTPRINT_POINT_LONGITUDE = (68.2894,68.096,67.8686,67.5731,67.3888 ,67.3836,67.3811,67.377,67.3708,67.3667 ,67.3605,67.3566,67.3501,67.3458, 67.3414,67.3369,67.3308,67.3267,67.322, 67.3171,67.3092,67.3035,67.2975,67.2915 ,67.2826,67.2767,67.2708,67.2634, 67.2574,67.2489,67.2368,67.2305,67.2213 ,67.2144,67.2079,67.2008,67.1927, 67.1854,67.1788,67.167,67.1591,67.1509, 67.1382,67.1253,67.1124,67.1032,67.0943 ,67.085,67.2673,67.4729,67.6932,67.946, 68.167,68.5937,68.7541,68.7452,68.7412, 68.7344,68.7278,68.7181,68.7125,68.7065 ,68.6996,68.6944,68.689,68.6839,68.6807 ,68.6746,68.6676,68.6633,68.6586, 68.6544,68.6485,68.6447,68.6397,68.6343 ,68.6306,68.6278,68.6254,68.621,68.6181 ,68.6145,68.612,68.6099,68.6082,68.6054 ,68.6039,68.6033,68.6022,68.5996, 68.5991,68.598,68.597,68.5952,68.594, 68.5927,68.5918,68.5904,68.592,68.2894)
ORBIT_NUMBER = 7182
ORBITAL_ECCENTRICITY = 0.576
ORBITAL_INCLINATION = 86.81
ORBITAL_SEMIMAJOR_AXIS = 8779.23
PERIAPSIS_ALTITUDE = 330.08
PERIAPSIS_ARGUMENT_ANGLE = 178.33
PERIAPSIS_TIME = 2009-08-08T06:20:39.000Z
SPACECRAFT_ORIENTATION = (0.0,-1.0,0.0)
^MEX_ORIENTATION_DESC = "MEX_ORIENTATION_DESC.TXT"
SPACECRAFT_POINTING_MODE = NADIR
^MEX_POINTING_DESC = "MEX_POINTING_DESC.TXT"
RIGHT_ASCENSION = -1e+32
DECLINATION = -1e+32
OFFSET_ANGLE = -1e+32
SPACECRAFT_SOLAR_DISTANCE = 2.17863e+08
TARGET_NAME = MARS
/* CAMERA DATA ELEMENTS */
DETECTOR_TEMPERATURE = 17.7588
FOCAL_PLANE_TEMPERATURE = 8.3794
INST_CMPRS_NAME = "DISCRETE COSINE TRANSFORMATION (DCT)"
INST_CMPRS_RATIO = 15.591
INST_CMPRS_QUALITY = 0
INST_CMPRS_QUANTZ_TBL_ID = 0
INSTRUMENT_TEMPERATURE = 9.6028
LENS_TEMPERATURE = 8.5833
MACROPIXEL_SIZE = 8
MISSING_FRAMES = 0
PIXEL_SUBSAMPLING_FLAG = N
SIGNAL_CHAIN_ID = 2
/* RADIOMETRIC DATA ELEMENTS */
BANDWIDTH = 48.0
CENTER_FILTER_WAVELENGTH = 748.0
RADIANCE_OFFSET = 0.377314
RADIANCE_SCALING_FACTOR = 0.00242816
REFLECTANCE_SCALING_FACTOR = 0.00026301
MEX:REFLECTANCE_OFFSET = 0.0408693
/* IMAGE OBJECT DEFINITIONS */
OBJECT = IMAGE
  INTERCHANGE_FORMAT = BINARY
  LINES = 8708
  LINE_SAMPLES = 937
  SAMPLE_TYPE = UNSIGNED_INTEGER
  SAMPLE_BITS = 8
  BANDS = 1
  BAND_STORAGE_TYPE = BAND_SEQUENTIAL
  MAXIMUM = 255
  MEAN = 88.7222
  MINIMUM = 1
  STANDARD_DEVIATION = 22.4923
END_OBJECT = IMAGE
/* MAP OBJECT DEFINITIONS */
OBJECT = IMAGE_MAP_PROJECTION
  ^DATA_SET_MAP_PROJECTION_CATALOG= "DSMAP.CAT"
  A_AXIS_RADIUS = 3396.0
  B_AXIS_RADIUS = 3396.0
  C_AXIS_RADIUS = 3396.0
  CENTER_LATITUDE = 0.0
  CENTER_LONGITUDE = 68.0
  COORDINATE_SYSTEM_NAME = PLANETOGRAPHIC
  COORDINATE_SYSTEM_TYPE = "BODY-FIXED ROTATING"
  EASTERNMOST_LONGITUDE = 68.75409999999999
  FIRST_STANDARD_PARALLEL = "N/A"
  LINE_FIRST_PIXEL = 1
  LINE_LAST_PIXEL = 8708
  LINE_PROJECTION_OFFSET = -3287.6875
  MAP_PROJECTION_ROTATION = 0.0
  MAP_PROJECTION_TYPE = SINUSOIDAL
  MAP_RESOLUTION = 592.713803866667
  MAP_SCALE = 0.1
  MAXIMUM_LATITUDE = -5.55352
  MINIMUM_LATITUDE = -20.0575
  POSITIVE_LONGITUDE_DIRECTION = EAST
  REFERENCE_LATITUDE = "N/A"
  REFERENCE_LONGITUDE = "N/A"
  SAMPLE_FIRST_PIXEL = 1
  SAMPLE_LAST_PIXEL = 937
  SAMPLE_PROJECTION_OFFSET = 513.5625
  SECOND_STANDARD_PARALLEL = "N/A"
  WESTERNMOST_LONGITUDE = 67.08499999999999
END_OBJECT = IMAGE_MAP_PROJECTION
/* The JPEG2000 image data file associated with this label. */
OBJECT = COMPRESSED_FILE
  FILE_NAME = "H7182_0000_RE3.JP2"
  RECORD_TYPE = UNDEFINED
  FILE_RECORDS = UNK
  ENCODING_TYPE = "JP2"
  INTERCHANGE_FORMAT = BINARY
  UNCOMPRESSED_FILE_NAME = "H7182_0000_RE3.IMG"
  REQUIRED_STORAGE_BYTES = "8178136"
  ^DESCRIPTION = "JP2INFO.TXT"
END_OBJECT = COMPRESSED_FILE
END
