PDS_VERSION_ID = PDS3
/* FILE DATA ELEMENTS */
RECORD_TYPE = STREAM
/* POINTERS TO DATA OBJECTS */
^COMPRESSED_FILE = "H7184_0000_IR3.JP2"
/* IDENTIFICATION DATA ELEMENTS */
DATA_SET_ID = "MEX-M-HRSC-5-REFDR-MAPPROJECTED-V3.0"
DATA_SET_NAME = "MARS EXPRESS HRSC MAP PROJECTED REFDR V3.0"
DETECTOR_ID = MEX_HRSC_IR
EVENT_TYPE = "MARS-REGIONAL-MAPPING-Vo"
INSTRUMENT_HOST_ID = MEX
INSTRUMENT_HOST_NAME = "MARS EXPRESS"
INSTRUMENT_ID = HRSC
INSTRUMENT_NAME = "HIGH RESOLUTION STEREO CAMERA"
MISSION_NAME = "MARS EXPRESS"
MISSION_PHASE_NAME = ME_Phase_18
PROCESSING_LEVEL_ID = 3
PRODUCT_CREATION_TIME = 2016-06-29T18:20:58.000Z
PRODUCT_ID = "H7184_0000_IR3.JP2"
RELEASE_ID = 0079
REVISION_ID = 0000
/* QUALITY DATA ELEMENTS */
DATA_QUALITY_ID = 1
DATA_QUALITY_DESC = "Data calculated based on original SPICE kernels"
/* TIME DATA ELEMENTS */
SPACECRAFT_CLOCK_START_COUNT = "1/0197842250.09071"
SPACECRAFT_CLOCK_STOP_COUNT = "1/0197842640.33330"
START_TIME = 2009-08-08T20:10:58.205Z
STOP_TIME = 2009-08-08T20:15:36.791Z
/* ORBITAL DATA ELEMENTS */
ASCENDING_NODE_LONGITUDE = 80.48
MAXIMUM_RESOLUTION = 119.7
FOOTPRINT_POINT_LATITUDE = (-11.6262,-11.6237,-11.6209,-11.6102, -11.8992,-12.1882,-12.4773,-12.9108, -13.3756,-13.7197,-14.0644,-14.4084, -14.753,-15.0971,-15.4412,-15.7846, -16.128,-16.471,-16.8143,-17.1579, -17.501,-17.8439,-18.1866,-18.5288, -19.0417,-19.5649,-19.9154,-20.2656, -20.6225,-20.9814,-21.5193,-22.0698, -22.4364,-22.9962,-23.3704,-23.7476, -24.1305,-24.5132,-25.0976,-25.4881, -25.886,-26.2841,-26.8909,-27.2972, -27.7112,-28.1256,-28.5467,-29.1828, -29.6115,-29.6536,-29.6586,-29.6575, -29.6558,-29.6514,-29.2227,-28.797, -28.3758,-27.7515,-27.3376,-26.9317, -26.3249,-25.9267,-25.5285,-25.1381, -24.5531,-24.1708,-23.7884,-23.4105, -23.0361,-22.4764,-22.1101,-21.7431, -21.3797,-21.0215,-20.6629,-20.3055, -19.7797,-19.4293,-19.0801,-18.7382, -18.2254,-17.8831,-17.5405,-17.1971, -16.8541,-16.5115,-16.1685,-15.8252, -15.4812,-15.1374,-14.793,-14.2768, -13.9325,-13.5884,-13.0901,-12.8012, -12.5124,-12.2232,-11.9342,-11.6262)
FOOTPRINT_POINT_LONGITUDE = (226.844,226.436,225.921,225.692, 225.687,225.682,225.678,225.67,225.662, 225.656,225.65,225.644,225.637,225.631, 225.624,225.618,225.611,225.605,225.598 ,225.591,225.583,225.576,225.569, 225.562,225.551,225.539,225.531,225.523 ,225.515,225.507,225.494,225.481, 225.472,225.458,225.449,225.439,225.429 ,225.419,225.404,225.394,225.383, 225.372,225.355,225.344,225.332,225.32, 225.308,225.289,225.276,225.602,225.968 ,226.51,227.013,227.335,227.318,227.302 ,227.286,227.264,227.249,227.236, 227.216,227.204,227.192,227.181,227.164 ,227.154,227.144,227.134,227.125, 227.112,227.103,227.095,227.087,227.08, 227.073,227.066,227.056,227.049,227.043 ,227.038,227.029,227.024,227.019, 227.014,227.009,227.005,227.001,226.997 ,226.992,226.989,226.985,226.98,226.976 ,226.973,226.969,226.967,226.965, 226.963,226.961,226.844)
ORBIT_NUMBER = 7184
ORBITAL_ECCENTRICITY = 0.576
ORBITAL_INCLINATION = 86.79
ORBITAL_SEMIMAJOR_AXIS = 8782.15
PERIAPSIS_ALTITUDE = 330.5
PERIAPSIS_ARGUMENT_ANGLE = 177.97
PERIAPSIS_TIME = 2009-08-08T20:07:54.000Z
SPACECRAFT_ORIENTATION = (0.0,-1.0,0.0)
^MEX_ORIENTATION_DESC = "MEX_ORIENTATION_DESC.TXT"
SPACECRAFT_POINTING_MODE = NADIR
^MEX_POINTING_DESC = "MEX_POINTING_DESC.TXT"
RIGHT_ASCENSION = -1e+32
DECLINATION = -1e+32
OFFSET_ANGLE = -1e+32
SPACECRAFT_SOLAR_DISTANCE = 2.17967e+08
TARGET_NAME = MARS
/* CAMERA DATA ELEMENTS */
DETECTOR_TEMPERATURE = 17.5549
FOCAL_PLANE_TEMPERATURE = 8.3794
INST_CMPRS_NAME = "DISCRETE COSINE TRANSFORMATION (DCT)"
INST_CMPRS_RATIO = 7.47212
INST_CMPRS_QUALITY = 0
INST_CMPRS_QUANTZ_TBL_ID = 0
INSTRUMENT_TEMPERATURE = 11.4379
LENS_TEMPERATURE = 8.7872
MACROPIXEL_SIZE = 8
MISSING_FRAMES = 0
PIXEL_SUBSAMPLING_FLAG = N
SIGNAL_CHAIN_ID = 2
/* RADIOMETRIC DATA ELEMENTS */
BANDWIDTH = 81.0
CENTER_FILTER_WAVELENGTH = 955.5
RADIANCE_OFFSET = 0.416084
RADIANCE_SCALING_FACTOR = 0.00515734
REFLECTANCE_SCALING_FACTOR = 0.00052861
MEX:REFLECTANCE_OFFSET = 0.0426472
/* IMAGE OBJECT DEFINITIONS */
OBJECT = IMAGE
  INTERCHANGE_FORMAT = BINARY
  LINES = 10697
  LINE_SAMPLES = 1175
  SAMPLE_TYPE = UNSIGNED_INTEGER
  SAMPLE_BITS = 8
  BANDS = 1
  BAND_STORAGE_TYPE = BAND_SEQUENTIAL
  MAXIMUM = 255
  MEAN = 99.8054
  MINIMUM = 1
  STANDARD_DEVIATION = 34.9638
END_OBJECT = IMAGE
/* MAP OBJECT DEFINITIONS */
OBJECT = IMAGE_MAP_PROJECTION
  ^DATA_SET_MAP_PROJECTION_CATALOG= "DSMAP.CAT"
  A_AXIS_RADIUS = 3396.0
  B_AXIS_RADIUS = 3396.0
  C_AXIS_RADIUS = 3396.0
  CENTER_LATITUDE = 0.0
  CENTER_LONGITUDE = 226.0
  COORDINATE_SYSTEM_NAME = PLANETOGRAPHIC
  COORDINATE_SYSTEM_TYPE = "BODY-FIXED ROTATING"
  EASTERNMOST_LONGITUDE = 227.335
  FIRST_STANDARD_PARALLEL = "N/A"
  LINE_FIRST_PIXEL = 1
  LINE_LAST_PIXEL = 10697
  LINE_PROJECTION_OFFSET = -6888.0625
  MAP_PROJECTION_ROTATION = 0.0
  MAP_PROJECTION_TYPE = SINUSOIDAL
  MAP_RESOLUTION = 592.713803866667
  MAP_SCALE = 0.1
  MAXIMUM_LATITUDE = -11.6102
  MINIMUM_LATITUDE = -29.6586
  POSITIVE_LONGITUDE_DIRECTION = EAST
  REFERENCE_LATITUDE = "N/A"
  REFERENCE_LONGITUDE = "N/A"
  SAMPLE_FIRST_PIXEL = 1
  SAMPLE_LAST_PIXEL = 1175
  SAMPLE_PROJECTION_OFFSET = 433.5625
  SECOND_STANDARD_PARALLEL = "N/A"
  WESTERNMOST_LONGITUDE = 225.276
END_OBJECT = IMAGE_MAP_PROJECTION
/* The JPEG2000 image data file associated with this label. */
OBJECT = COMPRESSED_FILE
  FILE_NAME = "H7184_0000_IR3.JP2"
  RECORD_TYPE = UNDEFINED
  FILE_RECORDS = UNK
  ENCODING_TYPE = "JP2"
  INTERCHANGE_FORMAT = BINARY
  UNCOMPRESSED_FILE_NAME = "H7184_0000_IR3.IMG"
  REQUIRED_STORAGE_BYTES = "12588950"
  ^DESCRIPTION = "JP2INFO.TXT"
END_OBJECT = COMPRESSED_FILE
END
