PDS_VERSION_ID = PDS3
/* FILE DATA ELEMENTS */
RECORD_TYPE = STREAM
/* POINTERS TO DATA OBJECTS */
^COMPRESSED_FILE = "H7196_0000_BL3.JP2"
/* IDENTIFICATION DATA ELEMENTS */
DATA_SET_ID = "MEX-M-HRSC-5-REFDR-MAPPROJECTED-V3.0"
DATA_SET_NAME = "MARS EXPRESS HRSC MAP PROJECTED REFDR V3.0"
DETECTOR_ID = MEX_HRSC_BLUE
EVENT_TYPE = "MARS-REGIONAL-MAPPING-Im-Fl"
INSTRUMENT_HOST_ID = MEX
INSTRUMENT_HOST_NAME = "MARS EXPRESS"
INSTRUMENT_ID = HRSC
INSTRUMENT_NAME = "HIGH RESOLUTION STEREO CAMERA"
MISSION_NAME = "MARS EXPRESS"
MISSION_PHASE_NAME = ME_Phase_18
PROCESSING_LEVEL_ID = 3
PRODUCT_CREATION_TIME = 2016-06-29T18:20:58.000Z
PRODUCT_ID = "H7196_0000_BL3.JP2"
RELEASE_ID = 0079
REVISION_ID = 0000
/* QUALITY DATA ELEMENTS */
DATA_QUALITY_ID = 1
DATA_QUALITY_DESC = "Data calculated based on original SPICE kernels"
/* TIME DATA ELEMENTS */
SPACECRAFT_CLOCK_START_COUNT = "1/0198140094.09074"
SPACECRAFT_CLOCK_STOP_COUNT = "1/0198140378.15114"
START_TIME = 2009-08-12T06:55:35.710Z
STOP_TIME = 2009-08-12T06:58:56.834Z
/* ORBITAL DATA ELEMENTS */
ASCENDING_NODE_LONGITUDE = 80.24
MAXIMUM_RESOLUTION = 59.2
FOOTPRINT_POINT_LATITUDE = (-8.78025,-8.7706,-8.75859,-9.11998, -9.361,-9.60119,-9.84169,-10.0815, -10.3212,-10.5607,-10.7999,-11.0393, -11.2782,-11.5171,-11.7555,-11.9936, -12.2315,-12.4693,-12.7069,-13.181, -13.6541,-13.8961,-14.1384,-14.3806, -14.6223,-14.8638,-15.2337,-15.4806, -15.7272,-15.9735,-16.2238,-16.4759, -16.8533,-17.1046,-17.3603,-17.6171, -17.8736,-18.1297,-18.3911,-18.6503, -18.9136,-19.1746,-19.4415,-19.7079, -19.9736,-20.3788,-20.6498,-20.92, -21.1953,-21.2123,-21.2185,-21.2273, -21.2343,-21.2388,-20.9643,-20.6939, -20.4231,-20.018,-19.7522,-19.486, -19.0878,-18.8268,-18.4343,-18.1728, -17.9167,-17.6601,-17.4029,-17.1471, -16.8955,-16.6437,-16.3912,-16.0151, -15.7685,-15.5217,-15.2746,-14.9045, -14.663,-14.4203,-14.178,-13.9366, -13.4578,-13.1021,-12.8648,-12.6274, -12.2707,-12.0327,-11.7945,-11.5559, -11.3163,-11.0773,-10.839,-10.4795, -10.2396,-9.99992,-9.75994,-9.51923, -9.2787,-9.0377,-8.79639,-8.78025)
FOOTPRINT_POINT_LONGITUDE = (95.2579,94.8544,94.2837,94.2765, 94.2731,94.2669,94.263,94.2567,94.2512, 94.2453,94.239,94.2346,94.2291,94.2245, 94.2183,94.212,94.206,94.2004,94.1946, 94.1818,94.1684,94.1612,94.1545,94.1483 ,94.141,94.1339,94.123,94.115,94.1067, 94.0986,94.0911,94.083,94.0705,94.0622, 94.0528,94.0443,94.0354,94.0266,94.0187 ,93.9998,93.9994,93.9872,93.9791, 93.9702,93.9603,93.9461,93.9366,93.9254 ,93.9142,94.2979,94.5564,94.9633, 95.3307,95.7293,95.7265,95.7227,95.7192 ,95.7141,95.7108,95.7075,95.7027, 95.6998,95.6955,95.6926,95.6901,95.6875 ,95.6848,95.6829,95.6803,95.6781, 95.6754,95.673,95.671,95.6693,95.6676, 95.6652,95.6637,95.661,95.6594,95.6592, 95.6569,95.6545,95.6533,95.6522,95.6505 ,95.6496,95.6487,95.6478,95.6456, 95.6449,95.6455,95.6441,95.6432,95.6431 ,95.6429,95.6419,95.6416,95.6409, 95.6401,95.2579)
ORBIT_NUMBER = 7196
ORBITAL_ECCENTRICITY = 0.575
ORBITAL_INCLINATION = 86.8
ORBITAL_SEMIMAJOR_AXIS = 8778.57
PERIAPSIS_ALTITUDE = 331.37
PERIAPSIS_ARGUMENT_ANGLE = 175.86
PERIAPSIS_TIME = 2009-08-12T06:52:10.000Z
SPACECRAFT_ORIENTATION = (0.0,-1.0,0.0)
^MEX_ORIENTATION_DESC = "MEX_ORIENTATION_DESC.TXT"
SPACECRAFT_POINTING_MODE = ACROSSTRACK
^MEX_POINTING_DESC = "MEX_POINTING_DESC.TXT"
RIGHT_ASCENSION = -1e+32
DECLINATION = -1e+32
OFFSET_ANGLE = -1.3
SPACECRAFT_SOLAR_DISTANCE = 2.18591e+08
TARGET_NAME = MARS
/* CAMERA DATA ELEMENTS */
DETECTOR_TEMPERATURE = 18.3705
FOCAL_PLANE_TEMPERATURE = 8.5833
INST_CMPRS_NAME = "DISCRETE COSINE TRANSFORMATION (DCT)"
INST_CMPRS_RATIO = 7.31009
INST_CMPRS_QUALITY = 0
INST_CMPRS_QUANTZ_TBL_ID = 0
INSTRUMENT_TEMPERATURE = 11.234
LENS_TEMPERATURE = 9.195
MACROPIXEL_SIZE = 4
MISSING_FRAMES = 0
PIXEL_SUBSAMPLING_FLAG = N
SIGNAL_CHAIN_ID = 2
/* RADIOMETRIC DATA ELEMENTS */
BANDWIDTH = 76.0
CENTER_FILTER_WAVELENGTH = 444.0
RADIANCE_OFFSET = 0.322496
RADIANCE_SCALING_FACTOR = 0.0017444
REFLECTANCE_SCALING_FACTOR = 8.56386e-05
MEX:REFLECTANCE_OFFSET = 0.0158324
/* IMAGE OBJECT DEFINITIONS */
OBJECT = IMAGE
  INTERCHANGE_FORMAT = BINARY
  LINES = 14769
  LINE_SAMPLES = 2122
  SAMPLE_TYPE = UNSIGNED_INTEGER
  SAMPLE_BITS = 8
  BANDS = 1
  BAND_STORAGE_TYPE = BAND_SEQUENTIAL
  MAXIMUM = 255
  MEAN = 121.907
  MINIMUM = 1
  STANDARD_DEVIATION = 23.0168
END_OBJECT = IMAGE
/* MAP OBJECT DEFINITIONS */
OBJECT = IMAGE_MAP_PROJECTION
  ^DATA_SET_MAP_PROJECTION_CATALOG= "DSMAP.CAT"
  A_AXIS_RADIUS = 3396.0
  B_AXIS_RADIUS = 3396.0
  C_AXIS_RADIUS = 3396.0
  CENTER_LATITUDE = 0.0
  CENTER_LONGITUDE = 95.0
  COORDINATE_SYSTEM_NAME = PLANETOGRAPHIC
  COORDINATE_SYSTEM_TYPE = "BODY-FIXED ROTATING"
  EASTERNMOST_LONGITUDE = 95.72929999999999
  FIRST_STANDARD_PARALLEL = "N/A"
  LINE_FIRST_PIXEL = 1
  LINE_LAST_PIXEL = 14769
  LINE_PROJECTION_OFFSET = -10386.625
  MAP_PROJECTION_ROTATION = 0.0
  MAP_PROJECTION_TYPE = SINUSOIDAL
  MAP_RESOLUTION = 1185.42760773333
  MAP_SCALE = 0.05
  MAXIMUM_LATITUDE = -8.75859
  MINIMUM_LATITUDE = -21.2388
  POSITIVE_LONGITUDE_DIRECTION = EAST
  REFERENCE_LATITUDE = "N/A"
  REFERENCE_LONGITUDE = "N/A"
  SAMPLE_FIRST_PIXEL = 1
  SAMPLE_LAST_PIXEL = 2122
  SAMPLE_PROJECTION_OFFSET = 1325.625
  SECOND_STANDARD_PARALLEL = "N/A"
  WESTERNMOST_LONGITUDE = 93.91419999999999
END_OBJECT = IMAGE_MAP_PROJECTION
/* The JPEG2000 image data file associated with this label. */
OBJECT = COMPRESSED_FILE
  FILE_NAME = "H7196_0000_BL3.JP2"
  RECORD_TYPE = UNDEFINED
  FILE_RECORDS = UNK
  ENCODING_TYPE = "JP2"
  INTERCHANGE_FORMAT = BINARY
  UNCOMPRESSED_FILE_NAME = "H7196_0000_BL3.IMG"
  REQUIRED_STORAGE_BYTES = "31361038"
  ^DESCRIPTION = "JP2INFO.TXT"
END_OBJECT = COMPRESSED_FILE
END
