PDS_VERSION_ID = PDS3
/* FILE DATA ELEMENTS */
RECORD_TYPE = STREAM
/* POINTERS TO DATA OBJECTS */
^COMPRESSED_FILE = "H7196_0000_S13.JP2"
/* IDENTIFICATION DATA ELEMENTS */
DATA_SET_ID = "MEX-M-HRSC-5-REFDR-MAPPROJECTED-V3.0"
DATA_SET_NAME = "MARS EXPRESS HRSC MAP PROJECTED REFDR V3.0"
DETECTOR_ID = MEX_HRSC_S1
EVENT_TYPE = "MARS-REGIONAL-MAPPING-Im-Fl"
INSTRUMENT_HOST_ID = MEX
INSTRUMENT_HOST_NAME = "MARS EXPRESS"
INSTRUMENT_ID = HRSC
INSTRUMENT_NAME = "HIGH RESOLUTION STEREO CAMERA"
MISSION_NAME = "MARS EXPRESS"
MISSION_PHASE_NAME = ME_Phase_18
PROCESSING_LEVEL_ID = 3
PRODUCT_CREATION_TIME = 2016-06-29T18:20:58.000Z
PRODUCT_ID = "H7196_0000_S13.JP2"
RELEASE_ID = 0079
REVISION_ID = 0000
/* QUALITY DATA ELEMENTS */
DATA_QUALITY_ID = 1
DATA_QUALITY_DESC = "Data calculated based on original SPICE kernels"
/* TIME DATA ELEMENTS */
SPACECRAFT_CLOCK_START_COUNT = "1/0198140094.09074"
SPACECRAFT_CLOCK_STOP_COUNT = "1/0198140378.15114"
START_TIME = 2009-08-12T06:54:56.582Z
STOP_TIME = 2009-08-12T06:58:05.878Z
/* ORBITAL DATA ELEMENTS */
ASCENDING_NODE_LONGITUDE = 80.24
MAXIMUM_RESOLUTION = 30.3
FOOTPRINT_POINT_LATITUDE = (-8.72393,-8.75176,-8.78863,-8.79841, -9.20927,-9.41749,-9.62606,-9.83302, -10.0818,-10.3295,-10.5782,-10.8267, -11.0735,-11.4437,-11.816,-12.0645, -12.3122,-12.5589,-12.8067,-13.1787, -13.4266,-13.6742,-14.0461,-14.2931, -14.5412,-14.7877,-15.035,-15.282, -15.53,-15.7778,-16.0254,-16.2718, -16.5187,-16.7725,-17.1532,-17.407, -17.6601,-18.0454,-18.4394,-18.7035, -18.9527,-19.3497,-19.6143,-19.8795, -20.1433,-20.4133,-20.6838,-20.9561, -21.2273,-21.2213,-21.2082,-21.1937, -21.1692,-21.0126,-20.7415,-20.4692, -20.1972,-19.9293,-19.5313,-19.2668, -19.0011,-18.7403,-18.4813,-18.2227, -17.9626,-17.7032,-17.4529,-17.1964, -16.9444,-16.6917,-16.4388,-16.0678, -15.6967,-15.3253,-15.0776,-14.8302, -14.5823,-14.3395,-14.0896,-13.7161, -13.4669,-13.22,-12.9733,-12.7257, -12.3543,-12.1062,-11.8579,-11.6098, -11.3663,-11.1183,-10.8652,-10.6174, -10.3704,-10.1218,-9.87184,-9.6425, -9.33117,-9.12392,-8.81337,-8.72393)
FOOTPRINT_POINT_LONGITUDE = (95.4263,95.0217,94.4971,94.2824, 94.2791,94.2747,94.2699,94.2666,94.2606 ,94.2558,94.25,94.2442,94.2399,94.2333, 94.2245,94.2183,94.2126,94.2077,94.2017 ,94.1923,94.1859,94.1796,94.1694, 94.1634,94.1562,94.1503,94.1435,94.137, 94.1293,94.1216,94.1139,94.1072,94.1001 ,94.0922,94.08,94.0717,94.0638,94.0515, 94.0346,94.0218,94.0223,94.0083,94.0001 ,93.9911,93.9831,93.9739,93.9651, 93.9545,93.9447,94.2209,94.4769,94.7787 ,95.2727,95.6636,95.6609,95.6586, 95.6562,95.6541,95.6508,95.6484,95.6464 ,95.6446,95.6427,95.6407,95.6392, 95.6376,95.6354,95.6348,95.633,95.6315, 95.63,95.6282,95.6267,95.6253,95.6245, 95.6235,95.6228,95.6206,95.6205,95.62, 95.6198,95.619,95.618,95.6174,95.6166, 95.6162,95.6159,95.6156,95.6139,95.6136 ,95.615,95.6147,95.6142,95.6142,95.6147 ,95.6149,95.6147,95.6145,95.6141, 95.4263)
ORBIT_NUMBER = 7196
ORBITAL_ECCENTRICITY = 0.575
ORBITAL_INCLINATION = 86.8
ORBITAL_SEMIMAJOR_AXIS = 8778.57
PERIAPSIS_ALTITUDE = 331.37
PERIAPSIS_ARGUMENT_ANGLE = 175.86
PERIAPSIS_TIME = 2009-08-12T06:52:10.000Z
SPACECRAFT_ORIENTATION = (0.0,-1.0,0.0)
^MEX_ORIENTATION_DESC = "MEX_ORIENTATION_DESC.TXT"
SPACECRAFT_POINTING_MODE = ACROSSTRACK
^MEX_POINTING_DESC = "MEX_POINTING_DESC.TXT"
RIGHT_ASCENSION = -1e+32
DECLINATION = -1e+32
OFFSET_ANGLE = -1.3
SPACECRAFT_SOLAR_DISTANCE = 2.18591e+08
TARGET_NAME = MARS
/* CAMERA DATA ELEMENTS */
DETECTOR_TEMPERATURE = 17.5549
FOCAL_PLANE_TEMPERATURE = 8.5833
INST_CMPRS_NAME = "DISCRETE COSINE TRANSFORMATION (DCT)"
INST_CMPRS_RATIO = 10.1624
INST_CMPRS_QUALITY = 0
INST_CMPRS_QUANTZ_TBL_ID = 0
INSTRUMENT_TEMPERATURE = 11.234
LENS_TEMPERATURE = 9.195
MACROPIXEL_SIZE = 2
MISSING_FRAMES = 0
PIXEL_SUBSAMPLING_FLAG = N
SIGNAL_CHAIN_ID = 1
/* RADIOMETRIC DATA ELEMENTS */
BANDWIDTH = 180.0
CENTER_FILTER_WAVELENGTH = 677.0
RADIANCE_OFFSET = 1.93466
RADIANCE_SCALING_FACTOR = 0.0097546
REFLECTANCE_SCALING_FACTOR = 0.000243174
MEX:REFLECTANCE_OFFSET = 0.0482296
/* IMAGE OBJECT DEFINITIONS */
OBJECT = IMAGE
  INTERCHANGE_FORMAT = BINARY
  LINES = 29537
  LINE_SAMPLES = 4244
  SAMPLE_TYPE = UNSIGNED_INTEGER
  SAMPLE_BITS = 8
  BANDS = 1
  BAND_STORAGE_TYPE = BAND_SEQUENTIAL
  MAXIMUM = 255
  MEAN = 114.637
  MINIMUM = 1
  STANDARD_DEVIATION = 22.912
END_OBJECT = IMAGE
/* MAP OBJECT DEFINITIONS */
OBJECT = IMAGE_MAP_PROJECTION
  ^DATA_SET_MAP_PROJECTION_CATALOG= "DSMAP.CAT"
  A_AXIS_RADIUS = 3396.0
  B_AXIS_RADIUS = 3396.0
  C_AXIS_RADIUS = 3396.0
  CENTER_LATITUDE = 0.0
  CENTER_LONGITUDE = 95.0
  COORDINATE_SYSTEM_NAME = PLANETOGRAPHIC
  COORDINATE_SYSTEM_TYPE = "BODY-FIXED ROTATING"
  EASTERNMOST_LONGITUDE = 95.6636
  FIRST_STANDARD_PARALLEL = "N/A"
  LINE_FIRST_PIXEL = 1
  LINE_LAST_PIXEL = 29537
  LINE_PROJECTION_OFFSET = -20772.75
  MAP_PROJECTION_ROTATION = 0.0
  MAP_PROJECTION_TYPE = SINUSOIDAL
  MAP_RESOLUTION = 2370.85521546667
  MAP_SCALE = 0.025
  MAXIMUM_LATITUDE = -8.723929999999999
  MINIMUM_LATITUDE = -21.2273
  POSITIVE_LONGITUDE_DIRECTION = EAST
  REFERENCE_LATITUDE = "N/A"
  REFERENCE_LONGITUDE = "N/A"
  SAMPLE_FIRST_PIXEL = 1
  SAMPLE_LAST_PIXEL = 4244
  SAMPLE_PROJECTION_OFFSET = 2651.75
  SECOND_STANDARD_PARALLEL = "N/A"
  WESTERNMOST_LONGITUDE = 93.9447
END_OBJECT = IMAGE_MAP_PROJECTION
/* The JPEG2000 image data file associated with this label. */
OBJECT = COMPRESSED_FILE
  FILE_NAME = "H7196_0000_S13.JP2"
  RECORD_TYPE = UNDEFINED
  FILE_RECORDS = UNK
  ENCODING_TYPE = "JP2"
  INTERCHANGE_FORMAT = BINARY
  UNCOMPRESSED_FILE_NAME = "H7196_0000_S13.IMG"
  REQUIRED_STORAGE_BYTES = "125380492"
  ^DESCRIPTION = "JP2INFO.TXT"
END_OBJECT = COMPRESSED_FILE
END
