PDS_VERSION_ID = PDS3
/* FILE DATA ELEMENTS */
RECORD_TYPE = STREAM
/* POINTERS TO DATA OBJECTS */
^COMPRESSED_FILE = "H7197_0000_P13.JP2"
/* IDENTIFICATION DATA ELEMENTS */
DATA_SET_ID = "MEX-M-HRSC-5-REFDR-MAPPROJECTED-V3.0"
DATA_SET_NAME = "MARS EXPRESS HRSC MAP PROJECTED REFDR V3.0"
DETECTOR_ID = MEX_HRSC_P1
EVENT_TYPE = "MARS-LOCAL-CARTOGRAPHY-Eb-La-Ts"
INSTRUMENT_HOST_ID = MEX
INSTRUMENT_HOST_NAME = "MARS EXPRESS"
INSTRUMENT_ID = HRSC
INSTRUMENT_NAME = "HIGH RESOLUTION STEREO CAMERA"
MISSION_NAME = "MARS EXPRESS"
MISSION_PHASE_NAME = ME_Phase_18
PROCESSING_LEVEL_ID = 3
PRODUCT_CREATION_TIME = 2016-06-29T18:20:58.000Z
PRODUCT_ID = "H7197_0000_P13.JP2"
RELEASE_ID = 0079
REVISION_ID = 0000
/* QUALITY DATA ELEMENTS */
DATA_QUALITY_ID = 1
DATA_QUALITY_DESC = "Data calculated based on original SPICE kernels"
/* TIME DATA ELEMENTS */
SPACECRAFT_CLOCK_START_COUNT = "1/0198164654.09054"
SPACECRAFT_CLOCK_STOP_COUNT = "1/0198164789.58568"
START_TIME = 2009-08-12T13:44:27.240Z
STOP_TIME = 2009-08-12T13:45:14.639Z
/* ORBITAL DATA ELEMENTS */
ASCENDING_NODE_LONGITUDE = 80.22
MAXIMUM_RESOLUTION = 27.6
FOOTPRINT_POINT_LATITUDE = (8.47031,8.47095,8.47156,8.47204, 8.47265,8.47322,8.47368,8.4743,8.47468, 8.47501,8.47529,8.47555,8.47571,8.4338, 8.37159,8.30936,8.21631,8.1229,8.02969, 7.96754,7.87438,7.81215,7.75042,7.62985 ,7.53942,7.3883,7.26741,7.20689,7.11606 ,6.99508,6.87433,6.78374,6.69301, 6.60222,6.54159,6.45064,6.39007,6.32945 ,6.26892,6.17807,6.11743,6.02655, 5.96592,5.87472,5.81397,5.75317,5.69244 ,5.63176,5.57106,5.51038,5.44971, 5.39848,5.39799,5.39789,5.39762,5.39745 ,5.39693,5.39625,5.39581,5.39598, 5.39538,5.39441,5.39195,5.48328,5.5442, 5.6049,5.69681,5.75785,5.8482,5.93889, 6.02965,6.1205,6.21145,6.27207,6.36301, 6.45395,6.51453,6.60535,6.69601,6.78666 ,6.90777,6.96837,7.02895,7.11955, 7.27054,7.3607,7.45096,7.57193,7.66289, 7.72346,7.81598,7.87837,7.97,8.03056, 8.1254,8.18954,8.25182,8.31398,8.37636, 8.47031)
FOOTPRINT_POINT_LONGITUDE = (356.134,356.053,355.972,355.903,355.81 ,355.717,355.636,355.509,355.416, 355.324,355.231,355.115,355.022,354.967 ,354.967,354.967,354.968,354.968, 354.968,354.968,354.968,354.968,354.968 ,354.968,354.968,354.968,354.968, 354.968,354.968,354.967,354.967,354.967 ,354.967,354.967,354.967,354.967, 354.967,354.967,354.966,354.966,354.966 ,354.966,354.966,354.965,354.965, 354.965,354.965,354.965,354.964,354.964 ,354.964,354.998,355.112,355.192, 355.295,355.375,355.477,355.614,355.717 ,355.854,355.945,356.025,356.144, 356.145,356.145,356.146,356.146,356.146 ,356.147,356.148,356.149,356.15,356.151 ,356.151,356.152,356.153,356.154, 356.155,356.155,356.156,356.158,356.158 ,356.159,356.16,356.161,356.162,356.163 ,356.164,356.165,356.166,356.167, 356.167,356.169,356.171,356.171,356.171 ,356.172,356.172,356.173,356.134)
ORBIT_NUMBER = 7197
ORBITAL_ECCENTRICITY = 0.575
ORBITAL_INCLINATION = 86.79
ORBITAL_SEMIMAJOR_AXIS = 8772.27
PERIAPSIS_ALTITUDE = 332.34
PERIAPSIS_ARGUMENT_ANGLE = 175.68
PERIAPSIS_TIME = 2009-08-12T13:45:50.000Z
SPACECRAFT_ORIENTATION = (0.0,-1.0,0.0)
^MEX_ORIENTATION_DESC = "MEX_ORIENTATION_DESC.TXT"
SPACECRAFT_POINTING_MODE = NADIR
^MEX_POINTING_DESC = "MEX_POINTING_DESC.TXT"
RIGHT_ASCENSION = -1e+32
DECLINATION = -1e+32
OFFSET_ANGLE = -1e+32
SPACECRAFT_SOLAR_DISTANCE = 2.18644e+08
TARGET_NAME = MARS
/* CAMERA DATA ELEMENTS */
DETECTOR_TEMPERATURE = 17.351
FOCAL_PLANE_TEMPERATURE = 8.1755
INST_CMPRS_NAME = "DISCRETE COSINE TRANSFORMATION (DCT)"
INST_CMPRS_RATIO = 9.45342
INST_CMPRS_QUALITY = 0
INST_CMPRS_QUANTZ_TBL_ID = 0
INSTRUMENT_TEMPERATURE = 11.0301
LENS_TEMPERATURE = 8.5833
MACROPIXEL_SIZE = 2
MISSING_FRAMES = 0
PIXEL_SUBSAMPLING_FLAG = N
SIGNAL_CHAIN_ID = 3
/* RADIOMETRIC DATA ELEMENTS */
BANDWIDTH = 174.0
CENTER_FILTER_WAVELENGTH = 675.0
RADIANCE_OFFSET = 2.3515
RADIANCE_SCALING_FACTOR = 0.00730977
REFLECTANCE_SCALING_FACTOR = 0.000187958
MEX:REFLECTANCE_OFFSET = 0.0604648
/* IMAGE OBJECT DEFINITIONS */
OBJECT = IMAGE
  INTERCHANGE_FORMAT = BINARY
  LINES = 4276
  LINE_SAMPLES = 2982
  SAMPLE_TYPE = UNSIGNED_INTEGER
  SAMPLE_BITS = 8
  BANDS = 1
  BAND_STORAGE_TYPE = BAND_SEQUENTIAL
  MAXIMUM = 255
  MEAN = 89.6304
  MINIMUM = 3
  STANDARD_DEVIATION = 17.6708
END_OBJECT = IMAGE
/* MAP OBJECT DEFINITIONS */
OBJECT = IMAGE_MAP_PROJECTION
  ^DATA_SET_MAP_PROJECTION_CATALOG= "DSMAP.CAT"
  A_AXIS_RADIUS = 3396.0
  B_AXIS_RADIUS = 3396.0
  C_AXIS_RADIUS = 3396.0
  CENTER_LATITUDE = 0.0
  CENTER_LONGITUDE = 356.0
  COORDINATE_SYSTEM_NAME = PLANETOGRAPHIC
  COORDINATE_SYSTEM_TYPE = "BODY-FIXED ROTATING"
  EASTERNMOST_LONGITUDE = 356.173
  FIRST_STANDARD_PARALLEL = "N/A"
  LINE_FIRST_PIXEL = 1
  LINE_LAST_PIXEL = 4276
  LINE_PROJECTION_OFFSET = 20083.75
  MAP_PROJECTION_ROTATION = 0.0
  MAP_PROJECTION_TYPE = SINUSOIDAL
  MAP_RESOLUTION = 2370.85521546667
  MAP_SCALE = 0.025
  MAXIMUM_LATITUDE = 8.475709999999999
  MINIMUM_LATITUDE = 5.39195
  POSITIVE_LONGITUDE_DIRECTION = EAST
  REFERENCE_LATITUDE = "N/A"
  REFERENCE_LONGITUDE = "N/A"
  SAMPLE_FIRST_PIXEL = 1
  SAMPLE_LAST_PIXEL = 2982
  SAMPLE_PROJECTION_OFFSET = 2512.25
  SECOND_STANDARD_PARALLEL = "N/A"
  WESTERNMOST_LONGITUDE = 354.964
END_OBJECT = IMAGE_MAP_PROJECTION
/* The JPEG2000 image data file associated with this label. */
OBJECT = COMPRESSED_FILE
  FILE_NAME = "H7197_0000_P13.JP2"
  RECORD_TYPE = UNDEFINED
  FILE_RECORDS = UNK
  ENCODING_TYPE = "JP2"
  INTERCHANGE_FORMAT = BINARY
  UNCOMPRESSED_FILE_NAME = "H7197_0000_P13.IMG"
  REQUIRED_STORAGE_BYTES = "12774888"
  ^DESCRIPTION = "JP2INFO.TXT"
END_OBJECT = COMPRESSED_FILE
END
