PDS_VERSION_ID = PDS3
/* FILE DATA ELEMENTS */
RECORD_TYPE = STREAM
/* POINTERS TO DATA OBJECTS */
^COMPRESSED_FILE = "H7199_0000_RE3.JP2"
/* IDENTIFICATION DATA ELEMENTS */
DATA_SET_ID = "MEX-M-HRSC-5-REFDR-MAPPROJECTED-V3.0"
DATA_SET_NAME = "MARS EXPRESS HRSC MAP PROJECTED REFDR V3.0"
DETECTOR_ID = MEX_HRSC_RED
EVENT_TYPE = "MARS-REGIONAL-MAPPING-Im-Fl"
INSTRUMENT_HOST_ID = MEX
INSTRUMENT_HOST_NAME = "MARS EXPRESS"
INSTRUMENT_ID = HRSC
INSTRUMENT_NAME = "HIGH RESOLUTION STEREO CAMERA"
MISSION_NAME = "MARS EXPRESS"
MISSION_PHASE_NAME = ME_Phase_18
PROCESSING_LEVEL_ID = 3
PRODUCT_CREATION_TIME = 2016-06-29T18:20:58.000Z
PRODUCT_ID = "H7199_0000_RE3.JP2"
RELEASE_ID = 0079
REVISION_ID = 0000
/* QUALITY DATA ELEMENTS */
DATA_QUALITY_ID = 1
DATA_QUALITY_DESC = "Data calculated based on original SPICE kernels"
/* TIME DATA ELEMENTS */
SPACECRAFT_CLOCK_START_COUNT = "1/0198214482.09066"
SPACECRAFT_CLOCK_STOP_COUNT = "1/0198214835.09566"
START_TIME = 2009-08-13T03:35:41.399Z
STOP_TIME = 2009-08-13T03:40:26.565Z
/* ORBITAL DATA ELEMENTS */
ASCENDING_NODE_LONGITUDE = 80.17
MAXIMUM_RESOLUTION = 59.2
FOOTPRINT_POINT_LATITUDE = (-3.00657,-3.00547,-3.00299,-2.98524, -3.3361,-3.57,-3.80464,-4.03891, -4.38755,-4.62098,-4.96939,-5.20168, -5.43461,-5.66628,-5.89883,-6.12989, -6.3612,-6.59221,-6.99232,-10.9129, -11.3131,-11.7142,-12.1154,-12.3829, -12.6552,-13.0635,-13.335,-13.6177, -13.8961,-14.1743,-14.4501,-14.7303, -15.0132,-15.2938,-15.5768,-15.8643, -16.1514,-16.4382,-16.7291,-17.0212, -17.3116,-17.6071,-17.9034,-18.1989, -18.6494,-18.95,-19.254,-19.5599, -19.8637,-20.1725,-20.1764,-20.1761, -20.1758,-20.1768,-19.866,-19.5612, -19.2555,-18.9509,-18.6508,-18.2001, -17.9045,-17.6081,-17.3135,-17.023, -16.7318,-16.4403,-16.1549,-15.8677, -15.5803,-15.2989,-15.0165,-14.7334, -14.4524,-14.0358,-13.7581,-13.4725, -13.201,-12.7939,-12.5211,-12.2516, -11.986,-11.5851,-11.3177,-10.914, -6.99387,-6.59696,-6.36627,-6.13485, -5.90317,-5.67163,-5.43941,-5.09156, -4.85907,-4.62698,-4.39416,-4.04497, -3.81337,-3.57906,-3.34485,-3.00657)
FOOTPRINT_POINT_LONGITUDE = (154.414,154.105,153.681,153.18,153.175 ,153.171,153.168,153.165,153.159, 153.155,153.149,153.145,153.142,153.138 ,153.134,153.13,153.126,153.122,153.116 ,153.041,153.031,153.022,153.013, 153.007,153.0,152.99,152.983,152.977, 152.97,152.963,152.956,152.948,152.941, 152.933,152.926,152.918,152.91,152.902, 152.894,152.886,152.877,152.868,152.859 ,152.85,152.836,152.826,152.816,152.807 ,152.796,152.921,153.264,153.52,153.965 ,154.511,154.611,154.603,154.596, 154.589,154.581,154.571,154.565,154.558 ,154.552,154.546,154.54,154.535,154.529 ,154.524,154.519,154.514,154.51,154.506 ,154.502,154.496,154.492,154.488, 154.485,154.479,154.476,154.472,154.469 ,154.465,154.462,154.458,154.432,154.43 ,154.429,154.428,154.427,154.426, 154.426,154.424,154.424,154.423,154.422 ,154.421,154.42,154.419,154.419, 154.414)
ORBIT_NUMBER = 7199
ORBITAL_ECCENTRICITY = 0.575
ORBITAL_INCLINATION = 86.8
ORBITAL_SEMIMAJOR_AXIS = 8771.26
PERIAPSIS_ALTITUDE = 332.48
PERIAPSIS_ARGUMENT_ANGLE = 175.38
PERIAPSIS_TIME = 2009-08-13T03:33:18.000Z
SPACECRAFT_ORIENTATION = (0.0,-1.0,0.0)
^MEX_ORIENTATION_DESC = "MEX_ORIENTATION_DESC.TXT"
SPACECRAFT_POINTING_MODE = NADIR
^MEX_POINTING_DESC = "MEX_POINTING_DESC.TXT"
RIGHT_ASCENSION = -1e+32
DECLINATION = -1e+32
OFFSET_ANGLE = -1e+32
SPACECRAFT_SOLAR_DISTANCE = 2.18749e+08
TARGET_NAME = MARS
/* CAMERA DATA ELEMENTS */
DETECTOR_TEMPERATURE = 18.5744
FOCAL_PLANE_TEMPERATURE = 8.1755
INST_CMPRS_NAME = "DISCRETE COSINE TRANSFORMATION (DCT)"
INST_CMPRS_RATIO = 9.16564
INST_CMPRS_QUALITY = 0
INST_CMPRS_QUANTZ_TBL_ID = 0
INSTRUMENT_TEMPERATURE = 11.0301
LENS_TEMPERATURE = 8.3794
MACROPIXEL_SIZE = 4
MISSING_FRAMES = 487
PIXEL_SUBSAMPLING_FLAG = N
SIGNAL_CHAIN_ID = 2
/* RADIOMETRIC DATA ELEMENTS */
BANDWIDTH = 48.0
CENTER_FILTER_WAVELENGTH = 748.0
RADIANCE_OFFSET = 0.557223
RADIANCE_SCALING_FACTOR = 0.00437038
REFLECTANCE_SCALING_FACTOR = 0.000477241
MEX:REFLECTANCE_OFFSET = 0.0608482
/* IMAGE OBJECT DEFINITIONS */
OBJECT = IMAGE
  INTERCHANGE_FORMAT = BINARY
  LINES = 20366
  LINE_SAMPLES = 2007
  SAMPLE_TYPE = UNSIGNED_INTEGER
  SAMPLE_BITS = 8
  BANDS = 1
  BAND_STORAGE_TYPE = BAND_SEQUENTIAL
  MAXIMUM = 255
  MEAN = 113.464
  MINIMUM = 1
  STANDARD_DEVIATION = 20.9466
END_OBJECT = IMAGE
/* MAP OBJECT DEFINITIONS */
OBJECT = IMAGE_MAP_PROJECTION
  ^DATA_SET_MAP_PROJECTION_CATALOG= "DSMAP.CAT"
  A_AXIS_RADIUS = 3396.0
  B_AXIS_RADIUS = 3396.0
  C_AXIS_RADIUS = 3396.0
  CENTER_LATITUDE = 0.0
  CENTER_LONGITUDE = 154.0
  COORDINATE_SYSTEM_NAME = PLANETOGRAPHIC
  COORDINATE_SYSTEM_TYPE = "BODY-FIXED ROTATING"
  EASTERNMOST_LONGITUDE = 154.611
  FIRST_STANDARD_PARALLEL = "N/A"
  LINE_FIRST_PIXEL = 1
  LINE_LAST_PIXEL = 20366
  LINE_PROJECTION_OFFSET = -3536.125
  MAP_PROJECTION_ROTATION = 0.0
  MAP_PROJECTION_TYPE = SINUSOIDAL
  MAP_RESOLUTION = 1185.42760773333
  MAP_SCALE = 0.05
  MAXIMUM_LATITUDE = -2.98524
  MINIMUM_LATITUDE = -20.1768
  POSITIVE_LONGITUDE_DIRECTION = EAST
  REFERENCE_LATITUDE = "N/A"
  REFERENCE_LONGITUDE = "N/A"
  SAMPLE_FIRST_PIXEL = 1
  SAMPLE_LAST_PIXEL = 2007
  SAMPLE_PROJECTION_OFFSET = 1330.625
  SECOND_STANDARD_PARALLEL = "N/A"
  WESTERNMOST_LONGITUDE = 152.796
END_OBJECT = IMAGE_MAP_PROJECTION
/* The JPEG2000 image data file associated with this label. */
OBJECT = COMPRESSED_FILE
  FILE_NAME = "H7199_0000_RE3.JP2"
  RECORD_TYPE = UNDEFINED
  FILE_RECORDS = UNK
  ENCODING_TYPE = "JP2"
  INTERCHANGE_FORMAT = BINARY
  UNCOMPRESSED_FILE_NAME = "H7199_0000_RE3.IMG"
  REQUIRED_STORAGE_BYTES = "40894632"
  ^DESCRIPTION = "JP2INFO.TXT"
END_OBJECT = COMPRESSED_FILE
END
