PDS_VERSION_ID = PDS3
/* FILE DATA ELEMENTS */
RECORD_TYPE = STREAM
/* POINTERS TO DATA OBJECTS */
^COMPRESSED_FILE = "H7200_0000_GR3.JP2"
/* IDENTIFICATION DATA ELEMENTS */
DATA_SET_ID = "MEX-M-HRSC-5-REFDR-MAPPROJECTED-V3.0"
DATA_SET_NAME = "MARS EXPRESS HRSC MAP PROJECTED REFDR V3.0"
DETECTOR_ID = MEX_HRSC_GREEN
EVENT_TYPE = "MARS-REGIONAL-MAPPING-Im-Fl-Gl"
INSTRUMENT_HOST_ID = MEX
INSTRUMENT_HOST_NAME = "MARS EXPRESS"
INSTRUMENT_ID = HRSC
INSTRUMENT_NAME = "HIGH RESOLUTION STEREO CAMERA"
MISSION_NAME = "MARS EXPRESS"
MISSION_PHASE_NAME = ME_Phase_18
PROCESSING_LEVEL_ID = 3
PRODUCT_CREATION_TIME = 2016-06-29T18:20:58.000Z
PRODUCT_ID = "H7200_0000_GR3.JP2"
RELEASE_ID = 0079
REVISION_ID = 0000
/* QUALITY DATA ELEMENTS */
DATA_QUALITY_ID = 1
DATA_QUALITY_DESC = "Data calculated based on original SPICE kernels"
/* TIME DATA ELEMENTS */
SPACECRAFT_CLOCK_START_COUNT = "1/0198239373.07304"
SPACECRAFT_CLOCK_STOP_COUNT = "1/0198239660.23653"
START_TIME = 2009-08-13T10:30:02.393Z
STOP_TIME = 2009-08-13T10:33:24.150Z
/* ORBITAL DATA ELEMENTS */
ASCENDING_NODE_LONGITUDE = 80.15
MAXIMUM_RESOLUTION = 57.6
FOOTPRINT_POINT_LATITUDE = (-7.64538,-7.64106,-7.63778,-7.7409, -8.16736,-8.59323,-8.81128,-9.06506, -9.31848,-9.6987,-9.95177,-10.2049, -10.4576,-10.7098,-10.9623,-11.2154, -11.4679,-11.7198,-11.9713,-12.2227, -12.474,-12.725,-13.1012,-13.3516, -13.6019,-13.8522,-14.1021,-14.3516, -14.6012,-14.8546,-15.1099,-15.3654, -15.6206,-15.8757,-16.1367,-16.3972, -16.6582,-16.9187,-17.1829,-17.4493, -17.7161,-17.9817,-18.3886,-18.6602, -19.0758,-19.3537,-19.6307,-19.907, -20.187,-20.3856,-20.388,-20.3907, -20.3918,-20.3921,-20.25,-19.9689, -19.6926,-19.4157,-19.1382,-18.7217, -18.45,-18.1782,-17.9096,-17.644, -17.2452,-16.9796,-16.7195,-16.4589, -16.1978,-15.8085,-15.5537,-15.2989, -15.0436,-14.6612,-14.4119,-14.1624, -13.9126,-13.6625,-13.412,-13.1615, -12.9109,-12.66,-12.2832,-12.0318, -11.7799,-11.4022,-11.1505,-10.8983, -10.6458,-10.3927,-10.1389,-9.75955, -9.50662,-9.25327,-8.99984,-8.75328, -8.32763,-7.90143,-7.68815,-7.64538)
FOOTPRINT_POINT_LONGITUDE = (53.6245,53.1601,52.8293,52.6268, 52.6198,52.6128,52.6091,52.6048,52.6007 ,52.5939,52.5896,52.585,52.5806,52.5764 ,52.5718,52.5661,52.5609,52.5561, 52.5515,52.5466,52.5416,52.5367,52.529, 52.5241,52.5189,52.5134,52.5081,52.5029 ,52.4974,52.4919,52.4866,52.4809,52.475 ,52.469,52.4631,52.4577,52.4514,52.4452 ,52.439,52.4327,52.4255,52.4194,52.409, 52.4024,52.392,52.3843,52.3772,52.3703, 52.363,52.4517,52.8016,53.2963,53.6016, 53.8589,54.0709,54.0638,54.0574,54.0505 ,54.0431,54.0341,54.0276,54.0217, 54.0162,54.0117,54.0053,53.9997,53.9951 ,53.9905,53.9852,53.9792,53.9752, 53.9718,53.9681,53.9625,53.9588,53.955, 53.9514,53.9478,53.9436,53.9403,53.9372 ,53.9342,53.9297,53.9271,53.9234,53.92, 53.9187,53.9167,53.9144,53.9112,53.9064 ,53.9043,53.9036,53.9023,53.9013, 53.8997,53.8974,53.8951,53.894,53.6245)
ORBIT_NUMBER = 7200
ORBITAL_ECCENTRICITY = 0.575
ORBITAL_INCLINATION = 86.8
ORBITAL_SEMIMAJOR_AXIS = 8778.63
PERIAPSIS_ALTITUDE = 331.79
PERIAPSIS_ARGUMENT_ANGLE = 175.21
PERIAPSIS_TIME = 2009-08-13T10:26:56.000Z
SPACECRAFT_ORIENTATION = (0.0,-1.0,0.0)
^MEX_ORIENTATION_DESC = "MEX_ORIENTATION_DESC.TXT"
SPACECRAFT_POINTING_MODE = ACROSSTRACK
^MEX_POINTING_DESC = "MEX_POINTING_DESC.TXT"
RIGHT_ASCENSION = -1e+32
DECLINATION = -1e+32
OFFSET_ANGLE = 0.3
SPACECRAFT_SOLAR_DISTANCE = 2.18801e+08
TARGET_NAME = MARS
/* CAMERA DATA ELEMENTS */
DETECTOR_TEMPERATURE = 17.351
FOCAL_PLANE_TEMPERATURE = 8.9911
INST_CMPRS_NAME = "DISCRETE COSINE TRANSFORMATION (DCT)"
INST_CMPRS_RATIO = 11.6758
INST_CMPRS_QUALITY = 0
INST_CMPRS_QUANTZ_TBL_ID = 0
INSTRUMENT_TEMPERATURE = 11.234
LENS_TEMPERATURE = 9.195
MACROPIXEL_SIZE = 4
MISSING_FRAMES = 1
PIXEL_SUBSAMPLING_FLAG = N
SIGNAL_CHAIN_ID = 2
/* RADIOMETRIC DATA ELEMENTS */
BANDWIDTH = 88.0
CENTER_FILTER_WAVELENGTH = 538.0
RADIANCE_OFFSET = 0.709363
RADIANCE_SCALING_FACTOR = 0.00350125
REFLECTANCE_SCALING_FACTOR = 0.000144316
MEX:REFLECTANCE_OFFSET = 0.0292388
/* IMAGE OBJECT DEFINITIONS */
OBJECT = IMAGE
  INTERCHANGE_FORMAT = BINARY
  LINES = 15140
  LINE_SAMPLES = 2018
  SAMPLE_TYPE = UNSIGNED_INTEGER
  SAMPLE_BITS = 8
  BANDS = 1
  BAND_STORAGE_TYPE = BAND_SEQUENTIAL
  MAXIMUM = 255
  MEAN = 108.161
  MINIMUM = 1
  STANDARD_DEVIATION = 19.188
END_OBJECT = IMAGE
/* MAP OBJECT DEFINITIONS */
OBJECT = IMAGE_MAP_PROJECTION
  ^DATA_SET_MAP_PROJECTION_CATALOG= "DSMAP.CAT"
  A_AXIS_RADIUS = 3396.0
  B_AXIS_RADIUS = 3396.0
  C_AXIS_RADIUS = 3396.0
  CENTER_LATITUDE = 0.0
  CENTER_LONGITUDE = 53.0
  COORDINATE_SYSTEM_NAME = PLANETOGRAPHIC
  COORDINATE_SYSTEM_TYPE = "BODY-FIXED ROTATING"
  EASTERNMOST_LONGITUDE = 54.0709
  FIRST_STANDARD_PARALLEL = "N/A"
  LINE_FIRST_PIXEL = 1
  LINE_LAST_PIXEL = 15140
  LINE_PROJECTION_OFFSET = -9043.875
  MAP_PROJECTION_ROTATION = 0.0
  MAP_PROJECTION_TYPE = SINUSOIDAL
  MAP_RESOLUTION = 1185.42760773333
  MAP_SCALE = 0.05
  MAXIMUM_LATITUDE = -7.63778
  MINIMUM_LATITUDE = -20.3921
  POSITIVE_LONGITUDE_DIRECTION = EAST
  REFERENCE_LATITUDE = "N/A"
  REFERENCE_LONGITUDE = "N/A"
  SAMPLE_FIRST_PIXEL = 1
  SAMPLE_LAST_PIXEL = 2018
  SAMPLE_PROJECTION_OFFSET = 754.375
  SECOND_STANDARD_PARALLEL = "N/A"
  WESTERNMOST_LONGITUDE = 52.363
END_OBJECT = IMAGE_MAP_PROJECTION
/* The JPEG2000 image data file associated with this label. */
OBJECT = COMPRESSED_FILE
  FILE_NAME = "H7200_0000_GR3.JP2"
  RECORD_TYPE = UNDEFINED
  FILE_RECORDS = UNK
  ENCODING_TYPE = "JP2"
  INTERCHANGE_FORMAT = BINARY
  UNCOMPRESSED_FILE_NAME = "H7200_0000_GR3.IMG"
  REQUIRED_STORAGE_BYTES = "30572700"
  ^DESCRIPTION = "JP2INFO.TXT"
END_OBJECT = COMPRESSED_FILE
END
