PDS_VERSION_ID = PDS3
/* FILE DATA ELEMENTS */
RECORD_TYPE = STREAM
/* POINTERS TO DATA OBJECTS */
^COMPRESSED_FILE = "H7200_0000_ND3.JP2"
/* IDENTIFICATION DATA ELEMENTS */
DATA_SET_ID = "MEX-M-HRSC-5-REFDR-MAPPROJECTED-V3.0"
DATA_SET_NAME = "MARS EXPRESS HRSC MAP PROJECTED REFDR V3.0"
DETECTOR_ID = MEX_HRSC_NADIR
EVENT_TYPE = "MARS-REGIONAL-MAPPING-Im-Fl-Gl"
INSTRUMENT_HOST_ID = MEX
INSTRUMENT_HOST_NAME = "MARS EXPRESS"
INSTRUMENT_ID = HRSC
INSTRUMENT_NAME = "HIGH RESOLUTION STEREO CAMERA"
MISSION_NAME = "MARS EXPRESS"
MISSION_PHASE_NAME = ME_Phase_18
PROCESSING_LEVEL_ID = 3
PRODUCT_CREATION_TIME = 2016-06-29T18:20:58.000Z
PRODUCT_ID = "H7200_0000_ND3.JP2"
RELEASE_ID = 0079
REVISION_ID = 0000
/* QUALITY DATA ELEMENTS */
DATA_QUALITY_ID = 1
DATA_QUALITY_DESC = "Data calculated based on original SPICE kernels"
/* TIME DATA ELEMENTS */
SPACECRAFT_CLOCK_START_COUNT = "1/0198239373.07304"
SPACECRAFT_CLOCK_STOP_COUNT = "1/0198239660.23653"
START_TIME = 2009-08-13T10:30:07.822Z
STOP_TIME = 2009-08-13T10:33:31.803Z
/* ORBITAL DATA ELEMENTS */
ASCENDING_NODE_LONGITUDE = 80.15
MAXIMUM_RESOLUTION = 14.5
FOOTPRINT_POINT_LATITUDE = (-7.63417,-7.63271,-7.63085,-7.94859, -8.37378,-8.74492,-8.99813,-9.25113, -9.50394,-9.75653,-10.0089,-10.2611, -10.5131,-10.7648,-11.0163,-11.2675, -11.5185,-11.7693,-12.0199,-12.2702, -12.5203,-12.7702,-13.0198,-13.2692, -13.5183,-13.7671,-14.0156,-14.264, -14.6452,-14.8995,-15.1536,-15.4073, -15.7956,-16.0552,-16.3146,-16.5736, -16.9707,-17.2355,-17.5,-17.7678, -18.0381,-18.308,-18.5776,-18.9898, -19.2649,-19.5396,-19.8196,-20.1, -20.3799,-20.3993,-20.4,-20.3999, -20.3993,-20.3981,-20.1184,-19.8383, -19.5582,-19.2837,-19.0088,-18.5965, -18.3272,-18.0575,-17.7873,-17.5192, -17.2549,-16.8579,-16.593,-16.3342, -16.0751,-15.8155,-15.4271,-15.1734, -14.9195,-14.5381,-14.2839,-14.0357, -13.7872,-13.5385,-13.2896,-13.0403, -12.7908,-12.5411,-12.2911,-12.0409, -11.7904,-11.5397,-11.2887,-11.0375, -10.7861,-10.5344,-10.2826,-10.0306, -9.77825,-9.52569,-9.27295,-9.01999, -8.76686,-8.3933,-7.9682,-7.63417)
FOOTPRINT_POINT_LONGITUDE = (53.5453,53.2527,52.9242,52.6133, 52.6061,52.5998,52.5954,52.591,52.5866, 52.5821,52.5776,52.5728,52.5685,52.5641 ,52.5593,52.5532,52.5483,52.5433, 52.5385,52.5335,52.5283,52.5233,52.5181 ,52.513,52.5077,52.5021,52.4967,52.4914 ,52.4828,52.4771,52.4716,52.4657, 52.4564,52.4503,52.4447,52.4385,52.4287 ,52.4223,52.4158,52.4086,52.4018, 52.3947,52.3878,52.3773,52.3696,52.362, 52.3548,52.3474,52.3397,52.8172,53.2629 ,53.5214,53.8324,54.0839,54.0766, 54.0694,54.0623,54.0549,54.0487,54.0392 ,54.033,54.027,54.0216,54.0169,54.0128, 54.0045,53.9999,53.9949,53.9897,53.9858 ,53.9797,53.9765,53.9723,53.9668, 53.9628,53.9591,53.9552,53.9515,53.9475 ,53.9439,53.9409,53.9379,53.9347,53.932 ,53.9283,53.9257,53.9239,53.9223, 53.9201,53.9177,53.9128,53.9099,53.9084 ,53.9076,53.9062,53.9051,53.9034, 53.9013,53.8986,53.5453)
ORBIT_NUMBER = 7200
ORBITAL_ECCENTRICITY = 0.575
ORBITAL_INCLINATION = 86.8
ORBITAL_SEMIMAJOR_AXIS = 8778.63
PERIAPSIS_ALTITUDE = 331.79
PERIAPSIS_ARGUMENT_ANGLE = 175.21
PERIAPSIS_TIME = 2009-08-13T10:26:56.000Z
SPACECRAFT_ORIENTATION = (0.0,-1.0,0.0)
^MEX_ORIENTATION_DESC = "MEX_ORIENTATION_DESC.TXT"
SPACECRAFT_POINTING_MODE = ACROSSTRACK
^MEX_POINTING_DESC = "MEX_POINTING_DESC.TXT"
RIGHT_ASCENSION = -1e+32
DECLINATION = -1e+32
OFFSET_ANGLE = 0.3
SPACECRAFT_SOLAR_DISTANCE = 2.18801e+08
TARGET_NAME = MARS
/* CAMERA DATA ELEMENTS */
DETECTOR_TEMPERATURE = 17.351
FOCAL_PLANE_TEMPERATURE = 8.9911
INST_CMPRS_NAME = "DISCRETE COSINE TRANSFORMATION (DCT)"
INST_CMPRS_RATIO = 7.16649
INST_CMPRS_QUALITY = 0
INST_CMPRS_QUANTZ_TBL_ID = 0
INSTRUMENT_TEMPERATURE = 11.234
LENS_TEMPERATURE = 9.195
MACROPIXEL_SIZE = 1
MISSING_FRAMES = 0
PIXEL_SUBSAMPLING_FLAG = N
SIGNAL_CHAIN_ID = 0
/* RADIOMETRIC DATA ELEMENTS */
BANDWIDTH = 177.0
CENTER_FILTER_WAVELENGTH = 677.5
RADIANCE_OFFSET = 1.4179
RADIANCE_SCALING_FACTOR = 0.0122329
REFLECTANCE_SCALING_FACTOR = 0.00031111
MEX:REFLECTANCE_OFFSET = 0.0360605
/* IMAGE OBJECT DEFINITIONS */
OBJECT = IMAGE
  INTERCHANGE_FORMAT = BINARY
  LINES = 60558
  LINE_SAMPLES = 8069
  SAMPLE_TYPE = UNSIGNED_INTEGER
  SAMPLE_BITS = 8
  BANDS = 1
  BAND_STORAGE_TYPE = BAND_SEQUENTIAL
  MAXIMUM = 255
  MEAN = 93.7851
  MINIMUM = 1
  STANDARD_DEVIATION = 21.9041
END_OBJECT = IMAGE
/* MAP OBJECT DEFINITIONS */
OBJECT = IMAGE_MAP_PROJECTION
  ^DATA_SET_MAP_PROJECTION_CATALOG= "DSMAP.CAT"
  A_AXIS_RADIUS = 3396.0
  B_AXIS_RADIUS = 3396.0
  C_AXIS_RADIUS = 3396.0
  CENTER_LATITUDE = 0.0
  CENTER_LONGITUDE = 53.0
  COORDINATE_SYSTEM_NAME = PLANETOGRAPHIC
  COORDINATE_SYSTEM_TYPE = "BODY-FIXED ROTATING"
  EASTERNMOST_LONGITUDE = 54.0839
  FIRST_STANDARD_PARALLEL = "N/A"
  LINE_FIRST_PIXEL = 1
  LINE_LAST_PIXEL = 60558
  LINE_PROJECTION_OFFSET = -36174.0
  MAP_PROJECTION_ROTATION = 0.0
  MAP_PROJECTION_TYPE = SINUSOIDAL
  MAP_RESOLUTION = 4741.71043093333
  MAP_SCALE = 0.0125
  MAXIMUM_LATITUDE = -7.63085
  MINIMUM_LATITUDE = -20.4
  POSITIVE_LONGITUDE_DIRECTION = EAST
  REFERENCE_LATITUDE = "N/A"
  REFERENCE_LONGITUDE = "N/A"
  SAMPLE_FIRST_PIXEL = 1
  SAMPLE_LAST_PIXEL = 8069
  SAMPLE_PROJECTION_OFFSET = 3019.0
  SECOND_STANDARD_PARALLEL = "N/A"
  WESTERNMOST_LONGITUDE = 52.3397
END_OBJECT = IMAGE_MAP_PROJECTION
/* The JPEG2000 image data file associated with this label. */
OBJECT = COMPRESSED_FILE
  FILE_NAME = "H7200_0000_ND3.JP2"
  RECORD_TYPE = UNDEFINED
  FILE_RECORDS = UNK
  ENCODING_TYPE = "JP2"
  INTERCHANGE_FORMAT = BINARY
  UNCOMPRESSED_FILE_NAME = "H7200_0000_ND3.IMG"
  REQUIRED_STORAGE_BYTES = "488674778"
  ^DESCRIPTION = "JP2INFO.TXT"
END_OBJECT = COMPRESSED_FILE
END
