PDS_VERSION_ID = PDS3
/* FILE DATA ELEMENTS */
RECORD_TYPE = STREAM
/* POINTERS TO DATA OBJECTS */
^COMPRESSED_FILE = "H7203_0000_IR3.JP2"
/* IDENTIFICATION DATA ELEMENTS */
DATA_SET_ID = "MEX-M-HRSC-5-REFDR-MAPPROJECTED-V3.0"
DATA_SET_NAME = "MARS EXPRESS HRSC MAP PROJECTED REFDR V3.0"
DETECTOR_ID = MEX_HRSC_IR
EVENT_TYPE = "MARS-REGIONAL-MAPPING-Vo-Im-Fl"
INSTRUMENT_HOST_ID = MEX
INSTRUMENT_HOST_NAME = "MARS EXPRESS"
INSTRUMENT_ID = HRSC
INSTRUMENT_NAME = "HIGH RESOLUTION STEREO CAMERA"
MISSION_NAME = "MARS EXPRESS"
MISSION_PHASE_NAME = ME_Phase_18
PROCESSING_LEVEL_ID = 3
PRODUCT_CREATION_TIME = 2016-06-30T05:04:16.000Z
PRODUCT_ID = "H7203_0000_IR3.JP2"
RELEASE_ID = 0080
REVISION_ID = 0000
/* QUALITY DATA ELEMENTS */
DATA_QUALITY_ID = 1
DATA_QUALITY_DESC = "Data calculated based on original SPICE kernels"
/* TIME DATA ELEMENTS */
SPACECRAFT_CLOCK_START_COUNT = "1/0198313789.07318"
SPACECRAFT_CLOCK_STOP_COUNT = "1/0198314154.16231"
START_TIME = 2009-08-14T07:09:56.813Z
STOP_TIME = 2009-08-14T07:14:25.431Z
/* ORBITAL DATA ELEMENTS */
ASCENDING_NODE_LONGITUDE = 80.1
MAXIMUM_RESOLUTION = 57.6
FOOTPRINT_POINT_LATITUDE = (-4.13576,-4.13357,-4.13186,-4.28317, -4.74882,-5.20281,-5.50481,-5.81195, -6.11864,-6.42486,-6.88434,-7.19083, -7.4969,-7.80242,-8.41458,-8.87423, -9.33352,-9.63968,-9.99674,-10.3619, -10.9091,-11.2739,-11.6378,-12.1837, -12.5489,-12.9125,-13.2761,-13.6397, -14.0032,-14.3657,-14.9096,-15.2724, -15.6346,-16.0031,-16.3743,-16.7447, -17.3099,-17.69,-18.0695,-18.6511, -19.0393,-19.6314,-20.0278,-20.429, -20.8348,-21.2405,-21.4474,-21.6548, -21.6645,-21.6662,-21.6671,-21.6679, -21.6673,-21.4604,-21.2533,-21.0503, -20.6448,-20.4419,-20.0406,-19.6448, -19.0526,-18.4706,-18.0825,-17.7031, -17.323,-16.9433,-16.5727,-16.2018, -15.8304,-15.4664,-15.1045,-14.7422, -14.3807,-14.0162,-13.6534,-13.1077, -12.744,-12.3801,-11.8335,-11.2872, -10.9228,-10.3752,-10.0097,-9.6515, -9.34543,-9.03829,-8.73349,-8.2761, -7.9701,-7.50998,-7.05072,-6.74448, -6.43788,-6.1315,-5.82541,-5.36624, -5.05955,-4.60159,-4.29464,-4.13576)
FOOTPRINT_POINT_LONGITUDE = (110.918,110.648,110.411,109.877, 109.868,109.864,109.862,109.857,109.852 ,109.848,109.841,109.836,109.832, 109.827,109.817,109.809,109.801,109.796 ,109.789,109.782,109.772,109.765, 109.758,109.748,109.74,109.732,109.725, 109.717,109.709,109.701,109.689,109.681 ,109.673,109.664,109.655,109.647, 109.633,109.623,109.614,109.599,109.589 ,109.574,109.563,109.552,109.541, 109.529,109.524,109.518,109.988,110.378 ,110.605,110.979,111.261,111.256, 111.251,111.247,111.238,111.234,111.225 ,111.218,111.207,111.196,111.19,111.183 ,111.177,111.171,111.166,111.161, 111.156,111.151,111.147,111.142,111.138 ,111.134,111.13,111.125,111.121,111.118 ,111.113,111.109,111.107,111.103,111.1, 111.098,111.097,111.095,111.094,111.093 ,111.092,111.09,111.089,111.088,111.087 ,111.087,111.087,111.086,111.086, 111.086,111.086,110.918)
ORBIT_NUMBER = 7203
ORBITAL_ECCENTRICITY = 0.575
ORBITAL_INCLINATION = 86.79
ORBITAL_SEMIMAJOR_AXIS = 8777.53
PERIAPSIS_ALTITUDE = 332.16
PERIAPSIS_ARGUMENT_ANGLE = 174.64
PERIAPSIS_TIME = 2009-08-14T07:07:56.000Z
SPACECRAFT_ORIENTATION = (0.0,-1.0,0.0)
^MEX_ORIENTATION_DESC = "MEX_ORIENTATION_DESC.TXT"
SPACECRAFT_POINTING_MODE = NADIR
^MEX_POINTING_DESC = "MEX_POINTING_DESC.TXT"
RIGHT_ASCENSION = -1e+32
DECLINATION = -1e+32
OFFSET_ANGLE = -1e+32
SPACECRAFT_SOLAR_DISTANCE = 2.18959e+08
TARGET_NAME = MARS
/* CAMERA DATA ELEMENTS */
DETECTOR_TEMPERATURE = 17.5549
FOCAL_PLANE_TEMPERATURE = 8.9911
INST_CMPRS_NAME = "DISCRETE COSINE TRANSFORMATION (DCT)"
INST_CMPRS_RATIO = 8.45872
INST_CMPRS_QUALITY = 0
INST_CMPRS_QUANTZ_TBL_ID = 0
INSTRUMENT_TEMPERATURE = 11.234
LENS_TEMPERATURE = 10.6223
MACROPIXEL_SIZE = 4
MISSING_FRAMES = 0
PIXEL_SUBSAMPLING_FLAG = N
SIGNAL_CHAIN_ID = 2
/* RADIOMETRIC DATA ELEMENTS */
BANDWIDTH = 81.0
CENTER_FILTER_WAVELENGTH = 955.5
RADIANCE_OFFSET = 0.405037
RADIANCE_SCALING_FACTOR = 0.00300348
REFLECTANCE_SCALING_FACTOR = 0.000310657
MEX:REFLECTANCE_OFFSET = 0.0418938
/* IMAGE OBJECT DEFINITIONS */
OBJECT = IMAGE
  INTERCHANGE_FORMAT = BINARY
  LINES = 20796
  LINE_SAMPLES = 2106
  SAMPLE_TYPE = UNSIGNED_INTEGER
  SAMPLE_BITS = 8
  BANDS = 1
  BAND_STORAGE_TYPE = BAND_SEQUENTIAL
  MAXIMUM = 255
  MEAN = 84.0891
  MINIMUM = 1
  STANDARD_DEVIATION = 18.3552
END_OBJECT = IMAGE
/* MAP OBJECT DEFINITIONS */
OBJECT = IMAGE_MAP_PROJECTION
  ^DATA_SET_MAP_PROJECTION_CATALOG= "DSMAP.CAT"
  A_AXIS_RADIUS = 3396.0
  B_AXIS_RADIUS = 3396.0
  C_AXIS_RADIUS = 3396.0
  CENTER_LATITUDE = 0.0
  CENTER_LONGITUDE = 110.0
  COORDINATE_SYSTEM_NAME = PLANETOGRAPHIC
  COORDINATE_SYSTEM_TYPE = "BODY-FIXED ROTATING"
  EASTERNMOST_LONGITUDE = 111.261
  FIRST_STANDARD_PARALLEL = "N/A"
  LINE_FIRST_PIXEL = 1
  LINE_LAST_PIXEL = 20796
  LINE_PROJECTION_OFFSET = -4906.125
  MAP_PROJECTION_ROTATION = 0.0
  MAP_PROJECTION_TYPE = SINUSOIDAL
  MAP_RESOLUTION = 1185.42760773333
  MAP_SCALE = 0.05
  MAXIMUM_LATITUDE = -4.13186
  MINIMUM_LATITUDE = -21.6679
  POSITIVE_LONGITUDE_DIRECTION = EAST
  REFERENCE_LATITUDE = "N/A"
  REFERENCE_LONGITUDE = "N/A"
  SAMPLE_FIRST_PIXEL = 1
  SAMPLE_LAST_PIXEL = 2106
  SAMPLE_PROJECTION_OFFSET = 626.125
  SECOND_STANDARD_PARALLEL = "N/A"
  WESTERNMOST_LONGITUDE = 109.518
END_OBJECT = IMAGE_MAP_PROJECTION
/* The JPEG2000 image data file associated with this label. */
OBJECT = COMPRESSED_FILE
  FILE_NAME = "H7203_0000_IR3.JP2"
  RECORD_TYPE = UNDEFINED
  FILE_RECORDS = UNK
  ENCODING_TYPE = "JP2"
  INTERCHANGE_FORMAT = BINARY
  UNCOMPRESSED_FILE_NAME = "H7203_0000_IR3.IMG"
  REQUIRED_STORAGE_BYTES = "43817436"
  ^DESCRIPTION = "JP2INFO.TXT"
END_OBJECT = COMPRESSED_FILE
END
