PDS_VERSION_ID = PDS3
/* FILE DATA ELEMENTS */
RECORD_TYPE = STREAM
/* POINTERS TO DATA OBJECTS */
^COMPRESSED_FILE = "H7205_0000_ND3.JP2"
/* IDENTIFICATION DATA ELEMENTS */
DATA_SET_ID = "MEX-M-HRSC-5-REFDR-MAPPROJECTED-V3.0"
DATA_SET_NAME = "MARS EXPRESS HRSC MAP PROJECTED REFDR V3.0"
DETECTOR_ID = MEX_HRSC_NADIR
EVENT_TYPE = "MARS-REGIONAL-MAPPING-Vo-Te"
INSTRUMENT_HOST_ID = MEX
INSTRUMENT_HOST_NAME = "MARS EXPRESS"
INSTRUMENT_ID = HRSC
INSTRUMENT_NAME = "HIGH RESOLUTION STEREO CAMERA"
MISSION_NAME = "MARS EXPRESS"
MISSION_PHASE_NAME = ME_Phase_18
PROCESSING_LEVEL_ID = 3
PRODUCT_CREATION_TIME = 2016-06-30T05:04:16.000Z
PRODUCT_ID = "H7205_0000_ND3.JP2"
RELEASE_ID = 0080
REVISION_ID = 0000
/* QUALITY DATA ELEMENTS */
DATA_QUALITY_ID = 1
DATA_QUALITY_DESC = "Data calculated based on original SPICE kernels"
/* TIME DATA ELEMENTS */
SPACECRAFT_CLOCK_START_COUNT = "1/0198363566.09062"
SPACECRAFT_CLOCK_STOP_COUNT = "1/0198363916.45701"
START_TIME = 2009-08-14T21:00:04.337Z
STOP_TIME = 2009-08-14T21:04:12.344Z
/* ORBITAL DATA ELEMENTS */
ASCENDING_NODE_LONGITUDE = 80.06
MAXIMUM_RESOLUTION = 15.8
FOOTPRINT_POINT_LATITUDE = (-12.4192,-12.4163,-12.4127,-12.4106, -12.8041,-13.3278,-13.7283,-13.9963, -14.2639,-14.5313,-14.8039,-15.0776, -15.3509,-15.6239,-15.9017,-16.1809, -16.4597,-16.8807,-17.1655,-17.4499, -17.7338,-18.0241,-18.3141,-18.6036, -18.8981,-19.1935,-19.4885,-19.7877, -20.0885,-20.3888,-20.8474,-21.1531, -21.4621,-21.7735,-22.0844,-22.4012, -22.7175,-23.198,-23.5193,-24.0083, -24.3346,-24.6667,-24.9981,-25.335, -25.6714,-26.0129,-26.5276,-26.8743, -27.2238,-27.4031,-27.4057,-27.4081, -27.4083,-27.4077,-27.2305,-26.8812, -26.5349,-26.0205,-25.6792,-25.343, -25.0063,-24.6752,-24.3432,-24.0171, -23.5284,-23.2073,-22.7269,-22.4108, -22.0941,-21.7833,-21.472,-21.1631, -20.8575,-20.399,-20.0988,-19.7981, -19.4989,-19.204,-18.9086,-18.6142, -18.3247,-18.0348,-17.7444,-17.4605, -17.1762,-16.8914,-16.4705,-16.1916, -15.9124,-15.6346,-15.3616,-15.0883, -14.8146,-14.542,-14.2747,-14.007, -13.739,-13.3385,-12.8148,-12.4192)
FOOTPRINT_POINT_LONGITUDE = (268.86,268.408,267.953,267.648,267.639 ,267.625,267.615,267.608,267.601, 267.594,267.586,267.578,267.571,267.563 ,267.555,267.547,267.539,267.526, 267.518,267.509,267.5,267.491,267.482, 267.472,267.463,267.453,267.443,267.434 ,267.423,267.413,267.397,267.386, 267.375,267.364,267.353,267.342,267.33, 267.312,267.3,267.281,267.268,267.255, 267.242,267.228,267.215,267.201,267.179 ,267.165,267.15,267.431,267.786,268.36, 268.734,269.085,269.374,269.361,269.349 ,269.332,269.321,269.311,269.3,269.29, 269.281,269.271,269.258,269.249,269.237 ,269.229,269.221,269.214,269.207, 269.199,269.193,269.183,269.177,269.17, 269.165,269.159,269.153,269.148,269.143 ,269.138,269.133,269.128,269.124, 269.119,269.113,269.109,269.105,269.101 ,269.098,269.094,269.091,269.088, 269.084,269.081,269.079,269.074,269.069 ,268.86)
ORBIT_NUMBER = 7205
ORBITAL_ECCENTRICITY = 0.576
ORBITAL_INCLINATION = 86.79
ORBITAL_SEMIMAJOR_AXIS = 8784.39
PERIAPSIS_ALTITUDE = 332.35
PERIAPSIS_ARGUMENT_ANGLE = 174.31
PERIAPSIS_TIME = 2009-08-14T20:55:23.000Z
SPACECRAFT_ORIENTATION = (0.0,-1.0,0.0)
^MEX_ORIENTATION_DESC = "MEX_ORIENTATION_DESC.TXT"
SPACECRAFT_POINTING_MODE = ACROSSTRACK
^MEX_POINTING_DESC = "MEX_POINTING_DESC.TXT"
RIGHT_ASCENSION = -1e+32
DECLINATION = -1e+32
OFFSET_ANGLE = -0.37
SPACECRAFT_SOLAR_DISTANCE = 2.19065e+08
TARGET_NAME = MARS
/* CAMERA DATA ELEMENTS */
DETECTOR_TEMPERATURE = 17.9627
FOCAL_PLANE_TEMPERATURE = 8.3794
INST_CMPRS_NAME = "DISCRETE COSINE TRANSFORMATION (DCT)"
INST_CMPRS_RATIO = 6.83915
INST_CMPRS_QUALITY = 0
INST_CMPRS_QUANTZ_TBL_ID = 0
INSTRUMENT_TEMPERATURE = 11.4379
LENS_TEMPERATURE = 8.7872
MACROPIXEL_SIZE = 1
MISSING_FRAMES = 0
PIXEL_SUBSAMPLING_FLAG = N
SIGNAL_CHAIN_ID = 0
/* RADIOMETRIC DATA ELEMENTS */
BANDWIDTH = 177.0
CENTER_FILTER_WAVELENGTH = 677.5
RADIANCE_OFFSET = 1.49894
RADIANCE_SCALING_FACTOR = 0.0169667
REFLECTANCE_SCALING_FACTOR = 0.000432544
MEX:REFLECTANCE_OFFSET = 0.0382137
/* IMAGE OBJECT DEFINITIONS */
OBJECT = IMAGE
  INTERCHANGE_FORMAT = BINARY
  LINES = 71119
  LINE_SAMPLES = 9720
  SAMPLE_TYPE = UNSIGNED_INTEGER
  SAMPLE_BITS = 8
  BANDS = 1
  BAND_STORAGE_TYPE = BAND_SEQUENTIAL
  MAXIMUM = 255
  MEAN = 96.6149
  MINIMUM = 1
  STANDARD_DEVIATION = 14.1166
END_OBJECT = IMAGE
/* MAP OBJECT DEFINITIONS */
OBJECT = IMAGE_MAP_PROJECTION
  ^DATA_SET_MAP_PROJECTION_CATALOG= "DSMAP.CAT"
  A_AXIS_RADIUS = 3396.0
  B_AXIS_RADIUS = 3396.0
  C_AXIS_RADIUS = 3396.0
  CENTER_LATITUDE = 0.0
  CENTER_LONGITUDE = 268.0
  COORDINATE_SYSTEM_NAME = PLANETOGRAPHIC
  COORDINATE_SYSTEM_TYPE = "BODY-FIXED ROTATING"
  EASTERNMOST_LONGITUDE = 269.374
  FIRST_STANDARD_PARALLEL = "N/A"
  LINE_FIRST_PIXEL = 1
  LINE_LAST_PIXEL = 71119
  LINE_PROJECTION_OFFSET = -58843.0
  MAP_PROJECTION_ROTATION = 0.0
  MAP_PROJECTION_TYPE = SINUSOIDAL
  MAP_RESOLUTION = 4741.71043093333
  MAP_SCALE = 0.0125
  MAXIMUM_LATITUDE = -12.4106
  MINIMUM_LATITUDE = -27.4083
  POSITIVE_LONGITUDE_DIRECTION = EAST
  REFERENCE_LATITUDE = "N/A"
  REFERENCE_LONGITUDE = "N/A"
  SAMPLE_FIRST_PIXEL = 1
  SAMPLE_LAST_PIXEL = 9720
  SAMPLE_PROJECTION_OFFSET = 3826.0
  SECOND_STANDARD_PARALLEL = "N/A"
  WESTERNMOST_LONGITUDE = 267.15
END_OBJECT = IMAGE_MAP_PROJECTION
/* The JPEG2000 image data file associated with this label. */
OBJECT = COMPRESSED_FILE
  FILE_NAME = "H7205_0000_ND3.JP2"
  RECORD_TYPE = UNDEFINED
  FILE_RECORDS = UNK
  ENCODING_TYPE = "JP2"
  INTERCHANGE_FORMAT = BINARY
  UNCOMPRESSED_FILE_NAME = "H7205_0000_ND3.IMG"
  REQUIRED_STORAGE_BYTES = "691305840"
  ^DESCRIPTION = "JP2INFO.TXT"
END_OBJECT = COMPRESSED_FILE
END
