PDS_VERSION_ID = PDS3
/* FILE DATA ELEMENTS */
RECORD_TYPE = STREAM
/* POINTERS TO DATA OBJECTS */
^COMPRESSED_FILE = "H7205_0000_P23.JP2"
/* IDENTIFICATION DATA ELEMENTS */
DATA_SET_ID = "MEX-M-HRSC-5-REFDR-MAPPROJECTED-V3.0"
DATA_SET_NAME = "MARS EXPRESS HRSC MAP PROJECTED REFDR V3.0"
DETECTOR_ID = MEX_HRSC_P2
EVENT_TYPE = "MARS-REGIONAL-MAPPING-Vo-Te"
INSTRUMENT_HOST_ID = MEX
INSTRUMENT_HOST_NAME = "MARS EXPRESS"
INSTRUMENT_ID = HRSC
INSTRUMENT_NAME = "HIGH RESOLUTION STEREO CAMERA"
MISSION_NAME = "MARS EXPRESS"
MISSION_PHASE_NAME = ME_Phase_18
PROCESSING_LEVEL_ID = 3
PRODUCT_CREATION_TIME = 2016-06-30T05:04:16.000Z
PRODUCT_ID = "H7205_0000_P23.JP2"
RELEASE_ID = 0080
REVISION_ID = 0000
/* QUALITY DATA ELEMENTS */
DATA_QUALITY_ID = 1
DATA_QUALITY_DESC = "Data calculated based on original SPICE kernels"
/* TIME DATA ELEMENTS */
SPACECRAFT_CLOCK_START_COUNT = "1/0198363566.09062"
SPACECRAFT_CLOCK_STOP_COUNT = "1/0198363916.45701"
START_TIME = 2009-08-14T21:00:29.753Z
STOP_TIME = 2009-08-14T21:04:53.267Z
/* ORBITAL DATA ELEMENTS */
ASCENDING_NODE_LONGITUDE = 80.06
MAXIMUM_RESOLUTION = 33.7
FOOTPRINT_POINT_LATITUDE = (-12.4268,-12.4181,-12.4285,-12.6891, -12.9488,-13.214,-13.4796,-13.7446, -14.0092,-14.4142,-14.6842,-14.9537, -15.3644,-15.6394,-15.9137,-16.3312, -16.6108,-16.8901,-17.1745,-17.4586, -17.7421,-18.0306,-18.3193,-18.7548, -19.0483,-19.3412,-19.7878,-20.0855, -20.5381,-20.8401,-21.1467,-21.6069, -21.919,-22.23,-22.545,-22.8606, -23.1796,-23.4997,-23.8231,-24.1472, -24.4749,-24.8034,-25.1361,-25.6382, -25.9755,-26.3165,-26.6587,-27.0041, -27.4144,-27.422,-27.429,-27.4313, -27.4319,-27.2561,-26.9097,-26.5649, -26.2243,-25.7167,-25.3807,-25.0479, -24.5532,-24.225,-23.9008,-23.5771, -23.2574,-22.9377,-22.622,-22.3063, -21.9954,-21.5297,-21.2231,-20.916, -20.4627,-20.1605,-19.714,-19.4158, -19.123,-18.8294,-18.5372,-18.2488, -17.9596,-17.5312,-17.247,-16.8223, -16.5435,-16.2636,-15.9847,-15.7106, -15.4358,-15.0244,-14.755,-14.4851, -14.2144,-13.8145,-13.5495,-13.2841, -13.0179,-12.7582,-12.4982,-12.4268)
FOOTPRINT_POINT_LONGITUDE = (268.751,268.29,267.62,267.613,267.606, 267.599,267.591,267.584,267.576,267.564 ,267.556,267.548,267.536,267.527, 267.519,267.505,267.496,267.487,267.478 ,267.468,267.458,267.448,267.438, 267.423,267.412,267.402,267.385,267.374 ,267.357,267.345,267.334,267.315, 267.303,267.291,267.278,267.265,267.251 ,267.238,267.224,267.21,267.196,267.181 ,267.166,267.143,267.128,267.112, 267.095,267.079,267.315,267.758,268.383 ,268.822,269.121,269.444,269.43,269.417 ,269.404,269.385,269.372,269.361, 269.344,269.333,269.323,269.312,269.303 ,269.293,269.284,269.275,269.266, 269.254,269.246,269.238,269.226,269.219 ,269.209,269.202,269.196,269.189, 269.183,269.177,269.172,269.163,269.158 ,269.15,269.146,269.141,269.136,269.132 ,269.128,269.121,269.117,269.114,269.11 ,269.105,269.101,269.098,269.095, 269.092,269.089,268.751)
ORBIT_NUMBER = 7205
ORBITAL_ECCENTRICITY = 0.576
ORBITAL_INCLINATION = 86.79
ORBITAL_SEMIMAJOR_AXIS = 8784.39
PERIAPSIS_ALTITUDE = 332.35
PERIAPSIS_ARGUMENT_ANGLE = 174.31
PERIAPSIS_TIME = 2009-08-14T20:55:23.000Z
SPACECRAFT_ORIENTATION = (0.0,-1.0,0.0)
^MEX_ORIENTATION_DESC = "MEX_ORIENTATION_DESC.TXT"
SPACECRAFT_POINTING_MODE = ACROSSTRACK
^MEX_POINTING_DESC = "MEX_POINTING_DESC.TXT"
RIGHT_ASCENSION = -1e+32
DECLINATION = -1e+32
OFFSET_ANGLE = -0.37
SPACECRAFT_SOLAR_DISTANCE = 2.19065e+08
TARGET_NAME = MARS
/* CAMERA DATA ELEMENTS */
DETECTOR_TEMPERATURE = 18.3705
FOCAL_PLANE_TEMPERATURE = 8.3794
INST_CMPRS_NAME = "DISCRETE COSINE TRANSFORMATION (DCT)"
INST_CMPRS_RATIO = 6.04054
INST_CMPRS_QUALITY = 0
INST_CMPRS_QUANTZ_TBL_ID = 0
INSTRUMENT_TEMPERATURE = 11.4379
LENS_TEMPERATURE = 8.7872
MACROPIXEL_SIZE = 2
MISSING_FRAMES = 0
PIXEL_SUBSAMPLING_FLAG = N
SIGNAL_CHAIN_ID = 3
/* RADIOMETRIC DATA ELEMENTS */
BANDWIDTH = 177.0
CENTER_FILTER_WAVELENGTH = 676.5
RADIANCE_OFFSET = 1.66428
RADIANCE_SCALING_FACTOR = 0.0173674
REFLECTANCE_SCALING_FACTOR = 0.000441916
MEX:REFLECTANCE_OFFSET = 0.042348
/* IMAGE OBJECT DEFINITIONS */
OBJECT = IMAGE
  INTERCHANGE_FORMAT = BINARY
  LINES = 35560
  LINE_SAMPLES = 4860
  SAMPLE_TYPE = UNSIGNED_INTEGER
  SAMPLE_BITS = 8
  BANDS = 1
  BAND_STORAGE_TYPE = BAND_SEQUENTIAL
  MAXIMUM = 255
  MEAN = 97.6727
  MINIMUM = 1
  STANDARD_DEVIATION = 14.6706
END_OBJECT = IMAGE
/* MAP OBJECT DEFINITIONS */
OBJECT = IMAGE_MAP_PROJECTION
  ^DATA_SET_MAP_PROJECTION_CATALOG= "DSMAP.CAT"
  A_AXIS_RADIUS = 3396.0
  B_AXIS_RADIUS = 3396.0
  C_AXIS_RADIUS = 3396.0
  CENTER_LATITUDE = 0.0
  CENTER_LONGITUDE = 268.0
  COORDINATE_SYSTEM_NAME = PLANETOGRAPHIC
  COORDINATE_SYSTEM_TYPE = "BODY-FIXED ROTATING"
  EASTERNMOST_LONGITUDE = 269.444
  FIRST_STANDARD_PARALLEL = "N/A"
  LINE_FIRST_PIXEL = 1
  LINE_LAST_PIXEL = 35560
  LINE_PROJECTION_OFFSET = -29421.75
  MAP_PROJECTION_ROTATION = 0.0
  MAP_PROJECTION_TYPE = SINUSOIDAL
  MAP_RESOLUTION = 2370.85521546667
  MAP_SCALE = 0.025
  MAXIMUM_LATITUDE = -12.4181
  MINIMUM_LATITUDE = -27.4319
  POSITIVE_LONGITUDE_DIRECTION = EAST
  REFERENCE_LATITUDE = "N/A"
  REFERENCE_LONGITUDE = "N/A"
  SAMPLE_FIRST_PIXEL = 1
  SAMPLE_LAST_PIXEL = 4860
  SAMPLE_PROJECTION_OFFSET = 1912.75
  SECOND_STANDARD_PARALLEL = "N/A"
  WESTERNMOST_LONGITUDE = 267.079
END_OBJECT = IMAGE_MAP_PROJECTION
/* The JPEG2000 image data file associated with this label. */
OBJECT = COMPRESSED_FILE
  FILE_NAME = "H7205_0000_P23.JP2"
  RECORD_TYPE = UNDEFINED
  FILE_RECORDS = UNK
  ENCODING_TYPE = "JP2"
  INTERCHANGE_FORMAT = BINARY
  UNCOMPRESSED_FILE_NAME = "H7205_0000_P23.IMG"
  REQUIRED_STORAGE_BYTES = "172845900"
  ^DESCRIPTION = "JP2INFO.TXT"
END_OBJECT = COMPRESSED_FILE
END
