PDS_VERSION_ID = PDS3
/* FILE DATA ELEMENTS */
RECORD_TYPE = STREAM
/* POINTERS TO DATA OBJECTS */
^COMPRESSED_FILE = "H7208_0000_P23.JP2"
/* IDENTIFICATION DATA ELEMENTS */
DATA_SET_ID = "MEX-M-HRSC-5-REFDR-MAPPROJECTED-V3.0"
DATA_SET_NAME = "MARS EXPRESS HRSC MAP PROJECTED REFDR V3.0"
DETECTOR_ID = MEX_HRSC_P2
EVENT_TYPE = "MARS-LOCAL-CARTOGRAPHY-Fl-Tc"
INSTRUMENT_HOST_ID = MEX
INSTRUMENT_HOST_NAME = "MARS EXPRESS"
INSTRUMENT_ID = HRSC
INSTRUMENT_NAME = "HIGH RESOLUTION STEREO CAMERA"
MISSION_NAME = "MARS EXPRESS"
MISSION_PHASE_NAME = ME_Phase_18
PROCESSING_LEVEL_ID = 3
PRODUCT_CREATION_TIME = 2016-06-30T05:04:16.000Z
PRODUCT_ID = "H7208_0000_P23.JP2"
RELEASE_ID = 0080
REVISION_ID = 0000
/* QUALITY DATA ELEMENTS */
DATA_QUALITY_ID = 1
DATA_QUALITY_DESC = "Data calculated based on original SPICE kernels"
/* TIME DATA ELEMENTS */
SPACECRAFT_CLOCK_START_COUNT = "1/0198437486.09057"
SPACECRAFT_CLOCK_STOP_COUNT = "1/0198437700.64930"
START_TIME = 2009-08-15T17:32:29.857Z
STOP_TIME = 2009-08-15T17:34:51.098Z
/* ORBITAL DATA ELEMENTS */
ASCENDING_NODE_LONGITUDE = 80.0
MAXIMUM_RESOLUTION = 28.4
FOOTPRINT_POINT_LATITUDE = (22.4276,22.4253,22.4228,22.4203, 22.4177,22.4415,22.2314,22.021,21.7057, 21.4946,21.2848,21.0734,20.7593,20.5487 ,20.3375,20.1264,19.9328,19.7563, 19.5795,19.4028,19.226,19.0491,18.8722, 18.6954,18.5182,18.3404,18.0748,17.8973 ,17.72,17.5443,17.279,17.1017,16.9248, 16.7469,16.5686,16.3912,16.1255,15.8597 ,15.6824,15.4172,15.2422,15.0638, 14.8851,14.7084,14.5331,14.3559,14.1775 ,14.0,13.8254,13.6483,13.4692,13.2011, 13.1884,13.1876,13.1881,13.1926,13.2866 ,13.4626,13.6369,13.8163,14.0803, 14.2575,14.5235,14.7012,14.8785,15.1447 ,15.3221,15.4998,15.6778,15.9442, 16.1217,16.3874,16.5647,16.7419,17.0065 ,17.1849,17.5368,17.8034,18.0695, 18.3354,18.5127,18.6899,18.8668,19.0438 ,19.2208,19.4862,19.663,19.8398,20.0167 ,20.3299,20.5407,20.7518,20.9626, 21.1735,21.3841,21.5948,21.9105,22.121, 22.3314,22.4276)
FOOTPRINT_POINT_LONGITUDE = (327.391,327.166,326.942,326.719, 326.497,326.099,326.102,326.105,326.109 ,326.112,326.115,326.118,326.122, 326.124,326.127,326.129,326.131,326.133 ,326.135,326.137,326.139,326.141, 326.142,326.144,326.146,326.147,326.15, 326.151,326.152,326.154,326.155,326.157 ,326.158,326.159,326.16,326.162,326.163 ,326.164,326.165,326.166,326.167, 326.168,326.169,326.169,326.169,326.17, 326.171,326.171,326.171,326.172,326.172 ,326.173,326.447,326.639,326.88,327.232 ,327.423,327.425,327.425,327.429, 327.431,327.433,327.437,327.44,327.442, 327.446,327.449,327.451,327.455,327.459 ,327.462,327.465,327.468,327.471, 327.474,327.478,327.481,327.486,327.491 ,327.496,327.499,327.502,327.505, 327.508,327.511,327.515,327.518,327.521 ,327.524,327.53,327.534,327.538,327.542 ,327.545,327.549,327.553,327.559, 327.563,327.567,327.391)
ORBIT_NUMBER = 7208
ORBITAL_ECCENTRICITY = 0.575
ORBITAL_INCLINATION = 86.81
ORBITAL_SEMIMAJOR_AXIS = 8768.3
PERIAPSIS_ALTITUDE = 333.24
PERIAPSIS_ARGUMENT_ANGLE = 173.77
PERIAPSIS_TIME = 2009-08-15T17:36:17.000Z
SPACECRAFT_ORIENTATION = (0.0,-1.0,0.0)
^MEX_ORIENTATION_DESC = "MEX_ORIENTATION_DESC.TXT"
SPACECRAFT_POINTING_MODE = ACROSSTRACK
^MEX_POINTING_DESC = "MEX_POINTING_DESC.TXT"
RIGHT_ASCENSION = -1e+32
DECLINATION = -1e+32
OFFSET_ANGLE = 0.35
SPACECRAFT_SOLAR_DISTANCE = 2.19224e+08
TARGET_NAME = MARS
/* CAMERA DATA ELEMENTS */
DETECTOR_TEMPERATURE = 18.3705
FOCAL_PLANE_TEMPERATURE = 7.7677
INST_CMPRS_NAME = "DISCRETE COSINE TRANSFORMATION (DCT)"
INST_CMPRS_RATIO = 6.43539
INST_CMPRS_QUALITY = 0
INST_CMPRS_QUANTZ_TBL_ID = 0
INSTRUMENT_TEMPERATURE = 11.234
LENS_TEMPERATURE = 8.3794
MACROPIXEL_SIZE = 2
MISSING_FRAMES = 0
PIXEL_SUBSAMPLING_FLAG = N
SIGNAL_CHAIN_ID = 3
/* RADIOMETRIC DATA ELEMENTS */
BANDWIDTH = 177.0
CENTER_FILTER_WAVELENGTH = 676.5
RADIANCE_OFFSET = 1.58698
RADIANCE_SCALING_FACTOR = 0.00933515
REFLECTANCE_SCALING_FACTOR = 0.000237877
MEX:REFLECTANCE_OFFSET = 0.0404391
/* IMAGE OBJECT DEFINITIONS */
OBJECT = IMAGE
  INTERCHANGE_FORMAT = BINARY
  LINES = 21943
  LINE_SAMPLES = 3399
  SAMPLE_TYPE = UNSIGNED_INTEGER
  SAMPLE_BITS = 8
  BANDS = 1
  BAND_STORAGE_TYPE = BAND_SEQUENTIAL
  MAXIMUM = 255
  MEAN = 85.8636
  MINIMUM = 1
  STANDARD_DEVIATION = 40.4186
END_OBJECT = IMAGE
/* MAP OBJECT DEFINITIONS */
OBJECT = IMAGE_MAP_PROJECTION
  ^DATA_SET_MAP_PROJECTION_CATALOG= "DSMAP.CAT"
  A_AXIS_RADIUS = 3396.0
  B_AXIS_RADIUS = 3396.0
  C_AXIS_RADIUS = 3396.0
  CENTER_LATITUDE = 0.0
  CENTER_LONGITUDE = 327.0
  COORDINATE_SYSTEM_NAME = PLANETOGRAPHIC
  COORDINATE_SYSTEM_TYPE = "BODY-FIXED ROTATING"
  EASTERNMOST_LONGITUDE = 327.567
  FIRST_STANDARD_PARALLEL = "N/A"
  LINE_FIRST_PIXEL = 1
  LINE_LAST_PIXEL = 21943
  LINE_PROJECTION_OFFSET = 53220.25
  MAP_PROJECTION_ROTATION = 0.0
  MAP_PROJECTION_TYPE = SINUSOIDAL
  MAP_RESOLUTION = 2370.85521546667
  MAP_SCALE = 0.025
  MAXIMUM_LATITUDE = 22.4415
  MINIMUM_LATITUDE = 13.1876
  POSITIVE_LONGITUDE_DIRECTION = EAST
  REFERENCE_LATITUDE = "N/A"
  REFERENCE_LONGITUDE = "N/A"
  SAMPLE_FIRST_PIXEL = 1
  SAMPLE_LAST_PIXEL = 3399
  SAMPLE_PROJECTION_OFFSET = 2035.75
  SECOND_STANDARD_PARALLEL = "N/A"
  WESTERNMOST_LONGITUDE = 326.099
END_OBJECT = IMAGE_MAP_PROJECTION
/* The JPEG2000 image data file associated with this label. */
OBJECT = COMPRESSED_FILE
  FILE_NAME = "H7208_0000_P23.JP2"
  RECORD_TYPE = UNDEFINED
  FILE_RECORDS = UNK
  ENCODING_TYPE = "JP2"
  INTERCHANGE_FORMAT = BINARY
  UNCOMPRESSED_FILE_NAME = "H7208_0000_P23.IMG"
  REQUIRED_STORAGE_BYTES = "74608050"
  ^DESCRIPTION = "JP2INFO.TXT"
END_OBJECT = COMPRESSED_FILE
END
