PDS_VERSION_ID = PDS3
/* FILE DATA ELEMENTS */
RECORD_TYPE = STREAM
/* POINTERS TO DATA OBJECTS */
^COMPRESSED_FILE = "H7208_0000_S23.JP2"
/* IDENTIFICATION DATA ELEMENTS */
DATA_SET_ID = "MEX-M-HRSC-5-REFDR-MAPPROJECTED-V3.0"
DATA_SET_NAME = "MARS EXPRESS HRSC MAP PROJECTED REFDR V3.0"
DETECTOR_ID = MEX_HRSC_S2
EVENT_TYPE = "MARS-LOCAL-CARTOGRAPHY-Fl-Tc"
INSTRUMENT_HOST_ID = MEX
INSTRUMENT_HOST_NAME = "MARS EXPRESS"
INSTRUMENT_ID = HRSC
INSTRUMENT_NAME = "HIGH RESOLUTION STEREO CAMERA"
MISSION_NAME = "MARS EXPRESS"
MISSION_PHASE_NAME = ME_Phase_18
PROCESSING_LEVEL_ID = 3
PRODUCT_CREATION_TIME = 2016-06-30T05:04:16.000Z
PRODUCT_ID = "H7208_0000_S23.JP2"
RELEASE_ID = 0080
REVISION_ID = 0000
/* QUALITY DATA ELEMENTS */
DATA_QUALITY_ID = 1
DATA_QUALITY_DESC = "Data calculated based on original SPICE kernels"
/* TIME DATA ELEMENTS */
SPACECRAFT_CLOCK_START_COUNT = "1/0198437486.09057"
SPACECRAFT_CLOCK_STOP_COUNT = "1/0198437700.64930"
START_TIME = 2009-08-15T17:32:41.603Z
STOP_TIME = 2009-08-15T17:35:01.469Z
/* ORBITAL DATA ELEMENTS */
ASCENDING_NODE_LONGITUDE = 80.0
MAXIMUM_RESOLUTION = 29.2
FOOTPRINT_POINT_LATITUDE = (22.4136,22.4097,22.4057,22.4019, 22.3949,22.1163,21.9021,21.6889,21.4736 ,21.2604,21.0457,20.7327,20.5533, 20.2836,20.1036,19.9249,19.6558,19.4763 ,19.2968,19.1173,18.848,18.6685,18.4887 ,18.3079,18.1288,17.9483,17.7682, 17.5895,17.4121,17.2323,17.0527,16.8735 ,16.6918,16.5114,16.3317,16.1528, 15.9736,15.7941,15.6147,15.2604,15.0794 ,14.898,14.7196,14.4537,14.1849,14.004, 13.8291,13.6503,13.4685,13.1909,13.1967 ,13.1958,13.1968,13.2017,13.3007, 13.4764,13.6543,13.8366,14.0127,14.1918 ,14.4606,14.6403,14.8196,14.9987, 15.1784,15.3578,15.5383,15.7186,15.8985 ,16.0782,16.2572,16.4367,16.706,16.8836 ,17.0645,17.3296,17.6003,17.7807, 17.9606,18.1409,18.3206,18.5908,18.8601 ,19.1295,19.3091,19.4887,19.6682, 19.8479,20.0277,20.2076,20.4769,20.6567 ,20.8455,21.06,21.2743,21.4887,21.81, 22.0243,22.3456,22.4136)
FOOTPRINT_POINT_LONGITUDE = (327.235,327.012,326.791,326.57,326.172 ,326.111,326.114,326.117,326.12,326.123 ,326.125,326.129,326.131,326.134, 326.136,326.138,326.14,326.142,326.144, 326.146,326.148,326.149,326.151,326.153 ,326.154,326.155,326.157,326.158, 326.159,326.16,326.161,326.162,326.164, 326.165,326.166,326.167,326.167,326.168 ,326.169,326.17,326.171,326.172,326.172 ,326.173,326.173,326.174,326.174, 326.174,326.175,326.258,326.449,326.641 ,326.869,327.172,327.423,327.424, 327.426,327.43,327.43,327.433,327.436, 327.439,327.442,327.444,327.447,327.449 ,327.452,327.455,327.458,327.461, 327.463,327.466,327.47,327.472,327.475, 327.477,327.482,327.485,327.488,327.491 ,327.494,327.499,327.503,327.507,327.51 ,327.513,327.516,327.519,327.522, 327.526,327.53,327.533,327.537,327.541, 327.544,327.548,327.554,327.558,327.564 ,327.235)
ORBIT_NUMBER = 7208
ORBITAL_ECCENTRICITY = 0.575
ORBITAL_INCLINATION = 86.81
ORBITAL_SEMIMAJOR_AXIS = 8768.3
PERIAPSIS_ALTITUDE = 333.24
PERIAPSIS_ARGUMENT_ANGLE = 173.77
PERIAPSIS_TIME = 2009-08-15T17:36:17.000Z
SPACECRAFT_ORIENTATION = (0.0,-1.0,0.0)
^MEX_ORIENTATION_DESC = "MEX_ORIENTATION_DESC.TXT"
SPACECRAFT_POINTING_MODE = ACROSSTRACK
^MEX_POINTING_DESC = "MEX_POINTING_DESC.TXT"
RIGHT_ASCENSION = -1e+32
DECLINATION = -1e+32
OFFSET_ANGLE = 0.35
SPACECRAFT_SOLAR_DISTANCE = 2.19224e+08
TARGET_NAME = MARS
/* CAMERA DATA ELEMENTS */
DETECTOR_TEMPERATURE = 18.3705
FOCAL_PLANE_TEMPERATURE = 7.7677
INST_CMPRS_NAME = "DISCRETE COSINE TRANSFORMATION (DCT)"
INST_CMPRS_RATIO = 9.94523
INST_CMPRS_QUALITY = 0
INST_CMPRS_QUANTZ_TBL_ID = 0
INSTRUMENT_TEMPERATURE = 11.234
LENS_TEMPERATURE = 8.3794
MACROPIXEL_SIZE = 2
MISSING_FRAMES = 0
PIXEL_SUBSAMPLING_FLAG = N
SIGNAL_CHAIN_ID = 1
/* RADIOMETRIC DATA ELEMENTS */
BANDWIDTH = 178.0
CENTER_FILTER_WAVELENGTH = 679.0
RADIANCE_OFFSET = 1.64595
RADIANCE_SCALING_FACTOR = 0.00991822
REFLECTANCE_SCALING_FACTOR = 0.000252428
MEX:REFLECTANCE_OFFSET = 0.041891
/* IMAGE OBJECT DEFINITIONS */
OBJECT = IMAGE
  INTERCHANGE_FORMAT = BINARY
  LINES = 21943
  LINE_SAMPLES = 3399
  SAMPLE_TYPE = UNSIGNED_INTEGER
  SAMPLE_BITS = 8
  BANDS = 1
  BAND_STORAGE_TYPE = BAND_SEQUENTIAL
  MAXIMUM = 255
  MEAN = 90.1086
  MINIMUM = 1
  STANDARD_DEVIATION = 40.613
END_OBJECT = IMAGE
/* MAP OBJECT DEFINITIONS */
OBJECT = IMAGE_MAP_PROJECTION
  ^DATA_SET_MAP_PROJECTION_CATALOG= "DSMAP.CAT"
  A_AXIS_RADIUS = 3396.0
  B_AXIS_RADIUS = 3396.0
  C_AXIS_RADIUS = 3396.0
  CENTER_LATITUDE = 0.0
  CENTER_LONGITUDE = 327.0
  COORDINATE_SYSTEM_NAME = PLANETOGRAPHIC
  COORDINATE_SYSTEM_TYPE = "BODY-FIXED ROTATING"
  EASTERNMOST_LONGITUDE = 327.564
  FIRST_STANDARD_PARALLEL = "N/A"
  LINE_FIRST_PIXEL = 1
  LINE_LAST_PIXEL = 21943
  LINE_PROJECTION_OFFSET = 53220.25
  MAP_PROJECTION_ROTATION = 0.0
  MAP_PROJECTION_TYPE = SINUSOIDAL
  MAP_RESOLUTION = 2370.85521546667
  MAP_SCALE = 0.025
  MAXIMUM_LATITUDE = 22.4136
  MINIMUM_LATITUDE = 13.1909
  POSITIVE_LONGITUDE_DIRECTION = EAST
  REFERENCE_LATITUDE = "N/A"
  REFERENCE_LONGITUDE = "N/A"
  SAMPLE_FIRST_PIXEL = 1
  SAMPLE_LAST_PIXEL = 3399
  SAMPLE_PROJECTION_OFFSET = 2035.75
  SECOND_STANDARD_PARALLEL = "N/A"
  WESTERNMOST_LONGITUDE = 326.111
END_OBJECT = IMAGE_MAP_PROJECTION
/* The JPEG2000 image data file associated with this label. */
OBJECT = COMPRESSED_FILE
  FILE_NAME = "H7208_0000_S23.JP2"
  RECORD_TYPE = UNDEFINED
  FILE_RECORDS = UNK
  ENCODING_TYPE = "JP2"
  INTERCHANGE_FORMAT = BINARY
  UNCOMPRESSED_FILE_NAME = "H7208_0000_S23.IMG"
  REQUIRED_STORAGE_BYTES = "74608050"
  ^DESCRIPTION = "JP2INFO.TXT"
END_OBJECT = COMPRESSED_FILE
END
