PDS_VERSION_ID = PDS3
/* FILE DATA ELEMENTS */
RECORD_TYPE = STREAM
/* POINTERS TO DATA OBJECTS */
^COMPRESSED_FILE = "H7208_0001_S23.JP2"
/* IDENTIFICATION DATA ELEMENTS */
DATA_SET_ID = "MEX-M-HRSC-5-REFDR-MAPPROJECTED-V3.0"
DATA_SET_NAME = "MARS EXPRESS HRSC MAP PROJECTED REFDR V3.0"
DETECTOR_ID = MEX_HRSC_S2
EVENT_TYPE = "MARS-LOCAL-CARTOGRAPHY-Im-Fl-Lc"
INSTRUMENT_HOST_ID = MEX
INSTRUMENT_HOST_NAME = "MARS EXPRESS"
INSTRUMENT_ID = HRSC
INSTRUMENT_NAME = "HIGH RESOLUTION STEREO CAMERA"
MISSION_NAME = "MARS EXPRESS"
MISSION_PHASE_NAME = ME_Phase_18
PROCESSING_LEVEL_ID = 3
PRODUCT_CREATION_TIME = 2016-06-30T05:04:16.000Z
PRODUCT_ID = "H7208_0001_S23.JP2"
RELEASE_ID = 0080
REVISION_ID = 0000
/* QUALITY DATA ELEMENTS */
DATA_QUALITY_ID = 1
DATA_QUALITY_DESC = "Data calculated based on original SPICE kernels"
/* TIME DATA ELEMENTS */
SPACECRAFT_CLOCK_START_COUNT = "1/0198438124.08263"
SPACECRAFT_CLOCK_STOP_COUNT = "1/0198438390.56687"
START_TIME = 2009-08-15T17:43:37.233Z
STOP_TIME = 2009-08-15T17:46:31.387Z
/* ORBITAL DATA ELEMENTS */
ASCENDING_NODE_LONGITUDE = 80.0
MAXIMUM_RESOLUTION = 42.8
FOOTPRINT_POINT_LATITUDE = (-18.6771,-18.6835,-18.6889,-18.6932, -18.6965,-18.6983,-18.9332,-19.267, -19.6098,-19.7839,-20.0402,-20.2126, -20.5508,-20.7232,-20.8975,-21.0714, -21.2449,-21.4212,-21.5981,-21.8625, -22.1301,-22.3089,-22.4867,-22.6675, -22.9384,-23.1175,-23.3012,-23.4818, -23.6634,-23.8478,-24.128,-24.316, -24.5046,-24.6906,-24.8766,-25.0648, -25.2459,-25.4333,-25.6218,-25.8125, -26.0062,-26.1975,-26.3913,-26.5869, -26.7821,-26.9803,-27.1873,-27.4938, -27.8391,-27.8374,-27.8355,-27.8292, -27.8241,-27.8161,-27.8118,-27.7994, -27.6892,-27.4911,-27.2904,-27.0904, -26.7956,-26.5995,-26.4031,-26.1097, -25.9165,-25.7249,-25.4394,-25.2489, -25.0599,-24.8718,-24.592,-24.4055, -24.2186,-24.034,-23.8505,-23.6655, -23.4836,-23.3009,-23.0285,-22.8493, -22.581,-22.4021,-22.2263,-22.0476, -21.8694,-21.6057,-21.4295,-21.2524, -21.0782,-20.9034,-20.728,-20.554, -20.3819,-20.2098,-19.952,-19.611, -19.4355,-19.1029,-18.8502,-18.6771)
FOOTPRINT_POINT_LONGITUDE = (327.3,327.01,326.721,326.434,326.147, 325.932,325.664,325.653,325.642,325.637 ,325.629,325.623,325.61,325.603,325.597 ,325.591,325.584,325.578,325.572, 325.562,325.552,325.545,325.538,325.531 ,325.52,325.513,325.506,325.498,325.491 ,325.483,325.472,325.465,325.458,325.45 ,325.441,325.433,325.423,325.414, 325.405,325.397,325.388,325.379,325.37, 325.362,325.353,325.344,325.337,325.325 ,325.407,325.733,325.959,326.31,326.612 ,326.991,327.243,327.624,327.908, 327.897,327.887,327.878,327.862,327.853 ,327.844,327.831,327.821,327.812, 327.798,327.789,327.781,327.772,327.759 ,327.75,327.742,327.734,327.726,327.719 ,327.711,327.704,327.692,327.685, 327.674,327.667,327.659,327.653,327.646 ,327.637,327.63,327.625,327.619,327.614 ,327.608,327.603,327.598,327.593, 327.584,327.575,327.573,327.561,327.555 ,327.3)
ORBIT_NUMBER = 7208
ORBITAL_ECCENTRICITY = 0.575
ORBITAL_INCLINATION = 86.81
ORBITAL_SEMIMAJOR_AXIS = 8768.3
PERIAPSIS_ALTITUDE = 333.24
PERIAPSIS_ARGUMENT_ANGLE = 173.77
PERIAPSIS_TIME = 2009-08-15T17:36:17.000Z
SPACECRAFT_ORIENTATION = (0.0,-1.0,0.0)
^MEX_ORIENTATION_DESC = "MEX_ORIENTATION_DESC.TXT"
SPACECRAFT_POINTING_MODE = ACROSSTRACK
^MEX_POINTING_DESC = "MEX_POINTING_DESC.TXT"
RIGHT_ASCENSION = -1e+32
DECLINATION = -1e+32
OFFSET_ANGLE = 0.35
SPACECRAFT_SOLAR_DISTANCE = 2.19224e+08
TARGET_NAME = MARS
/* CAMERA DATA ELEMENTS */
DETECTOR_TEMPERATURE = 20.8173
FOCAL_PLANE_TEMPERATURE = 8.3794
INST_CMPRS_NAME = "DISCRETE COSINE TRANSFORMATION (DCT)"
INST_CMPRS_RATIO = 10.5042
INST_CMPRS_QUALITY = 0
INST_CMPRS_QUANTZ_TBL_ID = 0
INSTRUMENT_TEMPERATURE = 13.4769
LENS_TEMPERATURE = 8.5833
MACROPIXEL_SIZE = 2
MISSING_FRAMES = 0
PIXEL_SUBSAMPLING_FLAG = N
SIGNAL_CHAIN_ID = 1
/* RADIOMETRIC DATA ELEMENTS */
BANDWIDTH = 178.0
CENTER_FILTER_WAVELENGTH = 679.0
RADIANCE_OFFSET = 2.25788
RADIANCE_SCALING_FACTOR = 0.00922335
REFLECTANCE_SCALING_FACTOR = 0.000234746
MEX:REFLECTANCE_OFFSET = 0.0574658
/* IMAGE OBJECT DEFINITIONS */
OBJECT = IMAGE
  INTERCHANGE_FORMAT = BINARY
  LINES = 21701
  LINE_SAMPLES = 5005
  SAMPLE_TYPE = UNSIGNED_INTEGER
  SAMPLE_BITS = 8
  BANDS = 1
  BAND_STORAGE_TYPE = BAND_SEQUENTIAL
  MAXIMUM = 255
  MEAN = 88.0492
  MINIMUM = 1
  STANDARD_DEVIATION = 25.1054
END_OBJECT = IMAGE
/* MAP OBJECT DEFINITIONS */
OBJECT = IMAGE_MAP_PROJECTION
  ^DATA_SET_MAP_PROJECTION_CATALOG= "DSMAP.CAT"
  A_AXIS_RADIUS = 3396.0
  B_AXIS_RADIUS = 3396.0
  C_AXIS_RADIUS = 3396.0
  CENTER_LATITUDE = 0.0
  CENTER_LONGITUDE = 327.0
  COORDINATE_SYSTEM_NAME = PLANETOGRAPHIC
  COORDINATE_SYSTEM_TYPE = "BODY-FIXED ROTATING"
  EASTERNMOST_LONGITUDE = 327.908
  FIRST_STANDARD_PARALLEL = "N/A"
  LINE_FIRST_PIXEL = 1
  LINE_LAST_PIXEL = 21701
  LINE_PROJECTION_OFFSET = -44276.25
  MAP_PROJECTION_ROTATION = 0.0
  MAP_PROJECTION_TYPE = SINUSOIDAL
  MAP_RESOLUTION = 2370.85521546667
  MAP_SCALE = 0.025
  MAXIMUM_LATITUDE = -18.6771
  MINIMUM_LATITUDE = -27.8391
  POSITIVE_LONGITUDE_DIRECTION = EAST
  REFERENCE_LATITUDE = "N/A"
  REFERENCE_LONGITUDE = "N/A"
  SAMPLE_FIRST_PIXEL = 1
  SAMPLE_LAST_PIXEL = 5005
  SAMPLE_PROJECTION_OFFSET = 3286.25
  SECOND_STANDARD_PARALLEL = "N/A"
  WESTERNMOST_LONGITUDE = 325.325
END_OBJECT = IMAGE_MAP_PROJECTION
/* The JPEG2000 image data file associated with this label. */
OBJECT = COMPRESSED_FILE
  FILE_NAME = "H7208_0001_S23.JP2"
  RECORD_TYPE = UNDEFINED
  FILE_RECORDS = UNK
  ENCODING_TYPE = "JP2"
  INTERCHANGE_FORMAT = BINARY
  UNCOMPRESSED_FILE_NAME = "H7208_0001_S23.IMG"
  REQUIRED_STORAGE_BYTES = "108638530"
  ^DESCRIPTION = "JP2INFO.TXT"
END_OBJECT = COMPRESSED_FILE
END
