PDS_VERSION_ID = PDS3
/* FILE DATA ELEMENTS */
RECORD_TYPE = STREAM
/* POINTERS TO DATA OBJECTS */
^COMPRESSED_FILE = "H7212_0000_P13.JP2"
/* IDENTIFICATION DATA ELEMENTS */
DATA_SET_ID = "MEX-M-HRSC-5-REFDR-MAPPROJECTED-V3.0"
DATA_SET_NAME = "MARS EXPRESS HRSC MAP PROJECTED REFDR V3.0"
DETECTOR_ID = MEX_HRSC_P1
EVENT_TYPE = "MARS-REGIONAL-MAPPING-Vo-Te-Fl"
INSTRUMENT_HOST_ID = MEX
INSTRUMENT_HOST_NAME = "MARS EXPRESS"
INSTRUMENT_ID = HRSC
INSTRUMENT_NAME = "HIGH RESOLUTION STEREO CAMERA"
MISSION_NAME = "MARS EXPRESS"
MISSION_PHASE_NAME = ME_Phase_18
PROCESSING_LEVEL_ID = 3
PRODUCT_CREATION_TIME = 2016-06-30T05:04:16.000Z
PRODUCT_ID = "H7212_0000_P13.JP2"
RELEASE_ID = 0080
REVISION_ID = 0000
/* QUALITY DATA ELEMENTS */
DATA_QUALITY_ID = 1
DATA_QUALITY_DESC = "Data calculated based on original SPICE kernels"
/* TIME DATA ELEMENTS */
SPACECRAFT_CLOCK_START_COUNT = "1/0198537017.07304"
SPACECRAFT_CLOCK_STOP_COUNT = "1/0198537180.06539"
START_TIME = 2009-08-16T21:10:29.831Z
STOP_TIME = 2009-08-16T21:12:09.870Z
/* ORBITAL DATA ELEMENTS */
ASCENDING_NODE_LONGITUDE = 79.92
MAXIMUM_RESOLUTION = 54.5
FOOTPRINT_POINT_LATITUDE = (8.10591,8.10768,8.10865,8.1093,8.10999 ,8.11051,8.10622,7.97669,7.782,7.65218, 7.52241,7.39258,7.2627,7.13279,7.00284, 6.87288,6.74288,6.61287,6.48285,6.35288 ,6.22277,6.02769,5.8324,5.70248,5.50699 ,5.37697,5.24725,5.11793,4.92743, 4.79728,4.66717,4.47164,4.3413,4.21086, 4.08046,3.94991,3.81956,3.62362,3.42793 ,3.29738,3.16695,2.97092,2.7752,2.64455 ,2.4488,2.25336,2.12279,1.99266,1.86221 ,1.73266,1.60242,1.59098,1.5907,1.59025 ,1.58965,1.58817,1.58759,1.7179,1.8489, 1.98035,2.11094,2.2413,2.37032,2.56679, 2.76193,2.95721,3.08774,3.21712,3.34842 ,3.54404,3.67462,3.87038,4.13141,4.2619 ,4.39212,4.58741,4.78293,4.91323, 5.04343,5.17362,5.30359,5.43377,5.5637, 5.69375,5.8234,5.95337,6.14764,6.2776, 6.40717,6.60159,6.73082,6.92245,7.11641 ,7.24566,7.37547,7.56999,7.69982, 7.82959,8.02422,8.10591)
FOOTPRINT_POINT_LONGITUDE = (283.512,283.26,283.095,282.964,282.788 ,282.602,282.443,282.443,282.443, 282.442,282.442,282.442,282.441,282.441 ,282.44,282.44,282.44,282.439,282.439, 282.438,282.438,282.437,282.436,282.436 ,282.435,282.434,282.434,282.434, 282.435,282.434,282.434,282.433,282.432 ,282.431,282.43,282.429,282.429,282.427 ,282.426,282.425,282.424,282.423, 282.421,282.42,282.419,282.418,282.417, 282.416,282.415,282.414,282.413,282.641 ,282.792,282.998,283.138,283.333, 283.484,283.575,283.575,283.576,283.576 ,283.577,283.579,283.579,283.581, 283.582,283.583,283.584,283.584,283.586 ,283.586,283.588,283.589,283.59,283.591 ,283.592,283.594,283.595,283.595, 283.596,283.597,283.598,283.599,283.6, 283.602,283.603,283.605,283.606,283.607 ,283.609,283.61,283.613,283.615,283.617 ,283.618,283.619,283.62,283.622,283.623 ,283.512)
ORBIT_NUMBER = 7212
ORBITAL_ECCENTRICITY = 0.575
ORBITAL_INCLINATION = 86.8
ORBITAL_SEMIMAJOR_AXIS = 8778.72
PERIAPSIS_ALTITUDE = 333.13
PERIAPSIS_ARGUMENT_ANGLE = 173.1
PERIAPSIS_TIME = 2009-08-16T21:11:08.000Z
SPACECRAFT_ORIENTATION = (0.0,-1.0,0.0)
^MEX_ORIENTATION_DESC = "MEX_ORIENTATION_DESC.TXT"
SPACECRAFT_POINTING_MODE = NADIR
^MEX_POINTING_DESC = "MEX_POINTING_DESC.TXT"
RIGHT_ASCENSION = -1e+32
DECLINATION = -1e+32
OFFSET_ANGLE = -1e+32
SPACECRAFT_SOLAR_DISTANCE = 2.19437e+08
TARGET_NAME = MARS
/* CAMERA DATA ELEMENTS */
DETECTOR_TEMPERATURE = 17.5549
FOCAL_PLANE_TEMPERATURE = 8.5833
INST_CMPRS_NAME = "DISCRETE COSINE TRANSFORMATION (DCT)"
INST_CMPRS_RATIO = 6.98816
INST_CMPRS_QUALITY = 0
INST_CMPRS_QUANTZ_TBL_ID = 0
INSTRUMENT_TEMPERATURE = 11.4379
LENS_TEMPERATURE = 8.9911
MACROPIXEL_SIZE = 4
MISSING_FRAMES = 0
PIXEL_SUBSAMPLING_FLAG = N
SIGNAL_CHAIN_ID = 3
/* RADIOMETRIC DATA ELEMENTS */
BANDWIDTH = 174.0
CENTER_FILTER_WAVELENGTH = 675.0
RADIANCE_OFFSET = 2.78148
RADIANCE_SCALING_FACTOR = 0.0164203
REFLECTANCE_SCALING_FACTOR = 0.000425289
MEX:REFLECTANCE_OFFSET = 0.072041
/* IMAGE OBJECT DEFINITIONS */
OBJECT = IMAGE
  INTERCHANGE_FORMAT = BINARY
  LINES = 7734
  LINE_SAMPLES = 1531
  SAMPLE_TYPE = UNSIGNED_INTEGER
  SAMPLE_BITS = 8
  BANDS = 1
  BAND_STORAGE_TYPE = BAND_SEQUENTIAL
  MAXIMUM = 255
  MEAN = 84.9035
  MINIMUM = 1
  STANDARD_DEVIATION = 19.7107
END_OBJECT = IMAGE
/* MAP OBJECT DEFINITIONS */
OBJECT = IMAGE_MAP_PROJECTION
  ^DATA_SET_MAP_PROJECTION_CATALOG= "DSMAP.CAT"
  A_AXIS_RADIUS = 3396.0
  B_AXIS_RADIUS = 3396.0
  C_AXIS_RADIUS = 3396.0
  CENTER_LATITUDE = 0.0
  CENTER_LONGITUDE = 283.0
  COORDINATE_SYSTEM_NAME = PLANETOGRAPHIC
  COORDINATE_SYSTEM_TYPE = "BODY-FIXED ROTATING"
  EASTERNMOST_LONGITUDE = 283.623
  FIRST_STANDARD_PARALLEL = "N/A"
  LINE_FIRST_PIXEL = 1
  LINE_LAST_PIXEL = 7734
  LINE_PROJECTION_OFFSET = 9603.875
  MAP_PROJECTION_ROTATION = 0.0
  MAP_PROJECTION_TYPE = SINUSOIDAL
  MAP_RESOLUTION = 1185.42760773333
  MAP_SCALE = 0.05
  MAXIMUM_LATITUDE = 8.11051
  MINIMUM_LATITUDE = 1.58759
  POSITIVE_LONGITUDE_DIRECTION = EAST
  REFERENCE_LATITUDE = "N/A"
  REFERENCE_LONGITUDE = "N/A"
  SAMPLE_FIRST_PIXEL = 1
  SAMPLE_LAST_PIXEL = 1531
  SAMPLE_PROJECTION_OFFSET = 755.875
  SECOND_STANDARD_PARALLEL = "N/A"
  WESTERNMOST_LONGITUDE = 282.413
END_OBJECT = IMAGE_MAP_PROJECTION
/* The JPEG2000 image data file associated with this label. */
OBJECT = COMPRESSED_FILE
  FILE_NAME = "H7212_0000_P13.JP2"
  RECORD_TYPE = UNDEFINED
  FILE_RECORDS = UNK
  ENCODING_TYPE = "JP2"
  INTERCHANGE_FORMAT = BINARY
  UNCOMPRESSED_FILE_NAME = "H7212_0000_P13.IMG"
  REQUIRED_STORAGE_BYTES = "11859126"
  ^DESCRIPTION = "JP2INFO.TXT"
END_OBJECT = COMPRESSED_FILE
END
