PDS_VERSION_ID = PDS3
/* FILE DATA ELEMENTS */
RECORD_TYPE = STREAM
/* POINTERS TO DATA OBJECTS */
^COMPRESSED_FILE = "H7212_0001_S23.JP2"
/* IDENTIFICATION DATA ELEMENTS */
DATA_SET_ID = "MEX-M-HRSC-5-REFDR-MAPPROJECTED-V3.0"
DATA_SET_NAME = "MARS EXPRESS HRSC MAP PROJECTED REFDR V3.0"
DETECTOR_ID = MEX_HRSC_S2
EVENT_TYPE = "MARS-REGIONAL-MAPPING-Vo-Te-Im"
INSTRUMENT_HOST_ID = MEX
INSTRUMENT_HOST_NAME = "MARS EXPRESS"
INSTRUMENT_ID = HRSC
INSTRUMENT_NAME = "HIGH RESOLUTION STEREO CAMERA"
MISSION_NAME = "MARS EXPRESS"
MISSION_PHASE_NAME = ME_Phase_18
PROCESSING_LEVEL_ID = 3
PRODUCT_CREATION_TIME = 2016-06-30T05:04:16.000Z
PRODUCT_ID = "H7212_0001_S23.JP2"
RELEASE_ID = 0080
REVISION_ID = 0000
/* QUALITY DATA ELEMENTS */
DATA_QUALITY_ID = 1
DATA_QUALITY_DESC = "Data calculated based on original SPICE kernels"
/* TIME DATA ELEMENTS */
SPACECRAFT_CLOCK_START_COUNT = "1/0198537309.07308"
SPACECRAFT_CLOCK_STOP_COUNT = "1/0198537627.39302"
START_TIME = 2009-08-16T21:16:26.435Z
STOP_TIME = 2009-08-16T21:20:28.114Z
/* ORBITAL DATA ELEMENTS */
ASCENDING_NODE_LONGITUDE = 79.92
MAXIMUM_RESOLUTION = 35.7
FOOTPRINT_POINT_LATITUDE = (-11.0899,-11.0898,-11.0892,-11.0866, -11.224,-11.463,-11.7003,-11.9378, -12.1802,-12.4234,-12.666,-12.9086, -13.1551,-13.5248,-13.7707,-14.0204, -14.2721,-14.5232,-14.7734,-15.0284, -15.2826,-15.537,-15.924,-16.1825, -16.5722,-16.8345,-17.0964,-17.4949, -17.7606,-18.028,-18.2985,-18.5679, -18.9776,-19.2513,-19.6665,-19.9439, -20.3648,-20.6454,-20.9307,-21.2153, -21.5031,-21.7917,-22.0823,-22.3742, -22.6684,-22.9636,-23.262,-23.5603, -23.8619,-24.1643,-24.4716,-24.4758, -24.477,-24.4757,-24.4729,-24.1627, -23.8603,-23.5582,-23.2598,-22.9621, -22.6674,-22.3734,-22.0816,-21.7906, -21.503,-21.2157,-20.9319,-20.647, -20.3664,-19.9455,-19.6686,-19.2536, -18.8444,-18.5718,-18.302,-17.8973, -17.632,-17.3654,-16.9708,-16.7082, -16.4451,-16.1869,-15.7988,-15.5392, -15.2892,-15.0338,-14.7786,-14.5288, -14.2783,-13.9014,-13.5326,-13.1631, -12.9164,-12.6745,-12.4319,-12.1889, -11.946,-11.5888,-11.3503,-11.0899)
FOOTPRINT_POINT_LONGITUDE = (283.586,283.323,283.088,282.679, 282.151,282.144,282.138,282.131,282.124 ,282.117,282.111,282.104,282.097, 282.086,282.078,282.071,282.064,282.056 ,282.048,282.04,282.032,282.024,282.012 ,282.003,281.99,281.981,281.972,281.958 ,281.949,281.939,281.93,281.92,281.905, 281.895,281.879,281.868,281.852,281.841 ,281.829,281.818,281.806,281.794, 281.782,281.769,281.757,281.744,281.731 ,281.718,281.704,281.69,281.877,282.37, 282.728,283.266,283.647,283.979,283.967 ,283.955,283.944,283.933,283.922, 283.912,283.902,283.892,283.883,283.873 ,283.864,283.855,283.847,283.834, 283.826,283.814,283.803,283.796,283.789 ,283.779,283.772,283.766,283.756,283.75 ,283.745,283.739,283.731,283.726,283.72 ,283.715,283.71,283.706,283.701,283.695 ,283.688,283.682,283.678,283.674, 283.671,283.667,283.664,283.659,283.655 ,283.586)
ORBIT_NUMBER = 7212
ORBITAL_ECCENTRICITY = 0.575
ORBITAL_INCLINATION = 86.8
ORBITAL_SEMIMAJOR_AXIS = 8778.72
PERIAPSIS_ALTITUDE = 333.13
PERIAPSIS_ARGUMENT_ANGLE = 173.1
PERIAPSIS_TIME = 2009-08-16T21:11:08.000Z
SPACECRAFT_ORIENTATION = (0.0,-1.0,0.0)
^MEX_ORIENTATION_DESC = "MEX_ORIENTATION_DESC.TXT"
SPACECRAFT_POINTING_MODE = NADIR
^MEX_POINTING_DESC = "MEX_POINTING_DESC.TXT"
RIGHT_ASCENSION = -1e+32
DECLINATION = -1e+32
OFFSET_ANGLE = -1e+32
SPACECRAFT_SOLAR_DISTANCE = 2.19437e+08
TARGET_NAME = MARS
/* CAMERA DATA ELEMENTS */
DETECTOR_TEMPERATURE = 19.1861
FOCAL_PLANE_TEMPERATURE = 8.7872
INST_CMPRS_NAME = "DISCRETE COSINE TRANSFORMATION (DCT)"
INST_CMPRS_RATIO = 11.1465
INST_CMPRS_QUALITY = 0
INST_CMPRS_QUANTZ_TBL_ID = 0
INSTRUMENT_TEMPERATURE = 12.6613
LENS_TEMPERATURE = 9.195
MACROPIXEL_SIZE = 2
MISSING_FRAMES = 0
PIXEL_SUBSAMPLING_FLAG = N
SIGNAL_CHAIN_ID = 1
/* RADIOMETRIC DATA ELEMENTS */
BANDWIDTH = 178.0
CENTER_FILTER_WAVELENGTH = 679.0
RADIANCE_OFFSET = 1.88155
RADIANCE_SCALING_FACTOR = 0.0159647
REFLECTANCE_SCALING_FACTOR = 0.000407109
MEX:REFLECTANCE_OFFSET = 0.0479807
/* IMAGE OBJECT DEFINITIONS */
OBJECT = IMAGE
  INTERCHANGE_FORMAT = BINARY
  LINES = 31710
  LINE_SAMPLES = 4653
  SAMPLE_TYPE = UNSIGNED_INTEGER
  SAMPLE_BITS = 8
  BANDS = 1
  BAND_STORAGE_TYPE = BAND_SEQUENTIAL
  MAXIMUM = 255
  MEAN = 88.7815
  MINIMUM = 1
  STANDARD_DEVIATION = 15.0714
END_OBJECT = IMAGE
/* MAP OBJECT DEFINITIONS */
OBJECT = IMAGE_MAP_PROJECTION
  ^DATA_SET_MAP_PROJECTION_CATALOG= "DSMAP.CAT"
  A_AXIS_RADIUS = 3396.0
  B_AXIS_RADIUS = 3396.0
  C_AXIS_RADIUS = 3396.0
  CENTER_LATITUDE = 0.0
  CENTER_LONGITUDE = 283.0
  COORDINATE_SYSTEM_NAME = PLANETOGRAPHIC
  COORDINATE_SYSTEM_TYPE = "BODY-FIXED ROTATING"
  EASTERNMOST_LONGITUDE = 283.979
  FIRST_STANDARD_PARALLEL = "N/A"
  LINE_FIRST_PIXEL = 1
  LINE_LAST_PIXEL = 31710
  LINE_PROJECTION_OFFSET = -26272.25
  MAP_PROJECTION_ROTATION = 0.0
  MAP_PROJECTION_TYPE = SINUSOIDAL
  MAP_RESOLUTION = 2370.85521546667
  MAP_SCALE = 0.025
  MAXIMUM_LATITUDE = -11.0866
  MINIMUM_LATITUDE = -24.477
  POSITIVE_LONGITUDE_DIRECTION = EAST
  REFERENCE_LATITUDE = "N/A"
  REFERENCE_LONGITUDE = "N/A"
  SAMPLE_FIRST_PIXEL = 1
  SAMPLE_LAST_PIXEL = 4653
  SAMPLE_PROJECTION_OFFSET = 2669.25
  SECOND_STANDARD_PARALLEL = "N/A"
  WESTERNMOST_LONGITUDE = 281.69
END_OBJECT = IMAGE_MAP_PROJECTION
/* The JPEG2000 image data file associated with this label. */
OBJECT = COMPRESSED_FILE
  FILE_NAME = "H7212_0001_S23.JP2"
  RECORD_TYPE = UNDEFINED
  FILE_RECORDS = UNK
  ENCODING_TYPE = "JP2"
  INTERCHANGE_FORMAT = BINARY
  UNCOMPRESSED_FILE_NAME = "H7212_0001_S23.IMG"
  REQUIRED_STORAGE_BYTES = "147574548"
  ^DESCRIPTION = "JP2INFO.TXT"
END_OBJECT = COMPRESSED_FILE
END
