PDS_VERSION_ID = PDS3
/* FILE DATA ELEMENTS */
RECORD_TYPE = STREAM
/* POINTERS TO DATA OBJECTS */
^COMPRESSED_FILE = "H7215_0000_S23.JP2"
/* IDENTIFICATION DATA ELEMENTS */
DATA_SET_ID = "MEX-M-HRSC-5-REFDR-MAPPROJECTED-V3.0"
DATA_SET_NAME = "MARS EXPRESS HRSC MAP PROJECTED REFDR V3.0"
DETECTOR_ID = MEX_HRSC_S2
EVENT_TYPE = "MARS-REGIONAL-MAPPING-Im-Fl"
INSTRUMENT_HOST_ID = MEX
INSTRUMENT_HOST_NAME = "MARS EXPRESS"
INSTRUMENT_ID = HRSC
INSTRUMENT_NAME = "HIGH RESOLUTION STEREO CAMERA"
MISSION_NAME = "MARS EXPRESS"
MISSION_PHASE_NAME = ME_Phase_18
PROCESSING_LEVEL_ID = 3
PRODUCT_CREATION_TIME = 2016-06-30T05:04:16.000Z
PRODUCT_ID = "H7215_0000_S23.JP2"
RELEASE_ID = 0080
REVISION_ID = 0000
/* QUALITY DATA ELEMENTS */
DATA_QUALITY_ID = 1
DATA_QUALITY_DESC = "Data calculated based on original SPICE kernels"
/* TIME DATA ELEMENTS */
SPACECRAFT_CLOCK_START_COUNT = "1/0198611829.07303"
SPACECRAFT_CLOCK_STOP_COUNT = "1/0198612111.52920"
START_TIME = 2009-08-17T17:58:35.588Z
STOP_TIME = 2009-08-17T18:01:52.306Z
/* ORBITAL DATA ELEMENTS */
ASCENDING_NODE_LONGITUDE = 79.86
MAXIMUM_RESOLUTION = 40.2
FOOTPRINT_POINT_LATITUDE = (-14.8212,-14.8235,-14.825,-14.8257, -14.8252,-14.8041,-15.0181,-15.2365, -15.554,-15.8893,-16.1126,-16.3319, -16.5519,-16.7714,-16.9902,-17.209, -17.537,-17.7539,-17.972,-18.1905, -18.4069,-18.6231,-18.8319,-19.0442, -19.2609,-19.4809,-19.6937,-19.9053, -20.2227,-20.4325,-20.6413,-20.9542, -21.2693,-21.4792,-21.7926,-22.0003, -22.309,-22.5151,-22.7207,-22.9264, -23.1299,-23.3341,-23.5379,-23.7411, -23.944,-24.146,-24.4486,-24.7505, -25.1511,-25.3722,-25.3744,-25.3726, -25.3715,-25.3674,-25.3636,-25.3586, -25.2549,-24.8587,-24.4569,-24.2544, -23.8527,-23.6502,-23.4478,-23.2439, -23.0391,-22.8345,-22.6293,-22.4227, -22.2163,-22.0084,-21.6968,-21.4892, -21.2807,-20.9687,-20.6535,-20.4424, -20.2313,-20.0197,-19.8081,-19.4878, -19.2743,-19.0603,-18.8453,-18.5235, -18.1995,-17.9837,-17.7662,-17.4399, -17.221,-17.0034,-16.7838,-16.5645, -16.235,-15.9044,-15.6851,-15.4695, -15.2524,-15.0353,-14.8214,-14.8212)
FOOTPRINT_POINT_LONGITUDE = (341.173,340.909,340.645,340.381, 339.954,339.713,339.707,339.7,339.688, 339.679,339.673,339.665,339.658,339.65, 339.643,339.635,339.624,339.617,339.609 ,339.602,339.594,339.587,339.577, 339.569,339.562,339.555,339.547,339.539 ,339.526,339.518,339.509,339.496, 339.483,339.475,339.463,339.454,339.441 ,339.432,339.423,339.414,339.405, 339.396,339.387,339.378,339.369,339.36, 339.346,339.332,339.314,339.445,339.683 ,340.229,340.562,341.014,341.276, 341.539,341.758,341.739,341.722,341.714 ,341.697,341.688,341.68,341.672,341.664 ,341.656,341.649,341.641,341.634, 341.627,341.616,341.608,341.601,341.59, 341.58,341.573,341.567,341.56,341.553, 341.544,341.538,341.532,341.526,341.517 ,341.508,341.502,341.497,341.489, 341.484,341.478,341.473,341.468,341.46, 341.452,341.448,341.443,341.438,341.433 ,341.429,341.173)
ORBIT_NUMBER = 7215
ORBITAL_ECCENTRICITY = 0.575
ORBITAL_INCLINATION = 86.8
ORBITAL_SEMIMAJOR_AXIS = 8768.83
PERIAPSIS_ALTITUDE = 334.06
PERIAPSIS_ARGUMENT_ANGLE = 172.54
PERIAPSIS_TIME = 2009-08-17T17:52:02.000Z
SPACECRAFT_ORIENTATION = (0.0,-1.0,0.0)
^MEX_ORIENTATION_DESC = "MEX_ORIENTATION_DESC.TXT"
SPACECRAFT_POINTING_MODE = ACROSSTRACK
^MEX_POINTING_DESC = "MEX_POINTING_DESC.TXT"
RIGHT_ASCENSION = -1e+32
DECLINATION = -1e+32
OFFSET_ANGLE = 0.15
SPACECRAFT_SOLAR_DISTANCE = 2.19597e+08
TARGET_NAME = MARS
/* CAMERA DATA ELEMENTS */
DETECTOR_TEMPERATURE = 18.5744
FOCAL_PLANE_TEMPERATURE = 8.5833
INST_CMPRS_NAME = "DISCRETE COSINE TRANSFORMATION (DCT)"
INST_CMPRS_RATIO = 13.2997
INST_CMPRS_QUALITY = 0
INST_CMPRS_QUANTZ_TBL_ID = 0
INSTRUMENT_TEMPERATURE = 11.0301
LENS_TEMPERATURE = 8.9911
MACROPIXEL_SIZE = 2
MISSING_FRAMES = 0
PIXEL_SUBSAMPLING_FLAG = N
SIGNAL_CHAIN_ID = 1
/* RADIOMETRIC DATA ELEMENTS */
BANDWIDTH = 178.0
CENTER_FILTER_WAVELENGTH = 679.0
RADIANCE_OFFSET = 2.273
RADIANCE_SCALING_FACTOR = 0.0111422
REFLECTANCE_SCALING_FACTOR = 0.000284546
MEX:REFLECTANCE_OFFSET = 0.0580474
/* IMAGE OBJECT DEFINITIONS */
OBJECT = IMAGE
  INTERCHANGE_FORMAT = BINARY
  LINES = 25079
  LINE_SAMPLES = 4853
  SAMPLE_TYPE = UNSIGNED_INTEGER
  SAMPLE_BITS = 8
  BANDS = 1
  BAND_STORAGE_TYPE = BAND_SEQUENTIAL
  MAXIMUM = 255
  MEAN = 90.3831
  MINIMUM = 1
  STANDARD_DEVIATION = 19.1254
END_OBJECT = IMAGE
/* MAP OBJECT DEFINITIONS */
OBJECT = IMAGE_MAP_PROJECTION
  ^DATA_SET_MAP_PROJECTION_CATALOG= "DSMAP.CAT"
  A_AXIS_RADIUS = 3396.0
  B_AXIS_RADIUS = 3396.0
  C_AXIS_RADIUS = 3396.0
  CENTER_LATITUDE = 0.0
  CENTER_LONGITUDE = 341.0
  COORDINATE_SYSTEM_NAME = PLANETOGRAPHIC
  COORDINATE_SYSTEM_TYPE = "BODY-FIXED ROTATING"
  EASTERNMOST_LONGITUDE = 341.758
  FIRST_STANDARD_PARALLEL = "N/A"
  LINE_FIRST_PIXEL = 1
  LINE_LAST_PIXEL = 25079
  LINE_PROJECTION_OFFSET = -35116.25
  MAP_PROJECTION_ROTATION = 0.0
  MAP_PROJECTION_TYPE = SINUSOIDAL
  MAP_RESOLUTION = 2370.85521546667
  MAP_SCALE = 0.025
  MAXIMUM_LATITUDE = -14.8041
  MINIMUM_LATITUDE = -25.3744
  POSITIVE_LONGITUDE_DIRECTION = EAST
  REFERENCE_LATITUDE = "N/A"
  REFERENCE_LONGITUDE = "N/A"
  SAMPLE_FIRST_PIXEL = 1
  SAMPLE_LAST_PIXEL = 4853
  SAMPLE_PROJECTION_OFFSET = 3404.25
  SECOND_STANDARD_PARALLEL = "N/A"
  WESTERNMOST_LONGITUDE = 339.314
END_OBJECT = IMAGE_MAP_PROJECTION
/* The JPEG2000 image data file associated with this label. */
OBJECT = COMPRESSED_FILE
  FILE_NAME = "H7215_0000_S23.JP2"
  RECORD_TYPE = UNDEFINED
  FILE_RECORDS = UNK
  ENCODING_TYPE = "JP2"
  INTERCHANGE_FORMAT = BINARY
  UNCOMPRESSED_FILE_NAME = "H7215_0000_S23.IMG"
  REQUIRED_STORAGE_BYTES = "121732652"
  ^DESCRIPTION = "JP2INFO.TXT"
END_OBJECT = COMPRESSED_FILE
END
