PDS_VERSION_ID = PDS3
/* FILE DATA ELEMENTS */
RECORD_TYPE = STREAM
/* POINTERS TO DATA OBJECTS */
^COMPRESSED_FILE = "H7216_0000_ND3.JP2"
/* IDENTIFICATION DATA ELEMENTS */
DATA_SET_ID = "MEX-M-HRSC-5-REFDR-MAPPROJECTED-V3.0"
DATA_SET_NAME = "MARS EXPRESS HRSC MAP PROJECTED REFDR V3.0"
DETECTOR_ID = MEX_HRSC_NADIR
EVENT_TYPE = "MARS-LOCAL-STEREO-Vo"
INSTRUMENT_HOST_ID = MEX
INSTRUMENT_HOST_NAME = "MARS EXPRESS"
INSTRUMENT_ID = HRSC
INSTRUMENT_NAME = "HIGH RESOLUTION STEREO CAMERA"
MISSION_NAME = "MARS EXPRESS"
MISSION_PHASE_NAME = ME_Phase_18
PROCESSING_LEVEL_ID = 3
PRODUCT_CREATION_TIME = 2016-06-30T05:04:16.000Z
PRODUCT_ID = "H7216_0000_ND3.JP2"
RELEASE_ID = 0080
REVISION_ID = 0000
/* QUALITY DATA ELEMENTS */
DATA_QUALITY_ID = 1
DATA_QUALITY_DESC = "Data calculated based on original SPICE kernels"
/* TIME DATA ELEMENTS */
SPACECRAFT_CLOCK_START_COUNT = "1/0198636386.09061"
SPACECRAFT_CLOCK_STOP_COUNT = "1/0198636540.50711"
START_TIME = 2009-08-18T00:46:58.590Z
STOP_TIME = 2009-08-18T00:48:27.581Z
/* ORBITAL DATA ELEMENTS */
ASCENDING_NODE_LONGITUDE = 79.84
MAXIMUM_RESOLUTION = 13.3
FOOTPRINT_POINT_LATITUDE = (2.69505,2.69612,2.69736,2.69892, 2.70008,2.70122,2.64356,2.46991,2.35419 ,2.23858,2.12294,2.00731,1.89169, 1.77608,1.6605,1.54493,1.42939,1.31386, 1.19835,1.08285,0.967384,0.851932, 0.736497,0.621087,0.505699,0.390332, 0.274988,0.159665,0.044365,-0.0709146, -0.186173,-0.301403,-0.416607,-0.531792 ,-0.646953,-0.762086,-0.877199, -0.992282,-1.10734,-1.22238,-1.33739, -1.45237,-1.56732,-1.68225,-1.91202, -2.14169,-2.37122,-2.60064,-2.82993, -3.0591,-3.06273,-3.06428,-3.06621, -3.06765,-3.06857,-3.06944,-2.95523, -2.72596,-2.49656,-2.26703,-2.03739, -1.80763,-1.57775,-1.46277,-1.34776, -1.23273,-1.11767,-1.00258,-0.887466, -0.77233,-0.657162,-0.541974,-0.426758, -0.311522,-0.196262,-0.0809718, 0.0343353,0.149668,0.265023,0.380398, 0.495794,0.611217,0.726656,0.842118, 0.957599,1.0731,1.18862,1.30416,1.41972 ,1.5353,1.6509,1.76652,1.88216,1.99781, 2.11348,2.22917,2.34487,2.46059,2.57632 ,2.69505)
FOOTPRINT_POINT_LONGITUDE = (240.096,239.933,239.747,239.502, 239.315,239.127,238.969,238.969,238.969 ,238.967,238.965,238.964,238.963, 238.962,238.96,238.959,238.958,238.957, 238.956,238.954,238.953,238.952,238.951 ,238.949,238.948,238.947,238.945, 238.944,238.943,238.941,238.94,238.939, 238.937,238.936,238.934,238.933,238.931 ,238.93,238.929,238.927,238.926,238.924 ,238.923,238.921,238.918,238.916, 238.912,238.909,238.906,238.903,239.097 ,239.302,239.568,239.772,239.904, 240.035,240.125,240.125,240.125,240.125 ,240.125,240.125,240.125,240.125, 240.125,240.125,240.126,240.126,240.126 ,240.126,240.126,240.126,240.127, 240.127,240.127,240.127,240.127,240.128 ,240.128,240.128,240.128,240.129, 240.129,240.129,240.129,240.13,240.13, 240.13,240.13,240.131,240.131,240.131, 240.132,240.132,240.132,240.133,240.133 ,240.133,240.134,240.096)
ORBIT_NUMBER = 7216
ORBITAL_ECCENTRICITY = 0.576
ORBITAL_INCLINATION = 86.8
ORBITAL_SEMIMAJOR_AXIS = 8785.6
PERIAPSIS_ALTITUDE = 333.49
PERIAPSIS_ARGUMENT_ANGLE = 172.37
PERIAPSIS_TIME = 2009-08-18T00:45:43.000Z
SPACECRAFT_ORIENTATION = (0.0,-1.0,0.0)
^MEX_ORIENTATION_DESC = "MEX_ORIENTATION_DESC.TXT"
SPACECRAFT_POINTING_MODE = ACROSSTRACK
^MEX_POINTING_DESC = "MEX_POINTING_DESC.TXT"
RIGHT_ASCENSION = -1e+32
DECLINATION = -1e+32
OFFSET_ANGLE = -0.15
SPACECRAFT_SOLAR_DISTANCE = 2.1965e+08
TARGET_NAME = MARS
/* CAMERA DATA ELEMENTS */
DETECTOR_TEMPERATURE = 18.3705
FOCAL_PLANE_TEMPERATURE = 8.5833
INST_CMPRS_NAME = "DISCRETE COSINE TRANSFORMATION (DCT)"
INST_CMPRS_RATIO = 5.95922
INST_CMPRS_QUALITY = 0
INST_CMPRS_QUANTZ_TBL_ID = 0
INSTRUMENT_TEMPERATURE = 11.234
LENS_TEMPERATURE = 9.195
MACROPIXEL_SIZE = 1
MISSING_FRAMES = 0
PIXEL_SUBSAMPLING_FLAG = N
SIGNAL_CHAIN_ID = 0
/* RADIOMETRIC DATA ELEMENTS */
BANDWIDTH = 177.0
CENTER_FILTER_WAVELENGTH = 677.5
RADIANCE_OFFSET = 2.41756
RADIANCE_SCALING_FACTOR = 0.0170652
REFLECTANCE_SCALING_FACTOR = 0.000437379
MEX:REFLECTANCE_OFFSET = 0.061962
/* IMAGE OBJECT DEFINITIONS */
OBJECT = IMAGE
  INTERCHANGE_FORMAT = BINARY
  LINES = 27367
  LINE_SAMPLES = 6334
  SAMPLE_TYPE = UNSIGNED_INTEGER
  SAMPLE_BITS = 8
  BANDS = 1
  BAND_STORAGE_TYPE = BAND_SEQUENTIAL
  MAXIMUM = 255
  MEAN = 101.718
  MINIMUM = 1
  STANDARD_DEVIATION = 14.9747
END_OBJECT = IMAGE
/* MAP OBJECT DEFINITIONS */
OBJECT = IMAGE_MAP_PROJECTION
  ^DATA_SET_MAP_PROJECTION_CATALOG= "DSMAP.CAT"
  A_AXIS_RADIUS = 3396.0
  B_AXIS_RADIUS = 3396.0
  C_AXIS_RADIUS = 3396.0
  CENTER_LATITUDE = 0.0
  CENTER_LONGITUDE = 240.0
  COORDINATE_SYSTEM_NAME = PLANETOGRAPHIC
  COORDINATE_SYSTEM_TYPE = "BODY-FIXED ROTATING"
  EASTERNMOST_LONGITUDE = 240.134
  FIRST_STANDARD_PARALLEL = "N/A"
  LINE_FIRST_PIXEL = 1
  LINE_LAST_PIXEL = 27367
  LINE_PROJECTION_OFFSET = 12813.0
  MAP_PROJECTION_ROTATION = 0.0
  MAP_PROJECTION_TYPE = SINUSOIDAL
  MAP_RESOLUTION = 4741.71043093333
  MAP_SCALE = 0.0125
  MAXIMUM_LATITUDE = 2.70122
  MINIMUM_LATITUDE = -3.06944
  POSITIVE_LONGITUDE_DIRECTION = EAST
  REFERENCE_LATITUDE = "N/A"
  REFERENCE_LONGITUDE = "N/A"
  SAMPLE_FIRST_PIXEL = 1
  SAMPLE_LAST_PIXEL = 6334
  SAMPLE_PROJECTION_OFFSET = 5521.0
  SECOND_STANDARD_PARALLEL = "N/A"
  WESTERNMOST_LONGITUDE = 238.903
END_OBJECT = IMAGE_MAP_PROJECTION
/* The JPEG2000 image data file associated with this label. */
OBJECT = COMPRESSED_FILE
  FILE_NAME = "H7216_0000_ND3.JP2"
  RECORD_TYPE = UNDEFINED
  FILE_RECORDS = UNK
  ENCODING_TYPE = "JP2"
  INTERCHANGE_FORMAT = BINARY
  UNCOMPRESSED_FILE_NAME = "H7216_0000_ND3.IMG"
  REQUIRED_STORAGE_BYTES = "173374248"
  ^DESCRIPTION = "JP2INFO.TXT"
END_OBJECT = COMPRESSED_FILE
END
