PDS_VERSION_ID = PDS3
/* FILE DATA ELEMENTS */
RECORD_TYPE = STREAM
/* POINTERS TO DATA OBJECTS */
^COMPRESSED_FILE = "H7219_0000_RE3.JP2"
/* IDENTIFICATION DATA ELEMENTS */
DATA_SET_ID = "MEX-M-HRSC-5-REFDR-MAPPROJECTED-V3.0"
DATA_SET_NAME = "MARS EXPRESS HRSC MAP PROJECTED REFDR V3.0"
DETECTOR_ID = MEX_HRSC_RED
EVENT_TYPE = "MARS-REGIONAL-MAPPING-Vo-Te-Im"
INSTRUMENT_HOST_ID = MEX
INSTRUMENT_HOST_NAME = "MARS EXPRESS"
INSTRUMENT_ID = HRSC
INSTRUMENT_NAME = "HIGH RESOLUTION STEREO CAMERA"
MISSION_NAME = "MARS EXPRESS"
MISSION_PHASE_NAME = ME_Phase_18
PROCESSING_LEVEL_ID = 3
PRODUCT_CREATION_TIME = 2016-06-30T05:04:16.000Z
PRODUCT_ID = "H7219_0000_RE3.JP2"
RELEASE_ID = 0080
REVISION_ID = 0000
/* QUALITY DATA ELEMENTS */
DATA_QUALITY_ID = 1
DATA_QUALITY_DESC = "Data calculated based on original SPICE kernels"
/* TIME DATA ELEMENTS */
SPACECRAFT_CLOCK_START_COUNT = "1/0198710701.07282"
SPACECRAFT_CLOCK_STOP_COUNT = "1/0198710943.56608"
START_TIME = 2009-08-18T21:25:59.989Z
STOP_TIME = 2009-08-18T21:28:58.812Z
/* ORBITAL DATA ELEMENTS */
ASCENDING_NODE_LONGITUDE = 79.78
MAXIMUM_RESOLUTION = 112.1
FOOTPRINT_POINT_LATITUDE = (13.342,13.345,13.3476,13.3507,13.3539, 13.3647,13.0165,12.7851,12.5535,12.3217 ,12.09,11.8586,11.627,11.396,11.1648, 10.9337,10.7028,10.4718,10.126,9.8952, 9.66445,9.4342,9.08872,8.74342,8.39825, 8.05337,7.82384,7.59414,7.36467,7.0211, 6.79216,6.44877,6.22032,5.99173,5.7634, 5.417,5.18135,4.94598,4.71049,4.35739, 4.1225,3.77081,3.53622,3.30206,3.06792, 2.71732,2.48418,2.25077,2.01776,1.78526 ,1.76471,1.75945,1.75554,1.75093, 1.74766,1.74559,1.97866,2.21155,2.4447, 2.79439,3.15032,3.49682,3.73143,4.08377 ,4.31852,4.67155,5.0247,5.26042,5.61097 ,5.83987,6.18291,6.52562,6.75771, 6.98394,7.2133,7.44253,7.67193,7.90161, 8.13121,8.47615,8.70631,8.93627,9.16671 ,9.39742,9.62773,9.85817,10.0886, 10.3196,10.6664,10.8976,11.1292,11.3604 ,11.5919,11.8232,12.0548,12.2861,12.518 ,12.8657,13.2136,13.342)
FOOTPRINT_POINT_LONGITUDE = (297.307,297.127,296.969,296.788, 296.606,296.345,296.346,296.347,296.347 ,296.348,296.348,296.348,296.349, 296.349,296.349,296.349,296.348,296.348 ,296.348,296.348,296.347,296.347, 296.346,296.345,296.344,296.343,296.342 ,296.341,296.34,296.338,296.336,296.335 ,296.333,296.332,296.33,296.328,296.326 ,296.324,296.323,296.32,296.318,296.315 ,296.313,296.31,296.308,296.305,296.302 ,296.3,296.297,296.294,296.441,296.68, 296.873,297.11,297.279,297.501,297.501, 297.501,297.502,297.502,297.504,297.504 ,297.504,297.505,297.506,297.507, 297.508,297.509,297.51,297.511,297.513, 297.514,297.516,297.516,297.517,297.518 ,297.519,297.521,297.522,297.523, 297.525,297.526,297.527,297.529,297.53, 297.531,297.533,297.534,297.536,297.538 ,297.54,297.541,297.543,297.544,297.546 ,297.548,297.549,297.552,297.555, 297.307)
ORBIT_NUMBER = 7219
ORBITAL_ECCENTRICITY = 0.575
ORBITAL_INCLINATION = 86.8
ORBITAL_SEMIMAJOR_AXIS = 8773.76
PERIAPSIS_ALTITUDE = 334.1
PERIAPSIS_ARGUMENT_ANGLE = 171.88
PERIAPSIS_TIME = 2009-08-18T21:26:55.000Z
SPACECRAFT_ORIENTATION = (0.0,-1.0,0.0)
^MEX_ORIENTATION_DESC = "MEX_ORIENTATION_DESC.TXT"
SPACECRAFT_POINTING_MODE = ACROSSTRACK
^MEX_POINTING_DESC = "MEX_POINTING_DESC.TXT"
RIGHT_ASCENSION = -1e+32
DECLINATION = -1e+32
OFFSET_ANGLE = -0.25
SPACECRAFT_SOLAR_DISTANCE = 2.19811e+08
TARGET_NAME = MARS
/* CAMERA DATA ELEMENTS */
DETECTOR_TEMPERATURE = 18.5744
FOCAL_PLANE_TEMPERATURE = 7.9716
INST_CMPRS_NAME = "DISCRETE COSINE TRANSFORMATION (DCT)"
INST_CMPRS_RATIO = 17.6979
INST_CMPRS_QUALITY = 0
INST_CMPRS_QUANTZ_TBL_ID = 0
INSTRUMENT_TEMPERATURE = 11.234
LENS_TEMPERATURE = 8.7872
MACROPIXEL_SIZE = 8
MISSING_FRAMES = 0
PIXEL_SUBSAMPLING_FLAG = N
SIGNAL_CHAIN_ID = 2
/* RADIOMETRIC DATA ELEMENTS */
BANDWIDTH = 48.0
CENTER_FILTER_WAVELENGTH = 748.0
RADIANCE_OFFSET = 0.591551
RADIANCE_SCALING_FACTOR = 0.00383038
REFLECTANCE_SCALING_FACTOR = 0.000422341
MEX:REFLECTANCE_OFFSET = 0.065225
/* IMAGE OBJECT DEFINITIONS */
OBJECT = IMAGE
  INTERCHANGE_FORMAT = BINARY
  LINES = 6874
  LINE_SAMPLES = 788
  SAMPLE_TYPE = UNSIGNED_INTEGER
  SAMPLE_BITS = 8
  BANDS = 1
  BAND_STORAGE_TYPE = BAND_SEQUENTIAL
  MAXIMUM = 255
  MEAN = 109.509
  MINIMUM = 1
  STANDARD_DEVIATION = 17.4985
END_OBJECT = IMAGE
/* MAP OBJECT DEFINITIONS */
OBJECT = IMAGE_MAP_PROJECTION
  ^DATA_SET_MAP_PROJECTION_CATALOG= "DSMAP.CAT"
  A_AXIS_RADIUS = 3396.0
  B_AXIS_RADIUS = 3396.0
  C_AXIS_RADIUS = 3396.0
  CENTER_LATITUDE = 0.0
  CENTER_LONGITUDE = 297.0
  COORDINATE_SYSTEM_NAME = PLANETOGRAPHIC
  COORDINATE_SYSTEM_TYPE = "BODY-FIXED ROTATING"
  EASTERNMOST_LONGITUDE = 297.555
  FIRST_STANDARD_PARALLEL = "N/A"
  LINE_FIRST_PIXEL = 1
  LINE_LAST_PIXEL = 6874
  LINE_PROJECTION_OFFSET = 7922.5625
  MAP_PROJECTION_ROTATION = 0.0
  MAP_PROJECTION_TYPE = SINUSOIDAL
  MAP_RESOLUTION = 592.713803866667
  MAP_SCALE = 0.1
  MAXIMUM_LATITUDE = 13.3647
  MINIMUM_LATITUDE = 1.74559
  POSITIVE_LONGITUDE_DIRECTION = EAST
  REFERENCE_LATITUDE = "N/A"
  REFERENCE_LONGITUDE = "N/A"
  SAMPLE_FIRST_PIXEL = 1
  SAMPLE_LAST_PIXEL = 788
  SAMPLE_PROJECTION_OFFSET = 450.9375
  SECOND_STANDARD_PARALLEL = "N/A"
  WESTERNMOST_LONGITUDE = 296.294
END_OBJECT = IMAGE_MAP_PROJECTION
/* The JPEG2000 image data file associated with this label. */
OBJECT = COMPRESSED_FILE
  FILE_NAME = "H7219_0000_RE3.JP2"
  RECORD_TYPE = UNDEFINED
  FILE_RECORDS = UNK
  ENCODING_TYPE = "JP2"
  INTERCHANGE_FORMAT = BINARY
  UNCOMPRESSED_FILE_NAME = "H7219_0000_RE3.IMG"
  REQUIRED_STORAGE_BYTES = "5434048"
  ^DESCRIPTION = "JP2INFO.TXT"
END_OBJECT = COMPRESSED_FILE
END
