PDS_VERSION_ID = PDS3
/* FILE DATA ELEMENTS */
RECORD_TYPE = STREAM
/* POINTERS TO DATA OBJECTS */
^COMPRESSED_FILE = "H7225_0009_P13.JP2"
/* IDENTIFICATION DATA ELEMENTS */
DATA_SET_ID = "MEX-M-HRSC-5-REFDR-MAPPROJECTED-V3.0"
DATA_SET_NAME = "MARS EXPRESS HRSC MAP PROJECTED REFDR V3.0"
DETECTOR_ID = MEX_HRSC_P1
EVENT_TYPE = "MARS-REGIONAL-MAPPING-Im-Fl"
INSTRUMENT_HOST_ID = MEX
INSTRUMENT_HOST_NAME = "MARS EXPRESS"
INSTRUMENT_ID = HRSC
INSTRUMENT_NAME = "HIGH RESOLUTION STEREO CAMERA"
MISSION_NAME = "MARS EXPRESS"
MISSION_PHASE_NAME = ME_Phase_18
PROCESSING_LEVEL_ID = 3
PRODUCT_CREATION_TIME = 2016-06-30T05:04:16.000Z
PRODUCT_ID = "H7225_0009_P13.JP2"
RELEASE_ID = 0080
REVISION_ID = 0000
/* QUALITY DATA ELEMENTS */
DATA_QUALITY_ID = 1
DATA_QUALITY_DESC = "Data calculated based on original SPICE kernels"
/* TIME DATA ELEMENTS */
SPACECRAFT_CLOCK_START_COUNT = "1/0198859650.09050"
SPACECRAFT_CLOCK_STOP_COUNT = "1/0198859827.40085"
START_TIME = 2009-08-20T14:47:43.113Z
STOP_TIME = 2009-08-20T14:49:37.619Z
/* ORBITAL DATA ELEMENTS */
ASCENDING_NODE_LONGITUDE = 79.66
MAXIMUM_RESOLUTION = 27.3
FOOTPRINT_POINT_LATITUDE = (13.0748,13.0764,13.0776,13.0786, 13.0797,13.0802,13.0066,12.7803,12.6294 ,12.403,12.2517,12.1,11.9501,11.7989, 11.6478,11.4964,11.2033,11.0566,10.7639 ,10.6171,10.3972,10.2505,10.1036, 9.88361,9.73568,9.51403,9.36646,9.14537 ,8.99781,8.85043,8.70331,8.55648, 8.40872,8.188,8.04031,7.89248,7.74472, 7.59741,7.44964,7.30181,7.15397,7.00581 ,6.85794,6.70971,6.56198,6.33946, 6.19099,6.04302,5.89482,5.64498,5.64311 ,5.64166,5.63863,5.63685,5.63475, 5.78333,5.93182,6.08024,6.30116,6.44889 ,6.59688,6.81768,6.96536,7.11299, 7.26094,7.48461,7.63361,7.78095,7.92851 ,8.07631,8.22353,8.37132,8.5185,8.6662, 8.88752,9.03506,9.25736,9.47889,9.62662 ,9.77394,10.067,10.2139,10.4343,10.6546 ,10.8013,10.9481,11.0953,11.3149, 11.4613,11.612,11.7642,11.9125,12.0644, 12.293,12.444,12.5948,12.7457,12.8968, 13.047,13.0748)
FOOTPRINT_POINT_LONGITUDE = (52.7144,52.5253,52.3716,52.2182,52.006 ,51.8527,51.6612,51.6619,51.6622, 51.6628,51.663,51.663,51.6637,51.664, 51.6642,51.6643,51.6644,51.6644,51.6647 ,51.6647,51.6647,51.6647,51.6646, 51.6646,51.664,51.6632,51.6628,51.6622, 51.6617,51.6613,51.661,51.6608,51.6602, 51.6597,51.6591,51.6585,51.6578,51.6574 ,51.6567,51.656,51.6553,51.6544,51.6536 ,51.6527,51.652,51.6505,51.6494,51.6485 ,51.6475,51.6907,51.9283,52.1433, 52.4607,52.6196,52.817,52.8176,52.8183, 52.819,52.821,52.8221,52.823,52.8251, 52.8262,52.8273,52.8283,52.8288,52.8293 ,52.8305,52.8317,52.8327,52.8341, 52.8351,52.8364,52.8375,52.8392,52.8403 ,52.8415,52.843,52.8441,52.8453,52.8485 ,52.8499,52.8519,52.854,52.8555,52.8569 ,52.8581,52.8604,52.862,52.8633,52.8644 ,52.8675,52.8688,52.8702,52.8718, 52.8736,52.8752,52.8768,52.8788, 52.7144)
ORBIT_NUMBER = 7225
ORBITAL_ECCENTRICITY = 0.575
ORBITAL_INCLINATION = 86.8
ORBITAL_SEMIMAJOR_AXIS = 8776.96
PERIAPSIS_ALTITUDE = 334.45
PERIAPSIS_ARGUMENT_ANGLE = 170.84
PERIAPSIS_TIME = 2009-08-20T14:49:03.000Z
SPACECRAFT_ORIENTATION = (0.0,-1.0,0.0)
^MEX_ORIENTATION_DESC = "MEX_ORIENTATION_DESC.TXT"
SPACECRAFT_POINTING_MODE = ACROSSTRACK
^MEX_POINTING_DESC = "MEX_POINTING_DESC.TXT"
RIGHT_ASCENSION = -1e+32
DECLINATION = -1e+32
OFFSET_ANGLE = 0.07
SPACECRAFT_SOLAR_DISTANCE = 2.20133e+08
TARGET_NAME = MARS
/* CAMERA DATA ELEMENTS */
DETECTOR_TEMPERATURE = 17.7588
FOCAL_PLANE_TEMPERATURE = 8.9911
INST_CMPRS_NAME = "DISCRETE COSINE TRANSFORMATION (DCT)"
INST_CMPRS_RATIO = 12.5993
INST_CMPRS_QUALITY = 0
INST_CMPRS_QUANTZ_TBL_ID = 0
INSTRUMENT_TEMPERATURE = 11.6418
LENS_TEMPERATURE = 9.6028
MACROPIXEL_SIZE = 2
MISSING_FRAMES = 0
PIXEL_SUBSAMPLING_FLAG = N
SIGNAL_CHAIN_ID = 3
/* RADIOMETRIC DATA ELEMENTS */
BANDWIDTH = 174.0
CENTER_FILTER_WAVELENGTH = 675.0
RADIANCE_OFFSET = 2.69339
RADIANCE_SCALING_FACTOR = 0.0139231
REFLECTANCE_SCALING_FACTOR = 0.000362903
MEX:REFLECTANCE_OFFSET = 0.0702029
/* IMAGE OBJECT DEFINITIONS */
OBJECT = IMAGE
  INTERCHANGE_FORMAT = BINARY
  LINES = 17628
  LINE_SAMPLES = 3050
  SAMPLE_TYPE = UNSIGNED_INTEGER
  SAMPLE_BITS = 8
  BANDS = 1
  BAND_STORAGE_TYPE = BAND_SEQUENTIAL
  MAXIMUM = 255
  MEAN = 109.407
  MINIMUM = 1
  STANDARD_DEVIATION = 18.7774
END_OBJECT = IMAGE
/* MAP OBJECT DEFINITIONS */
OBJECT = IMAGE_MAP_PROJECTION
  ^DATA_SET_MAP_PROJECTION_CATALOG= "DSMAP.CAT"
  A_AXIS_RADIUS = 3396.0
  B_AXIS_RADIUS = 3396.0
  C_AXIS_RADIUS = 3396.0
  CENTER_LATITUDE = 0.0
  CENTER_LONGITUDE = 52.0
  COORDINATE_SYSTEM_NAME = PLANETOGRAPHIC
  COORDINATE_SYSTEM_TYPE = "BODY-FIXED ROTATING"
  EASTERNMOST_LONGITUDE = 52.8788
  FIRST_STANDARD_PARALLEL = "N/A"
  LINE_FIRST_PIXEL = 1
  LINE_LAST_PIXEL = 17628
  LINE_PROJECTION_OFFSET = 30967.25
  MAP_PROJECTION_ROTATION = 0.0
  MAP_PROJECTION_TYPE = SINUSOIDAL
  MAP_RESOLUTION = 2370.85521546667
  MAP_SCALE = 0.025
  MAXIMUM_LATITUDE = 13.0802
  MINIMUM_LATITUDE = 5.63475
  POSITIVE_LONGITUDE_DIRECTION = EAST
  REFERENCE_LATITUDE = "N/A"
  REFERENCE_LONGITUDE = "N/A"
  SAMPLE_FIRST_PIXEL = 1
  SAMPLE_LAST_PIXEL = 3050
  SAMPLE_PROJECTION_OFFSET = 925.75
  SECOND_STANDARD_PARALLEL = "N/A"
  WESTERNMOST_LONGITUDE = 51.6475
END_OBJECT = IMAGE_MAP_PROJECTION
/* The JPEG2000 image data file associated with this label. */
OBJECT = COMPRESSED_FILE
  FILE_NAME = "H7225_0009_P13.JP2"
  RECORD_TYPE = UNDEFINED
  FILE_RECORDS = UNK
  ENCODING_TYPE = "JP2"
  INTERCHANGE_FORMAT = BINARY
  UNCOMPRESSED_FILE_NAME = "H7225_0009_P13.IMG"
  REQUIRED_STORAGE_BYTES = "53789800"
  ^DESCRIPTION = "JP2INFO.TXT"
END_OBJECT = COMPRESSED_FILE
END
