PDS_VERSION_ID = PDS3
/* FILE DATA ELEMENTS */
RECORD_TYPE = STREAM
/* POINTERS TO DATA OBJECTS */
^COMPRESSED_FILE = "H7225_0010_RE3.JP2"
/* IDENTIFICATION DATA ELEMENTS */
DATA_SET_ID = "MEX-M-HRSC-5-REFDR-MAPPROJECTED-V3.0"
DATA_SET_NAME = "MARS EXPRESS HRSC MAP PROJECTED REFDR V3.0"
DETECTOR_ID = MEX_HRSC_RED
EVENT_TYPE = "MARS-REGIONAL-MAPPING-Im-Fl-Gl"
INSTRUMENT_HOST_ID = MEX
INSTRUMENT_HOST_NAME = "MARS EXPRESS"
INSTRUMENT_ID = HRSC
INSTRUMENT_NAME = "HIGH RESOLUTION STEREO CAMERA"
MISSION_NAME = "MARS EXPRESS"
MISSION_PHASE_NAME = ME_Phase_18
PROCESSING_LEVEL_ID = 3
PRODUCT_CREATION_TIME = 2016-06-30T05:04:16.000Z
PRODUCT_ID = "H7225_0010_RE3.JP2"
RELEASE_ID = 0080
REVISION_ID = 0000
/* QUALITY DATA ELEMENTS */
DATA_QUALITY_ID = 1
DATA_QUALITY_DESC = "Data calculated based on original SPICE kernels"
/* TIME DATA ELEMENTS */
SPACECRAFT_CLOCK_START_COUNT = "1/0198859966.09053"
SPACECRAFT_CLOCK_STOP_COUNT = "1/0198860268.12389"
START_TIME = 2009-08-20T14:53:54.906Z
STOP_TIME = 2009-08-20T14:57:38.009Z
/* ORBITAL DATA ELEMENTS */
ASCENDING_NODE_LONGITUDE = 79.66
MAXIMUM_RESOLUTION = 68
FOOTPRINT_POINT_LATITUDE = (-7.63602,-7.63597,-7.63548,-7.63344, -7.64485,-7.98576,-8.2149,-8.44421, -8.67361,-8.90205,-9.13486,-9.36927, -9.60258,-9.95327,-10.1879,-10.4253, -10.6623,-11.0178,-11.3814,-11.748, -11.989,-12.2353,-12.6044,-12.8499, -13.2193,-13.4682,-13.8479,-14.1051, -14.3575,-14.6131,-14.8724,-15.1293, -15.3817,-15.6419,-16.0332,-16.2981, -16.565,-16.8273,-17.0954,-17.3645, -17.6349,-17.9077,-18.3161,-18.5889, -18.869,-19.1513,-19.431,-19.7135, -19.9924,-20.3829,-20.3884,-20.3906, -20.3912,-20.3904,-20.3867,-20.0973, -19.8146,-19.3902,-19.1115,-18.8328, -18.42,-18.1439,-17.8721,-17.5983, -17.328,-17.0593,-16.7913,-16.5274, -16.2629,-15.9999,-15.7388,-15.3482, -15.0897,-14.7024,-14.3199,-13.9405, -13.6878,-13.4392,-13.1892,-12.815, -12.5714,-12.3255,-12.0795,-11.8352, -11.5933,-11.3518,-11.1104,-10.8718, -10.5211,-10.283,-10.0437,-9.80969, -9.45848,-9.22537,-8.87534,-8.53188, -8.30292,-8.07213,-7.84178,-7.63602)
FOOTPRINT_POINT_LONGITUDE = (52.6565,52.4411,52.1987,51.7823,51.42, 51.4117,51.4059,51.4003,51.3948,51.389, 51.3829,51.3771,51.371,51.3623,51.3553, 51.3487,51.3421,51.3323,51.3222,51.3133 ,51.3061,51.299,51.2883,51.2811,51.2679 ,51.26,51.2494,51.2425,51.234,51.2263, 51.2183,51.2096,51.1993,51.19,51.1764, 51.1673,51.1585,51.1483,51.1382,51.1285 ,51.1185,51.1084,51.0922,51.0804, 51.0711,51.0607,51.0497,51.0382,51.0253 ,51.0092,51.3399,51.6901,51.9625, 52.5471,52.9961,53.0913,53.0826,53.0702 ,53.0617,53.0532,53.0414,53.0341, 53.0269,53.0203,53.0137,53.0071,53.0003 ,52.9939,52.9875,52.9812,52.9756, 52.9665,52.9618,52.9545,52.9471,52.9396 ,52.9348,52.9302,52.9261,52.9198, 52.9153,52.9115,52.9077,52.9044,52.9011 ,52.8976,52.8939,52.8905,52.8838, 52.8809,52.8784,52.8759,52.8724,52.8696 ,52.866,52.8626,52.8602,52.8584,52.8564 ,52.6565)
ORBIT_NUMBER = 7225
ORBITAL_ECCENTRICITY = 0.575
ORBITAL_INCLINATION = 86.8
ORBITAL_SEMIMAJOR_AXIS = 8776.96
PERIAPSIS_ALTITUDE = 334.45
PERIAPSIS_ARGUMENT_ANGLE = 170.84
PERIAPSIS_TIME = 2009-08-20T14:49:03.000Z
SPACECRAFT_ORIENTATION = (0.0,-1.0,0.0)
^MEX_ORIENTATION_DESC = "MEX_ORIENTATION_DESC.TXT"
SPACECRAFT_POINTING_MODE = ACROSSTRACK
^MEX_POINTING_DESC = "MEX_POINTING_DESC.TXT"
RIGHT_ASCENSION = -1e+32
DECLINATION = -1e+32
OFFSET_ANGLE = 0.07
SPACECRAFT_SOLAR_DISTANCE = 2.20133e+08
TARGET_NAME = MARS
/* CAMERA DATA ELEMENTS */
DETECTOR_TEMPERATURE = 20.0017
FOCAL_PLANE_TEMPERATURE = 8.9911
INST_CMPRS_NAME = "DISCRETE COSINE TRANSFORMATION (DCT)"
INST_CMPRS_RATIO = 11.1173
INST_CMPRS_QUALITY = 0
INST_CMPRS_QUANTZ_TBL_ID = 0
INSTRUMENT_TEMPERATURE = 12.8652
LENS_TEMPERATURE = 9.3989
MACROPIXEL_SIZE = 4
MISSING_FRAMES = 0
PIXEL_SUBSAMPLING_FLAG = N
SIGNAL_CHAIN_ID = 2
/* RADIOMETRIC DATA ELEMENTS */
BANDWIDTH = 48.0
CENTER_FILTER_WAVELENGTH = 748.0
RADIANCE_OFFSET = 0.487709
RADIANCE_SCALING_FACTOR = 0.00457521
REFLECTANCE_SCALING_FACTOR = 0.000505956
MEX:REFLECTANCE_OFFSET = 0.053934
/* IMAGE OBJECT DEFINITIONS */
OBJECT = IMAGE
  INTERCHANGE_FORMAT = BINARY
  LINES = 15111
  LINE_SAMPLES = 2236
  SAMPLE_TYPE = UNSIGNED_INTEGER
  SAMPLE_BITS = 8
  BANDS = 1
  BAND_STORAGE_TYPE = BAND_SEQUENTIAL
  MAXIMUM = 255
  MEAN = 94.3544
  MINIMUM = 1
  STANDARD_DEVIATION = 26.9177
END_OBJECT = IMAGE
/* MAP OBJECT DEFINITIONS */
OBJECT = IMAGE_MAP_PROJECTION
  ^DATA_SET_MAP_PROJECTION_CATALOG= "DSMAP.CAT"
  A_AXIS_RADIUS = 3396.0
  B_AXIS_RADIUS = 3396.0
  C_AXIS_RADIUS = 3396.0
  CENTER_LATITUDE = 0.0
  CENTER_LONGITUDE = 52.0
  COORDINATE_SYSTEM_NAME = PLANETOGRAPHIC
  COORDINATE_SYSTEM_TYPE = "BODY-FIXED ROTATING"
  EASTERNMOST_LONGITUDE = 53.0913
  FIRST_STANDARD_PARALLEL = "N/A"
  LINE_FIRST_PIXEL = 1
  LINE_LAST_PIXEL = 15111
  LINE_PROJECTION_OFFSET = -9040.375
  MAP_PROJECTION_ROTATION = 0.0
  MAP_PROJECTION_TYPE = SINUSOIDAL
  MAP_RESOLUTION = 1185.42760773333
  MAP_SCALE = 0.05
  MAXIMUM_LATITUDE = -7.63344
  MINIMUM_LATITUDE = -20.3912
  POSITIVE_LONGITUDE_DIRECTION = EAST
  REFERENCE_LATITUDE = "N/A"
  REFERENCE_LONGITUDE = "N/A"
  SAMPLE_FIRST_PIXEL = 1
  SAMPLE_LAST_PIXEL = 2236
  SAMPLE_PROJECTION_OFFSET = 1048.875
  SECOND_STANDARD_PARALLEL = "N/A"
  WESTERNMOST_LONGITUDE = 51.0092
END_OBJECT = IMAGE_MAP_PROJECTION
/* The JPEG2000 image data file associated with this label. */
OBJECT = COMPRESSED_FILE
  FILE_NAME = "H7225_0010_RE3.JP2"
  RECORD_TYPE = UNDEFINED
  FILE_RECORDS = UNK
  ENCODING_TYPE = "JP2"
  INTERCHANGE_FORMAT = BINARY
  UNCOMPRESSED_FILE_NAME = "H7225_0010_RE3.IMG"
  REQUIRED_STORAGE_BYTES = "33810556"
  ^DESCRIPTION = "JP2INFO.TXT"
END_OBJECT = COMPRESSED_FILE
END
