PDS_VERSION_ID = PDS3
/* FILE DATA ELEMENTS */
RECORD_TYPE = STREAM
/* POINTERS TO DATA OBJECTS */
^COMPRESSED_FILE = "H7227_0000_ND3.JP2"
/* IDENTIFICATION DATA ELEMENTS */
DATA_SET_ID = "MEX-M-HRSC-5-REFDR-MAPPROJECTED-V3.0"
DATA_SET_NAME = "MARS EXPRESS HRSC MAP PROJECTED REFDR V3.0"
DETECTOR_ID = MEX_HRSC_NADIR
EVENT_TYPE = "MARS-REGIONAL-MAPPING-Vo-Fl"
INSTRUMENT_HOST_ID = MEX
INSTRUMENT_HOST_NAME = "MARS EXPRESS"
INSTRUMENT_ID = HRSC
INSTRUMENT_NAME = "HIGH RESOLUTION STEREO CAMERA"
MISSION_NAME = "MARS EXPRESS"
MISSION_PHASE_NAME = ME_Phase_18
PROCESSING_LEVEL_ID = 3
PRODUCT_CREATION_TIME = 2016-06-30T05:04:16.000Z
PRODUCT_ID = "H7227_0000_ND3.JP2"
RELEASE_ID = 0080
REVISION_ID = 0000
/* QUALITY DATA ELEMENTS */
DATA_QUALITY_ID = 1
DATA_QUALITY_DESC = "Data calculated based on original SPICE kernels"
/* TIME DATA ELEMENTS */
SPACECRAFT_CLOCK_START_COUNT = "1/0198909418.09059"
SPACECRAFT_CLOCK_STOP_COUNT = "1/0198909646.63825"
START_TIME = 2009-08-21T04:37:30.729Z
STOP_TIME = 2009-08-21T04:40:10.717Z
/* ORBITAL DATA ELEMENTS */
ASCENDING_NODE_LONGITUDE = 79.63
MAXIMUM_RESOLUTION = 13.7
FOOTPRINT_POINT_LATITUDE = (4.97321,4.97498,4.97685,4.97921, 4.77902,4.57826,4.37754,4.17687,3.97625 ,3.77568,3.57516,3.3747,3.17429,2.97395 ,2.77366,2.57343,2.37327,2.17316, 1.97314,1.77319,1.5733,1.37348,1.17373, 0.974051,0.774482,0.574986,0.375556, 0.176197,-0.0230781,-0.222253,-0.421339 ,-0.620333,-0.819232,-1.01803,-1.21671, -1.41533,-1.61384,-1.81227,-2.01059, -2.40691,-2.80282,-3.19829,-3.54238, -3.77792,-4.0133,-4.24853,-4.48362, -4.71846,-4.95315,-5.18766,-5.3275, -5.33057,-5.33255,-5.33414,-5.10059, -4.86596,-4.63113,-4.39614,-4.16099, -3.92567,-3.69017,-3.45452,-3.2249, -2.82937,-2.4334,-2.03704,-1.64027, -1.44173,-1.24307,-1.04431,-0.845473, -0.646539,-0.447508,-0.248387, -0.0491799,0.150117,0.349534,0.549025, 0.748596,0.948254,1.14798,1.34777, 1.54763,1.74756,1.94757,2.14765,2.34779 ,2.54801,2.74828,2.94863,3.14903, 3.34949,3.55001,3.75058,3.95121,4.15189 ,4.35262,4.5534,4.75422,4.97321)
FOOTPRINT_POINT_LONGITUDE = (210.984,210.715,210.41,209.988,209.904 ,209.902,209.9,209.898,209.896,209.895, 209.893,209.891,209.888,209.886,209.884 ,209.882,209.88,209.878,209.875,209.873 ,209.87,209.868,209.866,209.863,209.86, 209.858,209.855,209.853,209.85,209.847, 209.844,209.842,209.839,209.835,209.832 ,209.829,209.826,209.823,209.819, 209.813,209.807,209.8,209.794,209.789, 209.785,209.781,209.778,209.773,209.769 ,209.765,210.014,210.412,210.69,210.929 ,211.107,211.106,211.106,211.105, 211.105,211.104,211.103,211.102,211.102 ,211.101,211.1,211.099,211.097,211.097, 211.096,211.096,211.096,211.096,211.096 ,211.095,211.095,211.095,211.096, 211.096,211.097,211.098,211.098,211.098 ,211.098,211.099,211.099,211.099,211.1, 211.1,211.101,211.101,211.102,211.102, 211.103,211.103,211.104,211.105,211.105 ,211.106,211.107,210.984)
ORBIT_NUMBER = 7227
ORBITAL_ECCENTRICITY = 0.575
ORBITAL_INCLINATION = 86.8
ORBITAL_SEMIMAJOR_AXIS = 8772.59
PERIAPSIS_ALTITUDE = 334.97
PERIAPSIS_ARGUMENT_ANGLE = 170.45
PERIAPSIS_TIME = 2009-08-21T04:36:20.000Z
SPACECRAFT_ORIENTATION = (0.0,-1.0,0.0)
^MEX_ORIENTATION_DESC = "MEX_ORIENTATION_DESC.TXT"
SPACECRAFT_POINTING_MODE = NADIR
^MEX_POINTING_DESC = "MEX_POINTING_DESC.TXT"
RIGHT_ASCENSION = -1e+32
DECLINATION = -1e+32
OFFSET_ANGLE = -1e+32
SPACECRAFT_SOLAR_DISTANCE = 2.20241e+08
TARGET_NAME = MARS
/* CAMERA DATA ELEMENTS */
DETECTOR_TEMPERATURE = 18.3705
FOCAL_PLANE_TEMPERATURE = 8.9911
INST_CMPRS_NAME = "DISCRETE COSINE TRANSFORMATION (DCT)"
INST_CMPRS_RATIO = 5.6448
INST_CMPRS_QUALITY = 0
INST_CMPRS_QUANTZ_TBL_ID = 0
INSTRUMENT_TEMPERATURE = 11.234
LENS_TEMPERATURE = 9.3989
MACROPIXEL_SIZE = 1
MISSING_FRAMES = 0
PIXEL_SUBSAMPLING_FLAG = N
SIGNAL_CHAIN_ID = 0
/* RADIOMETRIC DATA ELEMENTS */
BANDWIDTH = 177.0
CENTER_FILTER_WAVELENGTH = 677.5
RADIANCE_OFFSET = 3.38459
RADIANCE_SCALING_FACTOR = 0.0108079
REFLECTANCE_SCALING_FACTOR = 0.0002785
MEX:REFLECTANCE_OFFSET = 0.0872144
/* IMAGE OBJECT DEFINITIONS */
OBJECT = IMAGE
  INTERCHANGE_FORMAT = BINARY
  LINES = 48921
  LINE_SAMPLES = 6680
  SAMPLE_TYPE = UNSIGNED_INTEGER
  SAMPLE_BITS = 8
  BANDS = 1
  BAND_STORAGE_TYPE = BAND_SEQUENTIAL
  MAXIMUM = 255
  MEAN = 109.006
  MINIMUM = 1
  STANDARD_DEVIATION = 22.0074
END_OBJECT = IMAGE
/* MAP OBJECT DEFINITIONS */
OBJECT = IMAGE_MAP_PROJECTION
  ^DATA_SET_MAP_PROJECTION_CATALOG= "DSMAP.CAT"
  A_AXIS_RADIUS = 3396.0
  B_AXIS_RADIUS = 3396.0
  C_AXIS_RADIUS = 3396.0
  CENTER_LATITUDE = 0.0
  CENTER_LONGITUDE = 210.0
  COORDINATE_SYSTEM_NAME = PLANETOGRAPHIC
  COORDINATE_SYSTEM_TYPE = "BODY-FIXED ROTATING"
  EASTERNMOST_LONGITUDE = 211.107
  FIRST_STANDARD_PARALLEL = "N/A"
  LINE_FIRST_PIXEL = 1
  LINE_LAST_PIXEL = 48921
  LINE_PROJECTION_OFFSET = 23621.0
  MAP_PROJECTION_ROTATION = 0.0
  MAP_PROJECTION_TYPE = SINUSOIDAL
  MAP_RESOLUTION = 4741.71043093333
  MAP_SCALE = 0.0125
  MAXIMUM_LATITUDE = 4.97921
  MINIMUM_LATITUDE = -5.33414
  POSITIVE_LONGITUDE_DIRECTION = EAST
  REFERENCE_LATITUDE = "N/A"
  REFERENCE_LONGITUDE = "N/A"
  SAMPLE_FIRST_PIXEL = 1
  SAMPLE_LAST_PIXEL = 6680
  SAMPLE_PROJECTION_OFFSET = 1272.0
  SECOND_STANDARD_PARALLEL = "N/A"
  WESTERNMOST_LONGITUDE = 209.765
END_OBJECT = IMAGE_MAP_PROJECTION
/* The JPEG2000 image data file associated with this label. */
OBJECT = COMPRESSED_FILE
  FILE_NAME = "H7227_0000_ND3.JP2"
  RECORD_TYPE = UNDEFINED
  FILE_RECORDS = UNK
  ENCODING_TYPE = "JP2"
  INTERCHANGE_FORMAT = BINARY
  UNCOMPRESSED_FILE_NAME = "H7227_0000_ND3.IMG"
  REQUIRED_STORAGE_BYTES = "326825680"
  ^DESCRIPTION = "JP2INFO.TXT"
END_OBJECT = COMPRESSED_FILE
END
