PDS_VERSION_ID = PDS3
/* FILE DATA ELEMENTS */
RECORD_TYPE = STREAM
/* POINTERS TO DATA OBJECTS */
^COMPRESSED_FILE = "H7229_0000_GR3.JP2"
/* IDENTIFICATION DATA ELEMENTS */
DATA_SET_ID = "MEX-M-HRSC-5-REFDR-MAPPROJECTED-V3.0"
DATA_SET_NAME = "MARS EXPRESS HRSC MAP PROJECTED REFDR V3.0"
DETECTOR_ID = MEX_HRSC_GREEN
EVENT_TYPE = "MARS-REGIONAL-MAPPING-Im-Fl"
INSTRUMENT_HOST_ID = MEX
INSTRUMENT_HOST_NAME = "MARS EXPRESS"
INSTRUMENT_ID = HRSC
INSTRUMENT_NAME = "HIGH RESOLUTION STEREO CAMERA"
MISSION_NAME = "MARS EXPRESS"
MISSION_PHASE_NAME = ME_Phase_18
PROCESSING_LEVEL_ID = 3
PRODUCT_CREATION_TIME = 2016-06-30T05:04:16.000Z
PRODUCT_ID = "H7229_0000_GR3.JP2"
RELEASE_ID = 0080
REVISION_ID = 0000
/* QUALITY DATA ELEMENTS */
DATA_QUALITY_ID = 1
DATA_QUALITY_DESC = "Data calculated based on original SPICE kernels"
/* TIME DATA ELEMENTS */
SPACECRAFT_CLOCK_START_COUNT = "1/0198959257.07300"
SPACECRAFT_CLOCK_STOP_COUNT = "1/0198959585.15682"
START_TIME = 2009-08-21T18:28:08.685Z
STOP_TIME = 2009-08-21T18:31:55.749Z
/* ORBITAL DATA ELEMENTS */
ASCENDING_NODE_LONGITUDE = 79.59
MAXIMUM_RESOLUTION = 63.4
FOOTPRINT_POINT_LATITUDE = (-7.36566,-7.36363,-7.35994,-7.48392, -7.73457,-7.98491,-8.23506,-8.48505, -8.7347,-8.98415,-9.23329,-9.48654, -9.74204,-9.99717,-10.252,-10.5064, -10.7668,-11.0278,-11.2884,-11.5487, -11.8124,-12.0788,-12.3447,-12.6104, -12.8796,-13.1513,-13.4226,-13.6936, -14.108,-14.3847,-14.661,-14.9424, -15.3745,-15.8005,-16.088,-16.375, -16.8113,-17.1036,-17.5464,-17.8435, -18.1407,-18.4434,-18.8971,-19.3582, -19.6655,-19.9777,-20.4564,-20.7743, -21.0916,-21.3486,-21.3534,-21.3553, -21.3563,-21.3571,-21.1947,-20.7195, -20.4026,-19.9229,-19.6121,-19.3048, -18.8452,-18.5427,-18.0901,-17.6439, -17.3465,-17.0546,-16.7622,-16.4704, -16.1835,-15.7536,-15.4699,-15.0374, -14.6152,-14.3389,-14.0621,-13.7856, -13.5149,-13.2437,-12.9713,-12.6997, -12.4342,-12.1683,-11.9021,-11.6365, -11.3762,-11.1156,-10.8548,-10.4652, -10.2104,-9.95531,-9.5727,-9.3175, -9.06837,-8.81898,-8.56929,-8.31944, -8.06932,-7.81905,-7.56865,-7.36566)
FOOTPRINT_POINT_LONGITUDE = (9.08004,8.82193,8.38377,8.04084, 8.03522,8.02975,8.02416,8.01837,8.01276 ,8.00706,8.00142,7.99545,7.98932, 7.98336,7.97747,7.97181,7.96531,7.95845 ,7.9519,7.94519,7.93818,7.93116,7.92432 ,7.91736,7.91012,7.90258,7.89531, 7.88776,7.87624,7.86832,7.86042,7.85241 ,7.83964,7.82696,7.81801,7.80913, 7.79585,7.78671,7.77087,7.76243,7.75254 ,7.74219,7.72686,7.7111,7.7006,7.68957, 7.67273,7.6615,7.65026,7.80918,8.31473, 8.68955,9.00811,9.28916,9.64729,9.63678 ,9.62827,9.61406,9.60677,9.59956, 9.58922,9.5822,9.5723,9.56262,9.55692, 9.55137,9.54574,9.5402,9.53478,9.5294, 9.52506,9.51652,9.50809,9.504,9.4998, 9.49705,9.49475,9.49098,9.48581,9.4811, 9.47803,9.47474,9.47166,9.46829,9.46517 ,9.46206,9.45919,9.45499,9.45233, 9.44982,9.44707,9.44466,9.44259,9.44054 ,9.43841,9.4365,9.43455,9.4328,9.4313, 9.08004)
ORBIT_NUMBER = 7229
ORBITAL_ECCENTRICITY = 0.575
ORBITAL_INCLINATION = 86.79
ORBITAL_SEMIMAJOR_AXIS = 8772.25
PERIAPSIS_ALTITUDE = 335.47
PERIAPSIS_ARGUMENT_ANGLE = 170.1
PERIAPSIS_TIME = 2009-08-21T18:23:47.000Z
SPACECRAFT_ORIENTATION = (0.0,-1.0,0.0)
^MEX_ORIENTATION_DESC = "MEX_ORIENTATION_DESC.TXT"
SPACECRAFT_POINTING_MODE = NADIR
^MEX_POINTING_DESC = "MEX_POINTING_DESC.TXT"
RIGHT_ASCENSION = -1e+32
DECLINATION = -1e+32
OFFSET_ANGLE = -1e+32
SPACECRAFT_SOLAR_DISTANCE = 2.20349e+08
TARGET_NAME = MARS
/* CAMERA DATA ELEMENTS */
DETECTOR_TEMPERATURE = 18.1666
FOCAL_PLANE_TEMPERATURE = 9.195
INST_CMPRS_NAME = "DISCRETE COSINE TRANSFORMATION (DCT)"
INST_CMPRS_RATIO = 10.6972
INST_CMPRS_QUALITY = 0
INST_CMPRS_QUANTZ_TBL_ID = 0
INSTRUMENT_TEMPERATURE = 11.234
LENS_TEMPERATURE = 9.195
MACROPIXEL_SIZE = 4
MISSING_FRAMES = 2
PIXEL_SUBSAMPLING_FLAG = N
SIGNAL_CHAIN_ID = 2
/* RADIOMETRIC DATA ELEMENTS */
BANDWIDTH = 88.0
CENTER_FILTER_WAVELENGTH = 538.0
RADIANCE_OFFSET = 0.884493
RADIANCE_SCALING_FACTOR = 0.00383159
REFLECTANCE_SCALING_FACTOR = 0.000160175
MEX:REFLECTANCE_OFFSET = 0.0369752
/* IMAGE OBJECT DEFINITIONS */
OBJECT = IMAGE
  INTERCHANGE_FORMAT = BINARY
  LINES = 16598
  LINE_SAMPLES = 2335
  SAMPLE_TYPE = UNSIGNED_INTEGER
  SAMPLE_BITS = 8
  BANDS = 1
  BAND_STORAGE_TYPE = BAND_SEQUENTIAL
  MAXIMUM = 255
  MEAN = 121.69
  MINIMUM = 1
  STANDARD_DEVIATION = 22.6652
END_OBJECT = IMAGE
/* MAP OBJECT DEFINITIONS */
OBJECT = IMAGE_MAP_PROJECTION
  ^DATA_SET_MAP_PROJECTION_CATALOG= "DSMAP.CAT"
  A_AXIS_RADIUS = 3396.0
  B_AXIS_RADIUS = 3396.0
  C_AXIS_RADIUS = 3396.0
  CENTER_LATITUDE = 0.0
  CENTER_LONGITUDE = 9.0
  COORDINATE_SYSTEM_NAME = PLANETOGRAPHIC
  COORDINATE_SYSTEM_TYPE = "BODY-FIXED ROTATING"
  EASTERNMOST_LONGITUDE = 9.64729
  FIRST_STANDARD_PARALLEL = "N/A"
  LINE_FIRST_PIXEL = 1
  LINE_LAST_PIXEL = 16598
  LINE_PROJECTION_OFFSET = -8719.125
  MAP_PROJECTION_ROTATION = 0.0
  MAP_PROJECTION_TYPE = SINUSOIDAL
  MAP_RESOLUTION = 1185.42760773333
  MAP_SCALE = 0.05
  MAXIMUM_LATITUDE = -7.35994
  MINIMUM_LATITUDE = -21.3571
  POSITIVE_LONGITUDE_DIRECTION = EAST
  REFERENCE_LATITUDE = "N/A"
  REFERENCE_LONGITUDE = "N/A"
  SAMPLE_FIRST_PIXEL = 1
  SAMPLE_LAST_PIXEL = 2335
  SAMPLE_PROJECTION_OFFSET = 1561.625
  SECOND_STANDARD_PARALLEL = "N/A"
  WESTERNMOST_LONGITUDE = 7.65026
END_OBJECT = IMAGE_MAP_PROJECTION
/* The JPEG2000 image data file associated with this label. */
OBJECT = COMPRESSED_FILE
  FILE_NAME = "H7229_0000_GR3.JP2"
  RECORD_TYPE = UNDEFINED
  FILE_RECORDS = UNK
  ENCODING_TYPE = "JP2"
  INTERCHANGE_FORMAT = BINARY
  UNCOMPRESSED_FILE_NAME = "H7229_0000_GR3.IMG"
  REQUIRED_STORAGE_BYTES = "38779680"
  ^DESCRIPTION = "JP2INFO.TXT"
END_OBJECT = COMPRESSED_FILE
END
