PDS_VERSION_ID = PDS3
/* FILE DATA ELEMENTS */
RECORD_TYPE = STREAM
/* POINTERS TO DATA OBJECTS */
^COMPRESSED_FILE = "H7229_0000_P13.JP2"
/* IDENTIFICATION DATA ELEMENTS */
DATA_SET_ID = "MEX-M-HRSC-5-REFDR-MAPPROJECTED-V3.0"
DATA_SET_NAME = "MARS EXPRESS HRSC MAP PROJECTED REFDR V3.0"
DETECTOR_ID = MEX_HRSC_P1
EVENT_TYPE = "MARS-REGIONAL-MAPPING-Im-Fl"
INSTRUMENT_HOST_ID = MEX
INSTRUMENT_HOST_NAME = "MARS EXPRESS"
INSTRUMENT_ID = HRSC
INSTRUMENT_NAME = "HIGH RESOLUTION STEREO CAMERA"
MISSION_NAME = "MARS EXPRESS"
MISSION_PHASE_NAME = ME_Phase_18
PROCESSING_LEVEL_ID = 3
PRODUCT_CREATION_TIME = 2016-06-30T05:04:16.000Z
PRODUCT_ID = "H7229_0000_P13.JP2"
RELEASE_ID = 0080
REVISION_ID = 0000
/* QUALITY DATA ELEMENTS */
DATA_QUALITY_ID = 1
DATA_QUALITY_DESC = "Data calculated based on original SPICE kernels"
/* TIME DATA ELEMENTS */
SPACECRAFT_CLOCK_START_COUNT = "1/0198959257.07300"
SPACECRAFT_CLOCK_STOP_COUNT = "1/0198959585.15682"
START_TIME = 2009-08-21T18:27:51.256Z
STOP_TIME = 2009-08-21T18:31:30.802Z
/* ORBITAL DATA ELEMENTS */
ASCENDING_NODE_LONGITUDE = 79.59
MAXIMUM_RESOLUTION = 63.8
FOOTPRINT_POINT_LATITUDE = (-7.3549,-7.35225,-7.35079,-7.3521, -7.60851,-7.86479,-8.12095,-8.37733, -8.6334,-8.88897,-9.27218,-9.52755, -9.91006,-10.1646,-10.4184,-10.8088, -11.0705,-11.4621,-11.7234,-11.9911, -12.3915,-12.6582,-12.9257,-13.1993, -13.4722,-13.8814,-14.1584,-14.4376, -14.7162,-14.9943,-15.279,-15.5636, -15.8484,-16.2812,-16.5719,-16.8617, -17.1553,-17.4556,-17.7494,-18.0496, -18.3524,-18.6545,-18.9607,-19.2685, -19.5756,-19.889,-20.3585,-20.6767, -20.9946,-21.3168,-21.3389,-21.344, -21.346,-21.344,-21.3451,-21.184,-20.87 ,-20.5512,-20.074,-19.7615,-19.2973, -18.9903,-18.6838,-18.3816,-18.0793, -17.6307,-17.3351,-16.8924,-16.6022, -16.3114,-15.8783,-15.5989,-15.1717, -14.8843,-14.6055,-14.3272,-13.9103, -13.6426,-13.3702,-13.0961,-12.8198, -12.5537,-12.1533,-11.8861,-11.6211, -11.229,-10.9677,-10.7061,-10.4459, -10.1909,-9.93581,-9.5547,-9.29919, -9.04388,-8.66028,-8.40437,-8.14841, -7.89224,-7.50849,-7.3549)
FOOTPRINT_POINT_LONGITUDE = (8.99798,8.65537,8.45249,8.05425, 8.04897,8.04364,8.03824,8.03261,8.02701 ,8.02151,8.01309,8.00737,7.9988,7.99314 ,7.98773,7.97843,7.97201,7.96249, 7.95589,7.94909,7.93924,7.93259,7.92579 ,7.91855,7.91154,7.90071,7.89328, 7.88569,7.87816,7.87067,7.86254,7.85458 ,7.84634,7.83373,7.82517,7.8168,7.80838 ,7.79747,7.78956,7.78007,7.77026, 7.76058,7.75077,7.74079,7.73086,7.72051 ,7.70488,7.69427,7.68379,7.67205, 7.92545,8.19685,8.59615,8.83181,9.15819 ,9.61402,9.60842,9.60075,9.58726, 9.58054,9.57041,9.56415,9.55783,9.55151 ,9.54543,9.53665,9.5315,9.5238,9.51879, 9.5138,9.50673,9.50476,9.49829,9.49135, 9.48727,9.48373,9.47822,9.47708,9.47392 ,9.47017,9.4646,9.46184,9.45752,9.45468 ,9.45167,9.44742,9.44483,9.44228, 9.43984,9.43749,9.43529,9.43295,9.43089 ,9.42906,9.42628,9.42451,9.42286, 9.42123,9.41926,8.99798)
ORBIT_NUMBER = 7229
ORBITAL_ECCENTRICITY = 0.575
ORBITAL_INCLINATION = 86.79
ORBITAL_SEMIMAJOR_AXIS = 8772.25
PERIAPSIS_ALTITUDE = 335.47
PERIAPSIS_ARGUMENT_ANGLE = 170.1
PERIAPSIS_TIME = 2009-08-21T18:23:47.000Z
SPACECRAFT_ORIENTATION = (0.0,-1.0,0.0)
^MEX_ORIENTATION_DESC = "MEX_ORIENTATION_DESC.TXT"
SPACECRAFT_POINTING_MODE = NADIR
^MEX_POINTING_DESC = "MEX_POINTING_DESC.TXT"
RIGHT_ASCENSION = -1e+32
DECLINATION = -1e+32
OFFSET_ANGLE = -1e+32
SPACECRAFT_SOLAR_DISTANCE = 2.20349e+08
TARGET_NAME = MARS
/* CAMERA DATA ELEMENTS */
DETECTOR_TEMPERATURE = 17.9627
FOCAL_PLANE_TEMPERATURE = 9.195
INST_CMPRS_NAME = "DISCRETE COSINE TRANSFORMATION (DCT)"
INST_CMPRS_RATIO = 11.0517
INST_CMPRS_QUALITY = 0
INST_CMPRS_QUANTZ_TBL_ID = 0
INSTRUMENT_TEMPERATURE = 11.234
LENS_TEMPERATURE = 9.195
MACROPIXEL_SIZE = 4
MISSING_FRAMES = 0
PIXEL_SUBSAMPLING_FLAG = N
SIGNAL_CHAIN_ID = 3
/* RADIOMETRIC DATA ELEMENTS */
BANDWIDTH = 174.0
CENTER_FILTER_WAVELENGTH = 675.0
RADIANCE_OFFSET = 2.34994
RADIANCE_SCALING_FACTOR = 0.0138801
REFLECTANCE_SCALING_FACTOR = 0.000362494
MEX:REFLECTANCE_OFFSET = 0.0613714
/* IMAGE OBJECT DEFINITIONS */
OBJECT = IMAGE
  INTERCHANGE_FORMAT = BINARY
  LINES = 16598
  LINE_SAMPLES = 2335
  SAMPLE_TYPE = UNSIGNED_INTEGER
  SAMPLE_BITS = 8
  BANDS = 1
  BAND_STORAGE_TYPE = BAND_SEQUENTIAL
  MAXIMUM = 255
  MEAN = 95.3284
  MINIMUM = 1
  STANDARD_DEVIATION = 28.7224
END_OBJECT = IMAGE
/* MAP OBJECT DEFINITIONS */
OBJECT = IMAGE_MAP_PROJECTION
  ^DATA_SET_MAP_PROJECTION_CATALOG= "DSMAP.CAT"
  A_AXIS_RADIUS = 3396.0
  B_AXIS_RADIUS = 3396.0
  C_AXIS_RADIUS = 3396.0
  CENTER_LATITUDE = 0.0
  CENTER_LONGITUDE = 9.0
  COORDINATE_SYSTEM_NAME = PLANETOGRAPHIC
  COORDINATE_SYSTEM_TYPE = "BODY-FIXED ROTATING"
  EASTERNMOST_LONGITUDE = 9.61402
  FIRST_STANDARD_PARALLEL = "N/A"
  LINE_FIRST_PIXEL = 1
  LINE_LAST_PIXEL = 16598
  LINE_PROJECTION_OFFSET = -8719.125
  MAP_PROJECTION_ROTATION = 0.0
  MAP_PROJECTION_TYPE = SINUSOIDAL
  MAP_RESOLUTION = 1185.42760773333
  MAP_SCALE = 0.05
  MAXIMUM_LATITUDE = -7.35079
  MINIMUM_LATITUDE = -21.346
  POSITIVE_LONGITUDE_DIRECTION = EAST
  REFERENCE_LATITUDE = "N/A"
  REFERENCE_LONGITUDE = "N/A"
  SAMPLE_FIRST_PIXEL = 1
  SAMPLE_LAST_PIXEL = 2335
  SAMPLE_PROJECTION_OFFSET = 1561.625
  SECOND_STANDARD_PARALLEL = "N/A"
  WESTERNMOST_LONGITUDE = 7.67205
END_OBJECT = IMAGE_MAP_PROJECTION
/* The JPEG2000 image data file associated with this label. */
OBJECT = COMPRESSED_FILE
  FILE_NAME = "H7229_0000_P13.JP2"
  RECORD_TYPE = UNDEFINED
  FILE_RECORDS = UNK
  ENCODING_TYPE = "JP2"
  INTERCHANGE_FORMAT = BINARY
  UNCOMPRESSED_FILE_NAME = "H7229_0000_P13.IMG"
  REQUIRED_STORAGE_BYTES = "38779680"
  ^DESCRIPTION = "JP2INFO.TXT"
END_OBJECT = COMPRESSED_FILE
END
