PDS_VERSION_ID = PDS3
/* FILE DATA ELEMENTS */
RECORD_TYPE = STREAM
/* POINTERS TO DATA OBJECTS */
^COMPRESSED_FILE = "H7229_0000_RE3.JP2"
/* IDENTIFICATION DATA ELEMENTS */
DATA_SET_ID = "MEX-M-HRSC-5-REFDR-MAPPROJECTED-V3.0"
DATA_SET_NAME = "MARS EXPRESS HRSC MAP PROJECTED REFDR V3.0"
DETECTOR_ID = MEX_HRSC_RED
EVENT_TYPE = "MARS-REGIONAL-MAPPING-Im-Fl"
INSTRUMENT_HOST_ID = MEX
INSTRUMENT_HOST_NAME = "MARS EXPRESS"
INSTRUMENT_ID = HRSC
INSTRUMENT_NAME = "HIGH RESOLUTION STEREO CAMERA"
MISSION_NAME = "MARS EXPRESS"
MISSION_PHASE_NAME = ME_Phase_18
PROCESSING_LEVEL_ID = 3
PRODUCT_CREATION_TIME = 2016-06-30T05:04:16.000Z
PRODUCT_ID = "H7229_0000_RE3.JP2"
RELEASE_ID = 0080
REVISION_ID = 0000
/* QUALITY DATA ELEMENTS */
DATA_QUALITY_ID = 1
DATA_QUALITY_DESC = "Data calculated based on original SPICE kernels"
/* TIME DATA ELEMENTS */
SPACECRAFT_CLOCK_START_COUNT = "1/0198959257.07300"
SPACECRAFT_CLOCK_STOP_COUNT = "1/0198959585.15682"
START_TIME = 2009-08-21T18:28:46.888Z
STOP_TIME = 2009-08-21T18:32:54.340Z
/* ORBITAL DATA ELEMENTS */
ASCENDING_NODE_LONGITUDE = 79.59
MAXIMUM_RESOLUTION = 69.4
FOOTPRINT_POINT_LATITUDE = (-7.37653,-7.3734,-7.36949,-7.48786, -7.73366,-7.97984,-8.35491,-8.6061, -8.85735,-9.10811,-9.49129,-9.87476, -10.1304,-10.3916,-10.6535,-10.9118, -11.1721,-11.4372,-11.701,-11.9645, -12.2331,-12.502,-12.7706,-13.1782, -13.4518,-13.863,-14.1414,-14.4183, -14.6989,-14.981,-15.4046,-15.6909, -16.1204,-16.41,-16.6999,-16.9946, -17.2822,-17.5774,-17.8804,-18.3297, -18.6301,-18.9354,-19.2405,-19.5495, -19.8587,-20.1712,-20.6438,-20.9612, -21.274,-21.3621,-21.3613,-21.3675, -21.3663,-21.3608,-21.0369,-20.7185, -20.4036,-19.9398,-19.63,-19.3202, -19.0146,-18.7089,-18.4083,-17.9576, -17.6608,-17.2158,-16.9224,-16.6296, -16.3406,-15.9075,-15.6145,-15.3283, -15.0483,-14.6328,-14.3535,-14.0764, -13.7963,-13.5169,-13.2439,-12.9731, -12.5734,-12.3041,-12.035,-11.77, -11.3751,-11.1108,-10.8517,-10.5921, -10.3317,-9.94612,-9.6882,-9.43245, -9.05059,-8.80005,-8.54894,-8.29715, -8.04639,-7.6767,-7.42944,-7.37653)
FOOTPRINT_POINT_LONGITUDE = (9.09517,8.59172,8.19721,7.99844,7.9921 ,7.98598,7.97639,7.96982,7.96337, 7.95685,7.9466,7.93618,7.92938,7.9225, 7.91567,7.90773,7.90022,7.89247,7.88442 ,7.87639,7.86847,7.86019,7.85196, 7.83904,7.83055,7.81712,7.80832,7.79915 ,7.78979,7.78043,7.76569,7.75587, 7.74043,7.72986,7.71962,7.70891,7.6959, 7.68419,7.67475,7.65681,7.64465,7.6325, 7.62014,7.60753,7.59478,7.58151,7.56169 ,7.54819,7.53162,7.94403,8.50073, 8.89295,9.24385,9.74696,9.73745,9.72784 ,9.71723,9.70042,9.69132,9.68225, 9.67366,9.665,9.65648,9.64416,9.63629, 9.62544,9.61821,9.61124,9.60441,9.59446 ,9.59108,9.58503,9.57846,9.56735, 9.56204,9.55675,9.55243,9.54951,9.54467 ,9.53895,9.5306,9.52637,9.52201,9.51834 ,9.51174,9.50778,9.50401,9.50029, 9.49676,9.49156,9.48927,9.48609,9.48166 ,9.47875,9.47595,9.47331,9.4707,9.46716 ,9.46498,9.09517)
ORBIT_NUMBER = 7229
ORBITAL_ECCENTRICITY = 0.575
ORBITAL_INCLINATION = 86.79
ORBITAL_SEMIMAJOR_AXIS = 8772.25
PERIAPSIS_ALTITUDE = 335.47
PERIAPSIS_ARGUMENT_ANGLE = 170.1
PERIAPSIS_TIME = 2009-08-21T18:23:47.000Z
SPACECRAFT_ORIENTATION = (0.0,-1.0,0.0)
^MEX_ORIENTATION_DESC = "MEX_ORIENTATION_DESC.TXT"
SPACECRAFT_POINTING_MODE = NADIR
^MEX_POINTING_DESC = "MEX_POINTING_DESC.TXT"
RIGHT_ASCENSION = -1e+32
DECLINATION = -1e+32
OFFSET_ANGLE = -1e+32
SPACECRAFT_SOLAR_DISTANCE = 2.20349e+08
TARGET_NAME = MARS
/* CAMERA DATA ELEMENTS */
DETECTOR_TEMPERATURE = 17.7588
FOCAL_PLANE_TEMPERATURE = 9.195
INST_CMPRS_NAME = "DISCRETE COSINE TRANSFORMATION (DCT)"
INST_CMPRS_RATIO = 12.8756
INST_CMPRS_QUALITY = 0
INST_CMPRS_QUANTZ_TBL_ID = 0
INSTRUMENT_TEMPERATURE = 11.234
LENS_TEMPERATURE = 9.195
MACROPIXEL_SIZE = 4
MISSING_FRAMES = 0
PIXEL_SUBSAMPLING_FLAG = N
SIGNAL_CHAIN_ID = 2
/* RADIOMETRIC DATA ELEMENTS */
BANDWIDTH = 48.0
CENTER_FILTER_WAVELENGTH = 748.0
RADIANCE_OFFSET = 0.602465
RADIANCE_SCALING_FACTOR = 0.00423769
REFLECTANCE_SCALING_FACTOR = 0.000469548
MEX:REFLECTANCE_OFFSET = 0.0667548
/* IMAGE OBJECT DEFINITIONS */
OBJECT = IMAGE
  INTERCHANGE_FORMAT = BINARY
  LINES = 16598
  LINE_SAMPLES = 2335
  SAMPLE_TYPE = UNSIGNED_INTEGER
  SAMPLE_BITS = 8
  BANDS = 1
  BAND_STORAGE_TYPE = BAND_SEQUENTIAL
  MAXIMUM = 255
  MEAN = 90.0235
  MINIMUM = 1
  STANDARD_DEVIATION = 29.6704
END_OBJECT = IMAGE
/* MAP OBJECT DEFINITIONS */
OBJECT = IMAGE_MAP_PROJECTION
  ^DATA_SET_MAP_PROJECTION_CATALOG= "DSMAP.CAT"
  A_AXIS_RADIUS = 3396.0
  B_AXIS_RADIUS = 3396.0
  C_AXIS_RADIUS = 3396.0
  CENTER_LATITUDE = 0.0
  CENTER_LONGITUDE = 9.0
  COORDINATE_SYSTEM_NAME = PLANETOGRAPHIC
  COORDINATE_SYSTEM_TYPE = "BODY-FIXED ROTATING"
  EASTERNMOST_LONGITUDE = 9.74696
  FIRST_STANDARD_PARALLEL = "N/A"
  LINE_FIRST_PIXEL = 1
  LINE_LAST_PIXEL = 16598
  LINE_PROJECTION_OFFSET = -8719.125
  MAP_PROJECTION_ROTATION = 0.0
  MAP_PROJECTION_TYPE = SINUSOIDAL
  MAP_RESOLUTION = 1185.42760773333
  MAP_SCALE = 0.05
  MAXIMUM_LATITUDE = -7.36949
  MINIMUM_LATITUDE = -21.3675
  POSITIVE_LONGITUDE_DIRECTION = EAST
  REFERENCE_LATITUDE = "N/A"
  REFERENCE_LONGITUDE = "N/A"
  SAMPLE_FIRST_PIXEL = 1
  SAMPLE_LAST_PIXEL = 2335
  SAMPLE_PROJECTION_OFFSET = 1561.625
  SECOND_STANDARD_PARALLEL = "N/A"
  WESTERNMOST_LONGITUDE = 7.53162
END_OBJECT = IMAGE_MAP_PROJECTION
/* The JPEG2000 image data file associated with this label. */
OBJECT = COMPRESSED_FILE
  FILE_NAME = "H7229_0000_RE3.JP2"
  RECORD_TYPE = UNDEFINED
  FILE_RECORDS = UNK
  ENCODING_TYPE = "JP2"
  INTERCHANGE_FORMAT = BINARY
  UNCOMPRESSED_FILE_NAME = "H7229_0000_RE3.IMG"
  REQUIRED_STORAGE_BYTES = "38779680"
  ^DESCRIPTION = "JP2INFO.TXT"
END_OBJECT = COMPRESSED_FILE
END
