PDS_VERSION_ID = PDS3
/* FILE DATA ELEMENTS */
RECORD_TYPE = STREAM
/* POINTERS TO DATA OBJECTS */
^COMPRESSED_FILE = "H7229_0000_S13.JP2"
/* IDENTIFICATION DATA ELEMENTS */
DATA_SET_ID = "MEX-M-HRSC-5-REFDR-MAPPROJECTED-V3.0"
DATA_SET_NAME = "MARS EXPRESS HRSC MAP PROJECTED REFDR V3.0"
DETECTOR_ID = MEX_HRSC_S1
EVENT_TYPE = "MARS-REGIONAL-MAPPING-Im-Fl"
INSTRUMENT_HOST_ID = MEX
INSTRUMENT_HOST_NAME = "MARS EXPRESS"
INSTRUMENT_ID = HRSC
INSTRUMENT_NAME = "HIGH RESOLUTION STEREO CAMERA"
MISSION_NAME = "MARS EXPRESS"
MISSION_PHASE_NAME = ME_Phase_18
PROCESSING_LEVEL_ID = 3
PRODUCT_CREATION_TIME = 2016-06-30T05:04:16.000Z
PRODUCT_ID = "H7229_0000_S13.JP2"
RELEASE_ID = 0080
REVISION_ID = 0000
/* QUALITY DATA ELEMENTS */
DATA_QUALITY_ID = 1
DATA_QUALITY_DESC = "Data calculated based on original SPICE kernels"
/* TIME DATA ELEMENTS */
SPACECRAFT_CLOCK_START_COUNT = "1/0198959257.07300"
SPACECRAFT_CLOCK_STOP_COUNT = "1/0198959585.15682"
START_TIME = 2009-08-21T18:27:39.577Z
STOP_TIME = 2009-08-21T18:31:14.487Z
/* ORBITAL DATA ELEMENTS */
ASCENDING_NODE_LONGITUDE = 79.59
MAXIMUM_RESOLUTION = 32.6
FOOTPRINT_POINT_LATITUDE = (-7.35703,-7.35333,-7.356,-7.615, -7.87392,-8.13219,-8.39166,-8.65108, -9.03876,-9.29716,-9.55558,-9.81393, -10.0717,-10.3289,-10.5851,-10.8439, -11.2311,-11.4938,-11.759,-12.0238, -12.2872,-12.5512,-12.8217,-13.0928, -13.4979,-13.7695,-14.1846,-14.4615, -14.7381,-15.0178,-15.3017,-15.5843, -15.8677,-16.301,-16.5907,-16.8787, -17.1729,-17.4736,-17.7651,-18.0647, -18.3672,-18.8203,-19.128,-19.5892, -19.9002,-20.214,-20.5273,-20.8454, -21.1629,-21.3388,-21.3446,-21.3478, -21.3437,-21.3463,-21.1884,-20.716, -20.3987,-19.9228,-19.6122,-19.305, -18.9978,-18.6931,-18.3912,-18.0894, -17.7904,-17.4941,-17.2,-16.9051, -16.616,-16.3264,-15.8931,-15.6179, -15.3352,-15.0473,-14.623,-14.3473, -14.0701,-13.6651,-13.3956,-13.1235, -12.8452,-12.5753,-12.1795,-11.9157, -11.6493,-11.3855,-11.1253,-10.738, -10.4799,-10.2213,-9.96354,-9.70708, -9.31953,-8.93207,-8.54424,-8.28543, -8.02651,-7.76782,-7.50978,-7.35703)
FOOTPRINT_POINT_LONGITUDE = (8.93875,8.45467,8.05606,8.05087, 8.04561,8.04048,8.03488,8.0292,8.021, 8.01544,8.00978,8.00406,7.99842,7.9929, 7.98759,7.98135,7.97214,7.96585,7.95927 ,7.95274,7.94656,7.94008,7.93332, 7.92641,7.91627,7.90906,7.89838,7.89102 ,7.88366,7.87637,7.86845,7.86078, 7.85274,7.84039,7.832,7.82399,7.81552, 7.80508,7.79753,7.78826,7.77881,7.76452 ,7.75486,7.74028,7.73035,7.72014, 7.70989,7.69954,7.68955,7.92455,8.16466 ,8.51663,8.81305,9.25743,9.59398, 9.58515,9.57753,9.56548,9.55919,9.55297 ,9.54697,9.54102,9.53514,9.52953, 9.52417,9.51868,9.51408,9.50915,9.50449 ,9.49982,9.49323,9.49148,9.48755, 9.48217,9.47495,9.47169,9.46814,9.46565 ,9.46278,9.45923,9.45389,9.45125, 9.44729,9.4448,9.44165,9.43939,9.43681, 9.43328,9.43108,9.42884,9.42698,9.42559 ,9.42283,9.42031,9.41789,9.41631, 9.41478,9.41341,9.41233,8.93875)
ORBIT_NUMBER = 7229
ORBITAL_ECCENTRICITY = 0.575
ORBITAL_INCLINATION = 86.79
ORBITAL_SEMIMAJOR_AXIS = 8772.25
PERIAPSIS_ALTITUDE = 335.47
PERIAPSIS_ARGUMENT_ANGLE = 170.1
PERIAPSIS_TIME = 2009-08-21T18:23:47.000Z
SPACECRAFT_ORIENTATION = (0.0,-1.0,0.0)
^MEX_ORIENTATION_DESC = "MEX_ORIENTATION_DESC.TXT"
SPACECRAFT_POINTING_MODE = NADIR
^MEX_POINTING_DESC = "MEX_POINTING_DESC.TXT"
RIGHT_ASCENSION = -1e+32
DECLINATION = -1e+32
OFFSET_ANGLE = -1e+32
SPACECRAFT_SOLAR_DISTANCE = 2.20349e+08
TARGET_NAME = MARS
/* CAMERA DATA ELEMENTS */
DETECTOR_TEMPERATURE = 17.9627
FOCAL_PLANE_TEMPERATURE = 9.195
INST_CMPRS_NAME = "DISCRETE COSINE TRANSFORMATION (DCT)"
INST_CMPRS_RATIO = 8.25574
INST_CMPRS_QUALITY = 0
INST_CMPRS_QUANTZ_TBL_ID = 0
INSTRUMENT_TEMPERATURE = 11.234
LENS_TEMPERATURE = 9.195
MACROPIXEL_SIZE = 2
MISSING_FRAMES = 0
PIXEL_SUBSAMPLING_FLAG = N
SIGNAL_CHAIN_ID = 1
/* RADIOMETRIC DATA ELEMENTS */
BANDWIDTH = 180.0
CENTER_FILTER_WAVELENGTH = 677.0
RADIANCE_OFFSET = 2.58976
RADIANCE_SCALING_FACTOR = 0.0144527
REFLECTANCE_SCALING_FACTOR = 0.000366112
MEX:REFLECTANCE_OFFSET = 0.0656034
/* IMAGE OBJECT DEFINITIONS */
OBJECT = IMAGE
  INTERCHANGE_FORMAT = BINARY
  LINES = 33196
  LINE_SAMPLES = 4669
  SAMPLE_TYPE = UNSIGNED_INTEGER
  SAMPLE_BITS = 8
  BANDS = 1
  BAND_STORAGE_TYPE = BAND_SEQUENTIAL
  MAXIMUM = 255
  MEAN = 99.6528
  MINIMUM = 1
  STANDARD_DEVIATION = 28.6185
END_OBJECT = IMAGE
/* MAP OBJECT DEFINITIONS */
OBJECT = IMAGE_MAP_PROJECTION
  ^DATA_SET_MAP_PROJECTION_CATALOG= "DSMAP.CAT"
  A_AXIS_RADIUS = 3396.0
  B_AXIS_RADIUS = 3396.0
  C_AXIS_RADIUS = 3396.0
  CENTER_LATITUDE = 0.0
  CENTER_LONGITUDE = 9.0
  COORDINATE_SYSTEM_NAME = PLANETOGRAPHIC
  COORDINATE_SYSTEM_TYPE = "BODY-FIXED ROTATING"
  EASTERNMOST_LONGITUDE = 9.59398
  FIRST_STANDARD_PARALLEL = "N/A"
  LINE_FIRST_PIXEL = 1
  LINE_LAST_PIXEL = 33196
  LINE_PROJECTION_OFFSET = -17437.75
  MAP_PROJECTION_ROTATION = 0.0
  MAP_PROJECTION_TYPE = SINUSOIDAL
  MAP_RESOLUTION = 2370.85521546667
  MAP_SCALE = 0.025
  MAXIMUM_LATITUDE = -7.35333
  MINIMUM_LATITUDE = -21.3478
  POSITIVE_LONGITUDE_DIRECTION = EAST
  REFERENCE_LATITUDE = "N/A"
  REFERENCE_LONGITUDE = "N/A"
  SAMPLE_FIRST_PIXEL = 1
  SAMPLE_LAST_PIXEL = 4669
  SAMPLE_PROJECTION_OFFSET = 3123.75
  SECOND_STANDARD_PARALLEL = "N/A"
  WESTERNMOST_LONGITUDE = 7.68955
END_OBJECT = IMAGE_MAP_PROJECTION
/* The JPEG2000 image data file associated with this label. */
OBJECT = COMPRESSED_FILE
  FILE_NAME = "H7229_0000_S13.JP2"
  RECORD_TYPE = UNDEFINED
  FILE_RECORDS = UNK
  ENCODING_TYPE = "JP2"
  INTERCHANGE_FORMAT = BINARY
  UNCOMPRESSED_FILE_NAME = "H7229_0000_S13.IMG"
  REQUIRED_STORAGE_BYTES = "155020138"
  ^DESCRIPTION = "JP2INFO.TXT"
END_OBJECT = COMPRESSED_FILE
END
