PDS_VERSION_ID = PDS3
/* FILE DATA ELEMENTS */
RECORD_TYPE = STREAM
/* POINTERS TO DATA OBJECTS */
^COMPRESSED_FILE = "H7229_0000_S23.JP2"
/* IDENTIFICATION DATA ELEMENTS */
DATA_SET_ID = "MEX-M-HRSC-5-REFDR-MAPPROJECTED-V3.0"
DATA_SET_NAME = "MARS EXPRESS HRSC MAP PROJECTED REFDR V3.0"
DETECTOR_ID = MEX_HRSC_S2
EVENT_TYPE = "MARS-REGIONAL-MAPPING-Im-Fl"
INSTRUMENT_HOST_ID = MEX
INSTRUMENT_HOST_NAME = "MARS EXPRESS"
INSTRUMENT_ID = HRSC
INSTRUMENT_NAME = "HIGH RESOLUTION STEREO CAMERA"
MISSION_NAME = "MARS EXPRESS"
MISSION_PHASE_NAME = ME_Phase_18
PROCESSING_LEVEL_ID = 3
PRODUCT_CREATION_TIME = 2016-06-30T05:04:16.000Z
PRODUCT_ID = "H7229_0000_S23.JP2"
RELEASE_ID = 0080
REVISION_ID = 0000
/* QUALITY DATA ELEMENTS */
DATA_QUALITY_ID = 1
DATA_QUALITY_DESC = "Data calculated based on original SPICE kernels"
/* TIME DATA ELEMENTS */
SPACECRAFT_CLOCK_START_COUNT = "1/0198959257.07300"
SPACECRAFT_CLOCK_STOP_COUNT = "1/0198959585.15682"
START_TIME = 2009-08-21T18:28:53.702Z
STOP_TIME = 2009-08-21T18:33:05.755Z
/* ORBITAL DATA ELEMENTS */
ASCENDING_NODE_LONGITUDE = 79.59
MAXIMUM_RESOLUTION = 35.7
FOOTPRINT_POINT_LATITUDE = (-7.36444,-7.36343,-7.36043,-7.35063, -7.59565,-7.84513,-8.09645,-8.3469, -8.59678,-8.8499,-9.10574,-9.36074, -9.6151,-10.0038,-10.2642,-10.5251, -10.7853,-11.0486,-11.3122,-11.7086, -11.9762,-12.3774,-12.6498,-12.9224, -13.1925,-13.4691,-13.7441,-14.1615, -14.4417,-14.8631,-15.1474,-15.5749, -15.863,-16.1498,-16.5878,-16.8802, -17.3148,-17.6112,-17.9177,-18.2174, -18.5195,-18.9771,-19.2833,-19.5939, -20.0612,-20.3748,-20.6925,-21.0102, -21.3224,-21.3514,-21.3527,-21.3608, -21.3592,-21.3535,-21.028,-20.5498, -20.2421,-19.929,-19.6181,-19.3077, -19.0011,-18.6946,-18.3928,-18.0907, -17.7927,-17.493,-17.1971,-16.755, -16.4639,-16.1727,-15.8852,-15.5875, -15.3022,-15.0206,-14.7454,-14.4656, -14.1848,-13.9058,-13.6224,-13.3447, -13.0723,-12.8089,-12.5359,-12.2662, -11.9987,-11.5966,-11.3341,-10.9393, -10.6757,-10.2878,-9.89896,-9.63784, -9.38356,-9.00046,-8.7448,-8.36936, -8.11872,-7.86736,-7.4931,-7.36444)
FOOTPRINT_POINT_LONGITUDE = (9.14223,8.9129,8.51183,7.98967,7.98326 ,7.97672,7.97025,7.9636,7.95687,7.95017 ,7.94331,7.93628,7.92915,7.91846,7.9113 ,7.90437,7.89649,7.88844,7.88059,7.8682 ,7.85976,7.84726,7.83878,7.8302,7.821, 7.81211,7.80261,7.78895,7.77932,7.76473 ,7.75466,7.73942,7.72886,7.71807, 7.70166,7.69075,7.67081,7.65891,7.64909 ,7.63679,7.62403,7.60503,7.59202, 7.57887,7.55843,7.5445,7.53056,7.51625, 7.49862,7.74272,8.33526,8.88396,9.27906 ,9.77041,9.76042,9.74477,9.7322,9.72165 ,9.71204,9.70251,9.6934,9.68439,9.67544 ,9.66674,9.65829,9.65027,9.64284,9.6316 ,9.6243,9.61701,9.61032,9.60668,9.60024 ,9.59338,9.5846,9.57891,9.57343,9.56808 ,9.56514,9.56034,9.55502,9.54763, 9.54306,9.53862,9.53417,9.52759,9.52321 ,9.51705,9.51301,9.50745,9.50194, 9.49944,9.4961,9.49144,9.48832,9.48401, 9.48119,9.47851,9.47497,9.14223)
ORBIT_NUMBER = 7229
ORBITAL_ECCENTRICITY = 0.575
ORBITAL_INCLINATION = 86.79
ORBITAL_SEMIMAJOR_AXIS = 8772.25
PERIAPSIS_ALTITUDE = 335.47
PERIAPSIS_ARGUMENT_ANGLE = 170.1
PERIAPSIS_TIME = 2009-08-21T18:23:47.000Z
SPACECRAFT_ORIENTATION = (0.0,-1.0,0.0)
^MEX_ORIENTATION_DESC = "MEX_ORIENTATION_DESC.TXT"
SPACECRAFT_POINTING_MODE = NADIR
^MEX_POINTING_DESC = "MEX_POINTING_DESC.TXT"
RIGHT_ASCENSION = -1e+32
DECLINATION = -1e+32
OFFSET_ANGLE = -1e+32
SPACECRAFT_SOLAR_DISTANCE = 2.20349e+08
TARGET_NAME = MARS
/* CAMERA DATA ELEMENTS */
DETECTOR_TEMPERATURE = 17.7588
FOCAL_PLANE_TEMPERATURE = 9.195
INST_CMPRS_NAME = "DISCRETE COSINE TRANSFORMATION (DCT)"
INST_CMPRS_RATIO = 10.7892
INST_CMPRS_QUALITY = 0
INST_CMPRS_QUANTZ_TBL_ID = 0
INSTRUMENT_TEMPERATURE = 11.234
LENS_TEMPERATURE = 9.195
MACROPIXEL_SIZE = 2
MISSING_FRAMES = 0
PIXEL_SUBSAMPLING_FLAG = N
SIGNAL_CHAIN_ID = 1
/* RADIOMETRIC DATA ELEMENTS */
BANDWIDTH = 178.0
CENTER_FILTER_WAVELENGTH = 679.0
RADIANCE_OFFSET = 2.42891
RADIANCE_SCALING_FACTOR = 0.0147573
REFLECTANCE_SCALING_FACTOR = 0.000379455
MEX:REFLECTANCE_OFFSET = 0.0624549
/* IMAGE OBJECT DEFINITIONS */
OBJECT = IMAGE
  INTERCHANGE_FORMAT = BINARY
  LINES = 33196
  LINE_SAMPLES = 4669
  SAMPLE_TYPE = UNSIGNED_INTEGER
  SAMPLE_BITS = 8
  BANDS = 1
  BAND_STORAGE_TYPE = BAND_SEQUENTIAL
  MAXIMUM = 255
  MEAN = 94.3652
  MINIMUM = 1
  STANDARD_DEVIATION = 28.8923
END_OBJECT = IMAGE
/* MAP OBJECT DEFINITIONS */
OBJECT = IMAGE_MAP_PROJECTION
  ^DATA_SET_MAP_PROJECTION_CATALOG= "DSMAP.CAT"
  A_AXIS_RADIUS = 3396.0
  B_AXIS_RADIUS = 3396.0
  C_AXIS_RADIUS = 3396.0
  CENTER_LATITUDE = 0.0
  CENTER_LONGITUDE = 9.0
  COORDINATE_SYSTEM_NAME = PLANETOGRAPHIC
  COORDINATE_SYSTEM_TYPE = "BODY-FIXED ROTATING"
  EASTERNMOST_LONGITUDE = 9.77041
  FIRST_STANDARD_PARALLEL = "N/A"
  LINE_FIRST_PIXEL = 1
  LINE_LAST_PIXEL = 33196
  LINE_PROJECTION_OFFSET = -17437.75
  MAP_PROJECTION_ROTATION = 0.0
  MAP_PROJECTION_TYPE = SINUSOIDAL
  MAP_RESOLUTION = 2370.85521546667
  MAP_SCALE = 0.025
  MAXIMUM_LATITUDE = -7.35063
  MINIMUM_LATITUDE = -21.3608
  POSITIVE_LONGITUDE_DIRECTION = EAST
  REFERENCE_LATITUDE = "N/A"
  REFERENCE_LONGITUDE = "N/A"
  SAMPLE_FIRST_PIXEL = 1
  SAMPLE_LAST_PIXEL = 4669
  SAMPLE_PROJECTION_OFFSET = 3123.75
  SECOND_STANDARD_PARALLEL = "N/A"
  WESTERNMOST_LONGITUDE = 7.49862
END_OBJECT = IMAGE_MAP_PROJECTION
/* The JPEG2000 image data file associated with this label. */
OBJECT = COMPRESSED_FILE
  FILE_NAME = "H7229_0000_S23.JP2"
  RECORD_TYPE = UNDEFINED
  FILE_RECORDS = UNK
  ENCODING_TYPE = "JP2"
  INTERCHANGE_FORMAT = BINARY
  UNCOMPRESSED_FILE_NAME = "H7229_0000_S23.IMG"
  REQUIRED_STORAGE_BYTES = "155020138"
  ^DESCRIPTION = "JP2INFO.TXT"
END_OBJECT = COMPRESSED_FILE
END
