PDS_VERSION_ID = PDS3
/* FILE DATA ELEMENTS */
RECORD_TYPE = STREAM
/* POINTERS TO DATA OBJECTS */
^COMPRESSED_FILE = "H7233_0000_RE3.JP2"
/* IDENTIFICATION DATA ELEMENTS */
DATA_SET_ID = "MEX-M-HRSC-5-REFDR-MAPPROJECTED-V3.0"
DATA_SET_NAME = "MARS EXPRESS HRSC MAP PROJECTED REFDR V3.0"
DETECTOR_ID = MEX_HRSC_RED
EVENT_TYPE = "MARS-LOCAL-CARTOGRAPHY-Im-Fl-Lc"
INSTRUMENT_HOST_ID = MEX
INSTRUMENT_HOST_NAME = "MARS EXPRESS"
INSTRUMENT_ID = HRSC
INSTRUMENT_NAME = "HIGH RESOLUTION STEREO CAMERA"
MISSION_NAME = "MARS EXPRESS"
MISSION_PHASE_NAME = ME_Phase_18
PROCESSING_LEVEL_ID = 3
PRODUCT_CREATION_TIME = 2016-06-30T05:04:16.000Z
PRODUCT_ID = "H7233_0000_RE3.JP2"
RELEASE_ID = 0080
REVISION_ID = 0000
/* QUALITY DATA ELEMENTS */
DATA_QUALITY_ID = 1
DATA_QUALITY_DESC = "Data calculated based on original SPICE kernels"
/* TIME DATA ELEMENTS */
SPACECRAFT_CLOCK_START_COUNT = "1/0199058708.08253"
SPACECRAFT_CLOCK_STOP_COUNT = "1/0199059013.02207"
START_TIME = 2009-08-22T22:06:41.248Z
STOP_TIME = 2009-08-22T22:09:57.649Z
/* ORBITAL DATA ELEMENTS */
ASCENDING_NODE_LONGITUDE = 79.51
MAXIMUM_RESOLUTION = 91
FOOTPRINT_POINT_LATITUDE = (-17.6939,-17.6927,-17.6911,-17.6861, -17.6818,-17.6656,-17.93,-18.2994, -18.5758,-18.947,-19.1336,-19.3203, -19.5076,-19.6957,-19.8859,-20.0765, -20.4466,-20.637,-20.8282,-21.1244, -21.3238,-21.5182,-21.81,-22.1064, -22.304,-22.5024,-22.703,-22.9031, -23.1051,-23.3076,-23.5108,-23.7158, -23.9205,-24.2287,-24.4365,-24.6462, -24.8549,-25.0658,-25.2768,-25.4893, -25.7017,-25.9156,-26.129,-26.3438, -26.5607,-26.7798,-26.998,-27.2186, -27.4383,-27.7625,-27.7656,-27.7656, -27.7648,-27.7734,-27.7771,-27.7766, -27.7756,-27.7721,-27.7682,-27.5434, -27.3226,-27.0958,-26.7627,-26.4383, -26.2207,-26.0059,-25.7918,-25.5794, -25.2611,-25.0552,-24.8515,-24.5399, -24.2255,-24.0163,-23.8109,-23.5092, -23.3053,-23.1043,-22.9038,-22.7047, -22.5049,-22.3085,-22.1107,-21.8147, -21.6187,-21.4222,-21.2287,-21.0344, -20.745,-20.5534,-20.2672,-19.8934, -19.7013,-19.5112,-19.3232,-19.1359, -18.7658,-18.216,-17.7628,-17.6939)
FOOTPRINT_POINT_LONGITUDE = (325.846,325.55,325.328,324.864,324.567 ,324.204,324.191,324.177,324.167, 324.152,324.144,324.136,324.128,324.12, 324.112,324.104,324.083,324.073,324.064 ,324.053,324.046,324.037,324.022, 324.008,323.998,323.988,323.978,323.968 ,323.958,323.947,323.937,323.926, 323.916,323.899,323.888,323.877,323.866 ,323.855,323.843,323.832,323.82,323.807 ,323.795,323.782,323.769,323.757, 323.744,323.731,323.718,323.803,324.073 ,324.288,324.61,324.934,325.311,325.607 ,325.849,326.225,326.468,326.572, 326.561,326.552,326.538,326.521,326.511 ,326.501,326.491,326.482,326.467, 326.456,326.445,326.431,326.419,326.412 ,326.404,326.39,326.382,326.374,326.366 ,326.358,326.351,326.343,326.336, 326.325,326.319,326.312,326.306,326.299 ,326.29,326.284,326.275,326.261,326.257 ,326.253,326.247,326.242,326.232, 326.217,326.205,325.846)
ORBIT_NUMBER = 7233
ORBITAL_ECCENTRICITY = 0.574
ORBITAL_INCLINATION = 86.81
ORBITAL_SEMIMAJOR_AXIS = 8766.34
PERIAPSIS_ALTITUDE = 335.8
PERIAPSIS_ARGUMENT_ANGLE = 169.41
PERIAPSIS_TIME = 2009-08-22T21:58:29.000Z
SPACECRAFT_ORIENTATION = (0.0,-1.0,0.0)
^MEX_ORIENTATION_DESC = "MEX_ORIENTATION_DESC.TXT"
SPACECRAFT_POINTING_MODE = ACROSSTRACK
^MEX_POINTING_DESC = "MEX_POINTING_DESC.TXT"
RIGHT_ASCENSION = -1e+32
DECLINATION = -1e+32
OFFSET_ANGLE = -0.1
SPACECRAFT_SOLAR_DISTANCE = 2.20566e+08
TARGET_NAME = MARS
/* CAMERA DATA ELEMENTS */
DETECTOR_TEMPERATURE = 18.5744
FOCAL_PLANE_TEMPERATURE = 8.5833
INST_CMPRS_NAME = "DISCRETE COSINE TRANSFORMATION (DCT)"
INST_CMPRS_RATIO = 13.5109
INST_CMPRS_QUALITY = 0
INST_CMPRS_QUANTZ_TBL_ID = 0
INSTRUMENT_TEMPERATURE = 11.234
LENS_TEMPERATURE = 8.7872
MACROPIXEL_SIZE = 4
MISSING_FRAMES = 0
PIXEL_SUBSAMPLING_FLAG = N
SIGNAL_CHAIN_ID = 2
/* RADIOMETRIC DATA ELEMENTS */
BANDWIDTH = 48.0
CENTER_FILTER_WAVELENGTH = 748.0
RADIANCE_OFFSET = 0.611315
RADIANCE_SCALING_FACTOR = 0.00270866
REFLECTANCE_SCALING_FACTOR = 0.000300718
MEX:REFLECTANCE_OFFSET = 0.067869
/* IMAGE OBJECT DEFINITIONS */
OBJECT = IMAGE
  INTERCHANGE_FORMAT = BINARY
  LINES = 5992
  LINE_SAMPLES = 1402
  SAMPLE_TYPE = UNSIGNED_INTEGER
  SAMPLE_BITS = 8
  BANDS = 1
  BAND_STORAGE_TYPE = BAND_SEQUENTIAL
  MAXIMUM = 255
  MEAN = 98.2668
  MINIMUM = 1
  STANDARD_DEVIATION = 24.6572
END_OBJECT = IMAGE
/* MAP OBJECT DEFINITIONS */
OBJECT = IMAGE_MAP_PROJECTION
  ^DATA_SET_MAP_PROJECTION_CATALOG= "DSMAP.CAT"
  A_AXIS_RADIUS = 3396.0
  B_AXIS_RADIUS = 3396.0
  C_AXIS_RADIUS = 3396.0
  CENTER_LATITUDE = 0.0
  CENTER_LONGITUDE = 325.0
  COORDINATE_SYSTEM_NAME = PLANETOGRAPHIC
  COORDINATE_SYSTEM_TYPE = "BODY-FIXED ROTATING"
  EASTERNMOST_LONGITUDE = 326.572
  FIRST_STANDARD_PARALLEL = "N/A"
  LINE_FIRST_PIXEL = 1
  LINE_LAST_PIXEL = 5992
  LINE_PROJECTION_OFFSET = -10473.125
  MAP_PROJECTION_ROTATION = 0.0
  MAP_PROJECTION_TYPE = SINUSOIDAL
  MAP_RESOLUTION = 592.713803866667
  MAP_SCALE = 0.1
  MAXIMUM_LATITUDE = -17.6656
  MINIMUM_LATITUDE = -27.7771
  POSITIVE_LONGITUDE_DIRECTION = EAST
  REFERENCE_LATITUDE = "N/A"
  REFERENCE_LONGITUDE = "N/A"
  SAMPLE_FIRST_PIXEL = 1
  SAMPLE_LAST_PIXEL = 1402
  SAMPLE_PROJECTION_OFFSET = 624.625
  SECOND_STANDARD_PARALLEL = "N/A"
  WESTERNMOST_LONGITUDE = 323.718
END_OBJECT = IMAGE_MAP_PROJECTION
/* The JPEG2000 image data file associated with this label. */
OBJECT = COMPRESSED_FILE
  FILE_NAME = "H7233_0000_RE3.JP2"
  RECORD_TYPE = UNDEFINED
  FILE_RECORDS = UNK
  ENCODING_TYPE = "JP2"
  INTERCHANGE_FORMAT = BINARY
  UNCOMPRESSED_FILE_NAME = "H7233_0000_RE3.IMG"
  REQUIRED_STORAGE_BYTES = "8420412"
  ^DESCRIPTION = "JP2INFO.TXT"
END_OBJECT = COMPRESSED_FILE
END
