PDS_VERSION_ID = PDS3
/* FILE DATA ELEMENTS */
RECORD_TYPE = STREAM
/* POINTERS TO DATA OBJECTS */
^COMPRESSED_FILE = "H7233_0001_SR3.JP2"
/* IDENTIFICATION DATA ELEMENTS */
DATA_SET_ID = "MEX-M-HRSC-5-REFDR-MAPPROJECTED-V3.0"
DATA_SET_NAME = "MARS EXPRESS HRSC MAP PROJECTED REFDR V3.0"
DETECTOR_ID = MEX_HRSC_SRC
EVENT_TYPE = "MARS-LOCAL-CARTOGRAPHY-Im-Fl-Lc"
INSTRUMENT_HOST_ID = MEX
INSTRUMENT_HOST_NAME = "MARS EXPRESS"
INSTRUMENT_ID = HRSC
INSTRUMENT_NAME = "HIGH RESOLUTION STEREO CAMERA"
MISSION_NAME = "MARS EXPRESS"
MISSION_PHASE_NAME = ME_Phase_18
PROCESSING_LEVEL_ID = 3
PRODUCT_CREATION_TIME = 2016-06-30T05:04:16.000Z
PRODUCT_ID = "H7233_0001_SR3.JP2"
RELEASE_ID = 0080
REVISION_ID = 0000
/* QUALITY DATA ELEMENTS */
DATA_QUALITY_ID = 1
DATA_QUALITY_DESC = "Data calculated based on original SPICE kernels"
/* TIME DATA ELEMENTS */
SPACECRAFT_CLOCK_START_COUNT = "1/0199058708.08253"
SPACECRAFT_CLOCK_STOP_COUNT = "1/0199059013.02207"
IMAGE_TIME = 2009-08-22T22:08:21.173Z
START_TIME = 2009-08-22T22:08:20.915Z
STOP_TIME = 2009-08-22T22:08:21.431Z
/* ORBITAL DATA ELEMENTS */
ASCENDING_NODE_LONGITUDE = 79.51
MAXIMUM_RESOLUTION = 5.766
FOOTPRINT_POINT_LATITUDE = (-26.1202,-26.1145,-26.1097,-26.1048, -26.1006,-26.0976,-26.0925,-26.0882, -26.0826,-26.0792,-26.0765,-26.0733, -26.0683,-26.0655,-26.0626,-26.0592, -26.0542,-26.0509,-26.0465,-26.0427, -26.0399,-26.0354,-26.0309,-26.0261, -26.022,-26.022,-26.022,-26.022,-26.022 ,-26.022,-26.0221,-26.0221,-26.0221, -26.0221,-26.0221,-26.0221,-26.0221, -26.0222,-26.0222,-26.0222,-26.0222, -26.0222,-26.0222,-26.0222,-26.0222, -26.0222,-26.0223,-26.0223,-26.0223, -26.0223,-26.0278,-26.031,-26.0354, -26.0391,-26.0422,-26.0449,-26.0492, -26.0557,-26.0611,-26.0645,-26.0689, -26.0728,-26.0764,-26.0802,-26.083, -26.087,-26.0899,-26.0937,-26.0982, -26.1045,-26.1071,-26.1102,-26.1136, -26.1166,-26.1205,-26.1205,-26.1204, -26.1204,-26.1204,-26.1204,-26.1204, -26.1204,-26.1204,-26.1204,-26.1204, -26.1203,-26.1203,-26.1203,-26.1203, -26.1203,-26.1203,-26.1203,-26.1203, -26.1202,-26.1202,-26.1202,-26.1202, -26.1202,-26.1202,-26.1202)
FOOTPRINT_POINT_LONGITUDE = (325.107,325.107,325.107,325.107, 325.107,325.107,325.107,325.107,325.107 ,325.107,325.107,325.107,325.107, 325.107,325.107,325.107,325.107,325.107 ,325.107,325.107,325.107,325.107, 325.107,325.107,325.107,325.114,325.118 ,325.123,325.127,325.131,325.136,325.14 ,325.144,325.149,325.153,325.157, 325.162,325.166,325.17,325.175,325.179, 325.183,325.188,325.192,325.196,325.201 ,325.205,325.209,325.214,325.218, 325.218,325.218,325.218,325.218,325.218 ,325.218,325.218,325.217,325.217, 325.217,325.217,325.217,325.217,325.217 ,325.217,325.217,325.217,325.217, 325.217,325.217,325.217,325.217,325.217 ,325.217,325.216,325.212,325.207, 325.203,325.199,325.194,325.19,325.186, 325.181,325.177,325.173,325.168,325.164 ,325.16,325.155,325.151,325.147,325.142 ,325.138,325.134,325.129,325.125,325.12 ,325.116,325.112,325.107)
ORBIT_NUMBER = 7233
ORBITAL_ECCENTRICITY = 0.574
ORBITAL_INCLINATION = 86.81
ORBITAL_SEMIMAJOR_AXIS = 8766.34
PERIAPSIS_ALTITUDE = 335.8
PERIAPSIS_ARGUMENT_ANGLE = 169.41
PERIAPSIS_TIME = 2009-08-22T21:58:29.000Z
SPACECRAFT_ORIENTATION = (0.0,-1.0,0.0)
^MEX_ORIENTATION_DESC = "MEX_ORIENTATION_DESC.TXT"
SPACECRAFT_POINTING_MODE = ACROSSTRACK
^MEX_POINTING_DESC = "MEX_POINTING_DESC.TXT"
RIGHT_ASCENSION = -1e+32
DECLINATION = -1e+32
OFFSET_ANGLE = -0.1
SPACECRAFT_SOLAR_DISTANCE = 2.20566e+08
TARGET_NAME = MARS
/* CAMERA DATA ELEMENTS */
BUFFER_MODE_ID = BUFFER_8
EXPOSURE_DURATION = 516.096
INST_CMPRS_NAME = NONE
INST_CMPRS_RATIO = 1.0
INST_CMPRS_QUALITY = -2147483648
INST_CMPRS_QUANTZ_TBL_ID = -2147483648
INSTRUMENT_TEMPERATURE = 11.2121
MISSING_FRAMES = 0
START_BIT = 0
/* RADIOMETRIC DATA ELEMENTS */
BANDWIDTH = 250.0
CENTER_FILTER_WAVELENGTH = 600.0
RADIANCE_OFFSET = -9.99e+31
RADIANCE_SCALING_FACTOR = -9.99e+31
REFLECTANCE_SCALING_FACTOR = -9.99e+31
MEX:REFLECTANCE_OFFSET = -9.99e+31
/* IMAGE OBJECT DEFINITIONS */
OBJECT = IMAGE
  INTERCHANGE_FORMAT = BINARY
  LINES = 1215
  LINE_SAMPLES = 1228
  SAMPLE_TYPE = UNSIGNED_INTEGER
  SAMPLE_BITS = 8
  BANDS = 1
  BAND_STORAGE_TYPE = BAND_SEQUENTIAL
  MAXIMUM = 255
  MEAN = 253.539
  MINIMUM = 1
  STANDARD_DEVIATION = 18.0726
END_OBJECT = IMAGE
/* MAP OBJECT DEFINITIONS */
OBJECT = IMAGE_MAP_PROJECTION
  ^DATA_SET_MAP_PROJECTION_CATALOG= "DSMAP.CAT"
  A_AXIS_RADIUS = 3396.19
  B_AXIS_RADIUS = 3396.19
  C_AXIS_RADIUS = 3396.19
  CENTER_LATITUDE = 0.0
  CENTER_LONGITUDE = 325.0
  COORDINATE_SYSTEM_NAME = PLANETOGRAPHIC
  COORDINATE_SYSTEM_TYPE = "BODY-FIXED ROTATING"
  EASTERNMOST_LONGITUDE = 325.218
  FIRST_STANDARD_PARALLEL = "N/A"
  LINE_FIRST_PIXEL = 1
  LINE_LAST_PIXEL = 1215
  LINE_PROJECTION_OFFSET = -308343.0
  MAP_PROJECTION_ROTATION = 0.0
  MAP_PROJECTION_TYPE = SINUSOIDAL
  MAP_RESOLUTION = 11854.9393024378
  MAP_SCALE = 0.005
  MAXIMUM_LATITUDE = -26.022
  MINIMUM_LATITUDE = -26.1205
  POSITIVE_LONGITUDE_DIRECTION = EAST
  REFERENCE_LATITUDE = "N/A"
  REFERENCE_LONGITUDE = "N/A"
  SAMPLE_FIRST_PIXEL = 1
  SAMPLE_LAST_PIXEL = 1228
  SAMPLE_PROJECTION_OFFSET = -1105.0
  SECOND_STANDARD_PARALLEL = "N/A"
  WESTERNMOST_LONGITUDE = 325.107
END_OBJECT = IMAGE_MAP_PROJECTION
/* The JPEG2000 image data file associated with this label. */
OBJECT = COMPRESSED_FILE
  FILE_NAME = "H7233_0001_SR3.JP2"
  RECORD_TYPE = UNDEFINED
  FILE_RECORDS = UNK
  ENCODING_TYPE = "JP2"
  INTERCHANGE_FORMAT = BINARY
  UNCOMPRESSED_FILE_NAME = "H7233_0001_SR3.IMG"
  REQUIRED_STORAGE_BYTES = "1511668"
  ^DESCRIPTION = "JP2INFO.TXT"
END_OBJECT = COMPRESSED_FILE
END
