PDS_VERSION_ID = PDS3
/* FILE DATA ELEMENTS */
RECORD_TYPE = STREAM
/* POINTERS TO DATA OBJECTS */
^COMPRESSED_FILE = "H7238_0000_S23.JP2"
/* IDENTIFICATION DATA ELEMENTS */
DATA_SET_ID = "MEX-M-HRSC-5-REFDR-MAPPROJECTED-V3.0"
DATA_SET_NAME = "MARS EXPRESS HRSC MAP PROJECTED REFDR V3.0"
DETECTOR_ID = MEX_HRSC_S2
EVENT_TYPE = "MARS-REGIONAL-MAPPING-Vo-Te-Eo"
INSTRUMENT_HOST_ID = MEX
INSTRUMENT_HOST_NAME = "MARS EXPRESS"
INSTRUMENT_ID = HRSC
INSTRUMENT_NAME = "HIGH RESOLUTION STEREO CAMERA"
MISSION_NAME = "MARS EXPRESS"
MISSION_PHASE_NAME = ME_Phase_18
PROCESSING_LEVEL_ID = 3
PRODUCT_CREATION_TIME = 2016-06-30T05:04:16.000Z
PRODUCT_ID = "H7238_0000_S23.JP2"
RELEASE_ID = 0080
REVISION_ID = 0000
/* QUALITY DATA ELEMENTS */
DATA_QUALITY_ID = 1
DATA_QUALITY_DESC = "Data calculated based on original SPICE kernels"
/* TIME DATA ELEMENTS */
SPACECRAFT_CLOCK_START_COUNT = "1/0199182501.07304"
SPACECRAFT_CLOCK_STOP_COUNT = "1/0199182857.44990"
START_TIME = 2009-08-24T08:29:26.704Z
STOP_TIME = 2009-08-24T08:34:18.189Z
/* ORBITAL DATA ELEMENTS */
ASCENDING_NODE_LONGITUDE = 79.4
MAXIMUM_RESOLUTION = 30.6
FOOTPRINT_POINT_LATITUDE = (3.98025,3.97878,3.9783,4.00371,3.70437 ,3.40557,2.95743,2.65915,2.36135, 1.91503,1.61776,1.3206,1.02496,0.502065 ,0.151043,-0.19852,-0.721942,-1.0712, -1.41953,-1.76677,-2.11336,-2.45953, -2.8044,-3.14813,-3.49108,-3.83335, -4.17468,-4.5154,-5.02906,-5.3766, -5.72354,-6.24515,-6.5968,-6.95083, -7.30838,-7.66847,-8.02727,-8.39193, -8.93988,-9.30869,-9.86289,-10.4226, -10.7957,-11.1805,-11.7554,-12.1474, -12.5409,-12.9319,-13.3501,-13.352, -13.356,-13.3549,-13.3532,-13.1485, -12.7522,-12.3592,-11.7735,-11.1919, -10.8081,-10.4397,-10.0647,-9.50775, -8.95261,-8.40573,-8.04133,-7.68211, -7.32225,-6.9652,-6.61254,-6.25888, -5.73318,-5.21521,-4.86816,-4.52848, -4.18764,-3.84653,-3.5041,-3.16105, -2.81723,-2.47244,-2.12678,-1.78012, -1.43255,-1.08453,-0.735381,-0.386867, -0.03717,0.313643,0.665227,1.01391, 1.45998,1.75703,2.05439,2.50058,2.79759 ,3.0959,3.39657,3.69559,3.99519, 3.98025)
FOOTPRINT_POINT_LONGITUDE = (181.837,181.448,181.073,180.798, 180.794,180.789,180.783,180.779,180.774 ,180.767,180.763,180.758,180.753, 180.745,180.738,180.732,180.722,180.716 ,180.709,180.702,180.695,180.688, 180.681,180.673,180.666,180.658,180.651 ,180.643,180.631,180.622,180.614,180.6, 180.591,180.582,180.573,180.563,180.553 ,180.543,180.528,180.517,180.5,180.482, 180.469,180.458,180.439,180.427,180.415 ,180.4,180.58,180.843,181.142,181.635, 181.899,182.202,182.196,182.188,182.179 ,182.172,182.166,182.157,182.151, 182.142,182.135,182.128,182.124,182.12, 182.116,182.112,182.109,182.105,182.101 ,182.096,182.093,182.09,182.088,182.086 ,182.083,182.081,182.079,182.078, 182.076,182.075,182.073,182.072,182.071 ,182.07,182.068,182.067,182.067,182.066 ,182.066,182.066,182.066,182.066, 182.065,182.065,182.066,182.066,182.066 ,181.837)
ORBIT_NUMBER = 7238
ORBITAL_ECCENTRICITY = 0.574
ORBITAL_INCLINATION = 86.81
ORBITAL_SEMIMAJOR_AXIS = 8764.98
PERIAPSIS_ALTITUDE = 336.29
PERIAPSIS_ARGUMENT_ANGLE = 168.53
PERIAPSIS_TIME = 2009-08-24T08:26:59.000Z
SPACECRAFT_ORIENTATION = (0.0,-1.0,0.0)
^MEX_ORIENTATION_DESC = "MEX_ORIENTATION_DESC.TXT"
SPACECRAFT_POINTING_MODE = ACROSSTRACK
^MEX_POINTING_DESC = "MEX_POINTING_DESC.TXT"
RIGHT_ASCENSION = -1e+32
DECLINATION = -1e+32
OFFSET_ANGLE = 0.15
SPACECRAFT_SOLAR_DISTANCE = 2.20837e+08
TARGET_NAME = MARS
/* CAMERA DATA ELEMENTS */
DETECTOR_TEMPERATURE = 18.7783
FOCAL_PLANE_TEMPERATURE = 8.5833
INST_CMPRS_NAME = "DISCRETE COSINE TRANSFORMATION (DCT)"
INST_CMPRS_RATIO = 9.91078
INST_CMPRS_QUALITY = 0
INST_CMPRS_QUANTZ_TBL_ID = 0
INSTRUMENT_TEMPERATURE = 11.4379
LENS_TEMPERATURE = 9.3989
MACROPIXEL_SIZE = 2
MISSING_FRAMES = 0
PIXEL_SUBSAMPLING_FLAG = N
SIGNAL_CHAIN_ID = 1
/* RADIOMETRIC DATA ELEMENTS */
BANDWIDTH = 178.0
CENTER_FILTER_WAVELENGTH = 679.0
RADIANCE_OFFSET = 5.20723
RADIANCE_SCALING_FACTOR = 0.00717909
REFLECTANCE_SCALING_FACTOR = 0.000185414
MEX:REFLECTANCE_OFFSET = 0.134487
/* IMAGE OBJECT DEFINITIONS */
OBJECT = IMAGE
  INTERCHANGE_FORMAT = BINARY
  LINES = 41147
  LINE_SAMPLES = 4030
  SAMPLE_TYPE = UNSIGNED_INTEGER
  SAMPLE_BITS = 8
  BANDS = 1
  BAND_STORAGE_TYPE = BAND_SEQUENTIAL
  MAXIMUM = 255
  MEAN = 138.158
  MINIMUM = 1
  STANDARD_DEVIATION = 39.2997
END_OBJECT = IMAGE
/* MAP OBJECT DEFINITIONS */
OBJECT = IMAGE_MAP_PROJECTION
  ^DATA_SET_MAP_PROJECTION_CATALOG= "DSMAP.CAT"
  A_AXIS_RADIUS = 3396.0
  B_AXIS_RADIUS = 3396.0
  C_AXIS_RADIUS = 3396.0
  CENTER_LATITUDE = 0.0
  CENTER_LONGITUDE = 181.0
  COORDINATE_SYSTEM_NAME = PLANETOGRAPHIC
  COORDINATE_SYSTEM_TYPE = "BODY-FIXED ROTATING"
  EASTERNMOST_LONGITUDE = 182.202
  FIRST_STANDARD_PARALLEL = "N/A"
  LINE_FIRST_PIXEL = 1
  LINE_LAST_PIXEL = 41147
  LINE_PROJECTION_OFFSET = 9479.75
  MAP_PROJECTION_ROTATION = 0.0
  MAP_PROJECTION_TYPE = SINUSOIDAL
  MAP_RESOLUTION = 2370.85521546667
  MAP_SCALE = 0.025
  MAXIMUM_LATITUDE = 4.00371
  MINIMUM_LATITUDE = -13.356
  POSITIVE_LONGITUDE_DIRECTION = EAST
  REFERENCE_LATITUDE = "N/A"
  REFERENCE_LONGITUDE = "N/A"
  SAMPLE_FIRST_PIXEL = 1
  SAMPLE_LAST_PIXEL = 4030
  SAMPLE_PROJECTION_OFFSET = 1301.75
  SECOND_STANDARD_PARALLEL = "N/A"
  WESTERNMOST_LONGITUDE = 180.4
END_OBJECT = IMAGE_MAP_PROJECTION
/* The JPEG2000 image data file associated with this label. */
OBJECT = COMPRESSED_FILE
  FILE_NAME = "H7238_0000_S23.JP2"
  RECORD_TYPE = UNDEFINED
  FILE_RECORDS = UNK
  ENCODING_TYPE = "JP2"
  INTERCHANGE_FORMAT = BINARY
  UNCOMPRESSED_FILE_NAME = "H7238_0000_S23.IMG"
  REQUIRED_STORAGE_BYTES = "165846590"
  ^DESCRIPTION = "JP2INFO.TXT"
END_OBJECT = COMPRESSED_FILE
END
