PDS_VERSION_ID = PDS3
/* FILE DATA ELEMENTS */
RECORD_TYPE = STREAM
/* POINTERS TO DATA OBJECTS */
^COMPRESSED_FILE = "H7239_0000_S23.JP2"
/* IDENTIFICATION DATA ELEMENTS */
DATA_SET_ID = "MEX-M-HRSC-5-REFDR-MAPPROJECTED-V3.0"
DATA_SET_NAME = "MARS EXPRESS HRSC MAP PROJECTED REFDR V3.0"
DETECTOR_ID = MEX_HRSC_S2
EVENT_TYPE = "MARS-REGIONAL-MAPPING-Vo-Te"
INSTRUMENT_HOST_ID = MEX
INSTRUMENT_HOST_NAME = "MARS EXPRESS"
INSTRUMENT_ID = HRSC
INSTRUMENT_NAME = "HIGH RESOLUTION STEREO CAMERA"
MISSION_NAME = "MARS EXPRESS"
MISSION_PHASE_NAME = ME_Phase_18
PROCESSING_LEVEL_ID = 3
PRODUCT_CREATION_TIME = 2016-06-30T05:04:16.000Z
PRODUCT_ID = "H7239_0000_S23.JP2"
RELEASE_ID = 0080
REVISION_ID = 0000
/* QUALITY DATA ELEMENTS */
DATA_QUALITY_ID = 1
DATA_QUALITY_DESC = "Data calculated based on original SPICE kernels"
/* TIME DATA ELEMENTS */
SPACECRAFT_CLOCK_START_COUNT = "1/0199207204.08229"
SPACECRAFT_CLOCK_STOP_COUNT = "1/0199207347.49317"
START_TIME = 2009-08-24T15:21:07.361Z
STOP_TIME = 2009-08-24T15:22:28.233Z
/* ORBITAL DATA ELEMENTS */
ASCENDING_NODE_LONGITUDE = 79.39
MAXIMUM_RESOLUTION = 29
FOOTPRINT_POINT_LATITUDE = (11.7166,11.7227,11.729,11.7355,11.7421 ,11.7489,11.7805,11.6793,11.5267, 11.3238,11.172,10.9702,10.8676,10.7114, 10.6071,10.5028,10.3985,10.2943,10.1902 ,10.086,9.98202,9.87819,9.77352,9.6693, 9.56518,9.40883,9.30511,9.14948,8.99337 ,8.88937,8.73336,8.62962,8.47393, 8.31814,8.21434,8.11049,8.00697,7.90377 ,7.8009,7.64496,7.54077,7.4368,7.33223, 7.22895,7.12577,7.0226,6.86778,6.71259, 6.5677,6.55975,6.55324,6.54708,6.54354, 6.53636,6.53472,6.63739,6.74034,6.84334 ,6.94644,7.1016,7.20496,7.3082,7.41173, 7.51492,7.66921,7.77231,7.92736,8.03084 ,8.13437,8.23823,8.34279,8.44682, 8.55064,8.70598,8.80959,8.91335,9.01703 ,9.12106,9.22522,9.38154,9.48567, 9.64184,9.74588,9.85001,9.95401,10.0582 ,10.1623,10.2666,10.4231,10.5275, 10.6842,10.7884,10.9936,11.1454,11.2466 ,11.3479,11.4494,11.5511,11.6524, 11.7166)
FOOTPRINT_POINT_LONGITUDE = (80.5451,80.3595,80.1727,79.9849,79.796 ,79.6058,79.3968,79.3967,79.3968, 79.3967,79.3964,79.3957,79.3954,79.3948 ,79.3944,79.3941,79.3938,79.3934,79.393 ,79.3926,79.3921,79.3916,79.3915, 79.3911,79.3907,79.3902,79.3896,79.3888 ,79.3882,79.3877,79.3871,79.3865, 79.3857,79.385,79.3845,79.3841,79.3834, 79.3826,79.3816,79.3811,79.3808,79.3804 ,79.3804,79.3797,79.3789,79.3782, 79.3771,79.3762,79.4117,79.6189,79.8003 ,80.04,80.2072,80.469,80.6155,80.6157, 80.6158,80.6159,80.6161,80.6163,80.6165 ,80.6166,80.6168,80.617,80.6172,80.6173 ,80.6176,80.6178,80.618,80.6182,80.6185 ,80.6187,80.619,80.6193,80.6195,80.6197 ,80.62,80.6202,80.6205,80.6209,80.6212, 80.6216,80.6218,80.6221,80.6224,80.6226 ,80.6229,80.6232,80.6237,80.624,80.6245 ,80.6248,80.6254,80.6259,80.6262, 80.6265,80.6269,80.6272,80.6276, 80.5451)
ORBIT_NUMBER = 7239
ORBITAL_ECCENTRICITY = 0.575
ORBITAL_INCLINATION = 86.81
ORBITAL_SEMIMAJOR_AXIS = 8775.55
PERIAPSIS_ALTITUDE = 335.54
PERIAPSIS_ARGUMENT_ANGLE = 168.35
PERIAPSIS_TIME = 2009-08-24T15:20:38.000Z
SPACECRAFT_ORIENTATION = (0.0,-1.0,0.0)
^MEX_ORIENTATION_DESC = "MEX_ORIENTATION_DESC.TXT"
SPACECRAFT_POINTING_MODE = ACROSSTRACK
^MEX_POINTING_DESC = "MEX_POINTING_DESC.TXT"
RIGHT_ASCENSION = -1e+32
DECLINATION = -1e+32
OFFSET_ANGLE = -0.458
SPACECRAFT_SOLAR_DISTANCE = 2.20892e+08
TARGET_NAME = MARS
/* CAMERA DATA ELEMENTS */
DETECTOR_TEMPERATURE = 18.3705
FOCAL_PLANE_TEMPERATURE = 8.5833
INST_CMPRS_NAME = "DISCRETE COSINE TRANSFORMATION (DCT)"
INST_CMPRS_RATIO = 12.8336
INST_CMPRS_QUALITY = 0
INST_CMPRS_QUANTZ_TBL_ID = 0
INSTRUMENT_TEMPERATURE = 11.234
LENS_TEMPERATURE = 8.7872
MACROPIXEL_SIZE = 2
MISSING_FRAMES = 0
PIXEL_SUBSAMPLING_FLAG = N
SIGNAL_CHAIN_ID = 1
/* RADIOMETRIC DATA ELEMENTS */
BANDWIDTH = 178.0
CENTER_FILTER_WAVELENGTH = 679.0
RADIANCE_OFFSET = 2.67049
RADIANCE_SCALING_FACTOR = 0.00666433
REFLECTANCE_SCALING_FACTOR = 0.000172204
MEX:REFLECTANCE_OFFSET = 0.0690047
/* IMAGE OBJECT DEFINITIONS */
OBJECT = IMAGE
  INTERCHANGE_FORMAT = BINARY
  LINES = 12364
  LINE_SAMPLES = 3049
  SAMPLE_TYPE = UNSIGNED_INTEGER
  SAMPLE_BITS = 8
  BANDS = 1
  BAND_STORAGE_TYPE = BAND_SEQUENTIAL
  MAXIMUM = 255
  MEAN = 129.047
  MINIMUM = 1
  STANDARD_DEVIATION = 25.6799
END_OBJECT = IMAGE
/* MAP OBJECT DEFINITIONS */
OBJECT = IMAGE_MAP_PROJECTION
  ^DATA_SET_MAP_PROJECTION_CATALOG= "DSMAP.CAT"
  A_AXIS_RADIUS = 3396.0
  B_AXIS_RADIUS = 3396.0
  C_AXIS_RADIUS = 3396.0
  CENTER_LATITUDE = 0.0
  CENTER_LONGITUDE = 80.0
  COORDINATE_SYSTEM_NAME = PLANETOGRAPHIC
  COORDINATE_SYSTEM_TYPE = "BODY-FIXED ROTATING"
  EASTERNMOST_LONGITUDE = 80.6276
  FIRST_STANDARD_PARALLEL = "N/A"
  LINE_FIRST_PIXEL = 1
  LINE_LAST_PIXEL = 12364
  LINE_PROJECTION_OFFSET = 27879.75
  MAP_PROJECTION_ROTATION = 0.0
  MAP_PROJECTION_TYPE = SINUSOIDAL
  MAP_RESOLUTION = 2370.85521546667
  MAP_SCALE = 0.025
  MAXIMUM_LATITUDE = 11.7805
  MINIMUM_LATITUDE = 6.53472
  POSITIVE_LONGITUDE_DIRECTION = EAST
  REFERENCE_LATITUDE = "N/A"
  REFERENCE_LONGITUDE = "N/A"
  SAMPLE_FIRST_PIXEL = 1
  SAMPLE_LAST_PIXEL = 3049
  SAMPLE_PROJECTION_OFFSET = 1580.75
  SECOND_STANDARD_PARALLEL = "N/A"
  WESTERNMOST_LONGITUDE = 79.3762
END_OBJECT = IMAGE_MAP_PROJECTION
/* The JPEG2000 image data file associated with this label. */
OBJECT = COMPRESSED_FILE
  FILE_NAME = "H7239_0000_S23.JP2"
  RECORD_TYPE = UNDEFINED
  FILE_RECORDS = UNK
  ENCODING_TYPE = "JP2"
  INTERCHANGE_FORMAT = BINARY
  UNCOMPRESSED_FILE_NAME = "H7239_0000_S23.IMG"
  REQUIRED_STORAGE_BYTES = "37722228"
  ^DESCRIPTION = "JP2INFO.TXT"
END_OBJECT = COMPRESSED_FILE
END
