PDS_VERSION_ID = PDS3
/* FILE DATA ELEMENTS */
RECORD_TYPE = STREAM
/* POINTERS TO DATA OBJECTS */
^COMPRESSED_FILE = "H7242_0000_S23.JP2"
/* IDENTIFICATION DATA ELEMENTS */
DATA_SET_ID = "MEX-M-HRSC-5-REFDR-MAPPROJECTED-V3.0"
DATA_SET_NAME = "MARS EXPRESS HRSC MAP PROJECTED REFDR V3.0"
DETECTOR_ID = MEX_HRSC_S2
EVENT_TYPE = "MARS-LOCAL-STEREO-Im-La-Tc"
INSTRUMENT_HOST_ID = MEX
INSTRUMENT_HOST_NAME = "MARS EXPRESS"
INSTRUMENT_ID = HRSC
INSTRUMENT_NAME = "HIGH RESOLUTION STEREO CAMERA"
MISSION_NAME = "MARS EXPRESS"
MISSION_PHASE_NAME = ME_Phase_18
PROCESSING_LEVEL_ID = 3
PRODUCT_CREATION_TIME = 2016-06-30T05:04:16.000Z
PRODUCT_ID = "H7242_0000_S23.JP2"
RELEASE_ID = 0080
REVISION_ID = 0000
/* QUALITY DATA ELEMENTS */
DATA_QUALITY_ID = 1
DATA_QUALITY_DESC = "Data calculated based on original SPICE kernels"
/* TIME DATA ELEMENTS */
SPACECRAFT_CLOCK_START_COUNT = "1/0199281884.08232"
SPACECRAFT_CLOCK_STOP_COUNT = "1/0199282060.57998"
START_TIME = 2009-08-25T12:05:56.224Z
STOP_TIME = 2009-08-25T12:07:41.316Z
/* ORBITAL DATA ELEMENTS */
ASCENDING_NODE_LONGITUDE = 79.32
MAXIMUM_RESOLUTION = 16.8
FOOTPRINT_POINT_LATITUDE = (-1.82302,-1.81529,-1.80714,-1.79853, -1.78948,-1.75706,-1.87941,-2.00187, -2.12428,-2.24642,-2.36836,-2.55122, -2.73383,-2.85535,-3.03753,-3.21963, -3.34168,-3.46657,-3.58747,-3.8252, -4.06746,-4.19188,-4.3194,-4.4452, -4.5678,-4.75153,-4.99405,-5.11719, -5.24327,-5.37088,-5.49767,-5.68714, -5.87623,-6.00757,-6.1347,-6.26037, -6.38789,-6.51514,-6.7057,-6.83307, -6.96209,-7.15713,-7.28329,-7.41352, -7.54696,-7.67753,-7.80868,-8.0038, -8.01516,-8.02275,-8.02936,-8.03505, -8.03944,-8.04199,-8.04804,-8.05691, -8.06221,-8.00071,-7.87007,-7.67494, -7.54434,-7.41306,-7.28249,-7.15472, -7.02816,-6.90082,-6.77412,-6.64417, -6.44762,-6.31436,-6.12005,-5.98951, -5.86379,-5.74003,-5.61469,-5.49388, -5.36901,-5.24628,-5.06406,-4.93621, -4.79877,-4.67476,-4.48984,-4.24899, -4.00904,-3.88596,-3.76478,-3.58308, -3.46284,-3.34027,-3.15512,-2.91663, -2.79535,-2.6154,-2.49236,-2.30987, -2.06886,-1.94714,-1.8237,-1.82302)
FOOTPRINT_POINT_LONGITUDE = (137.87,137.653,137.435,137.215,136.994 ,136.672,136.669,136.666,136.664, 136.661,136.658,136.654,136.65,136.647, 136.643,136.639,136.636,136.635,136.632 ,136.625,136.619,136.616,136.615, 136.613,136.609,136.604,136.596,136.593 ,136.59,136.588,136.585,136.58,136.576, 136.575,136.573,136.569,136.566,136.562 ,136.556,136.552,136.549,136.545, 136.541,136.537,136.535,136.532,136.528 ,136.523,136.682,136.889,137.016, 137.143,137.316,137.457,137.661,137.817 ,137.942,138.12,138.118,138.116,138.115 ,138.114,138.113,138.111,138.11,138.109 ,138.107,138.106,138.105,138.105, 138.104,138.103,138.102,138.101,138.1, 138.098,138.097,138.095,138.094,138.093 ,138.094,138.093,138.091,138.089, 138.087,138.086,138.085,138.084,138.083 ,138.083,138.082,138.08,138.079,138.078 ,138.077,138.076,138.074,138.074, 138.073,137.87)
ORBIT_NUMBER = 7242
ORBITAL_ECCENTRICITY = 0.575
ORBITAL_INCLINATION = 86.79
ORBITAL_SEMIMAJOR_AXIS = 8771.02
PERIAPSIS_ALTITUDE = 336.67
PERIAPSIS_ARGUMENT_ANGLE = 167.86
PERIAPSIS_TIME = 2009-08-25T12:01:44.000Z
SPACECRAFT_ORIENTATION = (0.0,-1.0,0.0)
^MEX_ORIENTATION_DESC = "MEX_ORIENTATION_DESC.TXT"
SPACECRAFT_POINTING_MODE = ACROSSTRACK
^MEX_POINTING_DESC = "MEX_POINTING_DESC.TXT"
RIGHT_ASCENSION = -1e+32
DECLINATION = -1e+32
OFFSET_ANGLE = -0.499
SPACECRAFT_SOLAR_DISTANCE = 2.21055e+08
TARGET_NAME = MARS
/* CAMERA DATA ELEMENTS */
DETECTOR_TEMPERATURE = 18.1666
FOCAL_PLANE_TEMPERATURE = 8.1755
INST_CMPRS_NAME = "DISCRETE COSINE TRANSFORMATION (DCT)"
INST_CMPRS_RATIO = 8.06465
INST_CMPRS_QUALITY = 0
INST_CMPRS_QUANTZ_TBL_ID = 0
INSTRUMENT_TEMPERATURE = 11.0301
LENS_TEMPERATURE = 8.5833
MACROPIXEL_SIZE = 1
MISSING_FRAMES = 0
PIXEL_SUBSAMPLING_FLAG = N
SIGNAL_CHAIN_ID = 1
/* RADIOMETRIC DATA ELEMENTS */
BANDWIDTH = 178.0
CENTER_FILTER_WAVELENGTH = 679.0
RADIANCE_OFFSET = 3.33205
RADIANCE_SCALING_FACTOR = 0.0155858
REFLECTANCE_SCALING_FACTOR = 0.00040333
MEX:REFLECTANCE_OFFSET = 0.086227
/* IMAGE OBJECT DEFINITIONS */
OBJECT = IMAGE
  INTERCHANGE_FORMAT = BINARY
  LINES = 29636
  LINE_SAMPLES = 7425
  SAMPLE_TYPE = UNSIGNED_INTEGER
  SAMPLE_BITS = 8
  BANDS = 1
  BAND_STORAGE_TYPE = BAND_SEQUENTIAL
  MAXIMUM = 255
  MEAN = 119.413
  MINIMUM = 1
  STANDARD_DEVIATION = 48.1156
END_OBJECT = IMAGE
/* MAP OBJECT DEFINITIONS */
OBJECT = IMAGE_MAP_PROJECTION
  ^DATA_SET_MAP_PROJECTION_CATALOG= "DSMAP.CAT"
  A_AXIS_RADIUS = 3396.0
  B_AXIS_RADIUS = 3396.0
  C_AXIS_RADIUS = 3396.0
  CENTER_LATITUDE = 0.0
  CENTER_LONGITUDE = 137.0
  COORDINATE_SYSTEM_NAME = PLANETOGRAPHIC
  COORDINATE_SYSTEM_TYPE = "BODY-FIXED ROTATING"
  EASTERNMOST_LONGITUDE = 138.12
  FIRST_STANDARD_PARALLEL = "N/A"
  LINE_FIRST_PIXEL = 1
  LINE_LAST_PIXEL = 29636
  LINE_PROJECTION_OFFSET = -8487.0
  MAP_PROJECTION_ROTATION = 0.0
  MAP_PROJECTION_TYPE = SINUSOIDAL
  MAP_RESOLUTION = 4741.71043093333
  MAP_SCALE = 0.0125
  MAXIMUM_LATITUDE = -1.75706
  MINIMUM_LATITUDE = -8.06221
  POSITIVE_LONGITUDE_DIRECTION = EAST
  REFERENCE_LATITUDE = "N/A"
  REFERENCE_LONGITUDE = "N/A"
  SAMPLE_FIRST_PIXEL = 1
  SAMPLE_LAST_PIXEL = 7425
  SAMPLE_PROJECTION_OFFSET = 2306.0
  SECOND_STANDARD_PARALLEL = "N/A"
  WESTERNMOST_LONGITUDE = 136.523
END_OBJECT = IMAGE_MAP_PROJECTION
/* The JPEG2000 image data file associated with this label. */
OBJECT = COMPRESSED_FILE
  FILE_NAME = "H7242_0000_S23.JP2"
  RECORD_TYPE = UNDEFINED
  FILE_RECORDS = UNK
  ENCODING_TYPE = "JP2"
  INTERCHANGE_FORMAT = BINARY
  UNCOMPRESSED_FILE_NAME = "H7242_0000_S23.IMG"
  REQUIRED_STORAGE_BYTES = "220077000"
  ^DESCRIPTION = "JP2INFO.TXT"
END_OBJECT = COMPRESSED_FILE
END
