PDS_VERSION_ID = PDS3
/* FILE DATA ELEMENTS */
RECORD_TYPE = STREAM
/* POINTERS TO DATA OBJECTS */
^COMPRESSED_FILE = "H7244_0000_GR3.JP2"
/* IDENTIFICATION DATA ELEMENTS */
DATA_SET_ID = "MEX-M-HRSC-5-REFDR-MAPPROJECTED-V3.0"
DATA_SET_NAME = "MARS EXPRESS HRSC MAP PROJECTED REFDR V3.0"
DETECTOR_ID = MEX_HRSC_GREEN
EVENT_TYPE = "MARS-REGIONAL-MAPPING-Vo-Te"
INSTRUMENT_HOST_ID = MEX
INSTRUMENT_HOST_NAME = "MARS EXPRESS"
INSTRUMENT_ID = HRSC
INSTRUMENT_NAME = "HIGH RESOLUTION STEREO CAMERA"
MISSION_NAME = "MARS EXPRESS"
MISSION_PHASE_NAME = ME_Phase_18
PROCESSING_LEVEL_ID = 3
PRODUCT_CREATION_TIME = 2016-06-30T05:04:16.000Z
PRODUCT_ID = "H7244_0000_GR3.JP2"
RELEASE_ID = 0080
REVISION_ID = 0000
/* QUALITY DATA ELEMENTS */
DATA_QUALITY_ID = 1
DATA_QUALITY_DESC = "Data calculated based on original SPICE kernels"
/* TIME DATA ELEMENTS */
SPACECRAFT_CLOCK_START_COUNT = "1/0199331184.08241"
SPACECRAFT_CLOCK_STOP_COUNT = "1/0199331622.07590"
START_TIME = 2009-08-26T01:46:54.098Z
STOP_TIME = 2009-08-26T01:52:59.565Z
/* ORBITAL DATA ELEMENTS */
ASCENDING_NODE_LONGITUDE = 79.29
MAXIMUM_RESOLUTION = 107.9
FOOTPRINT_POINT_LATITUDE = (21.0545,21.0473,20.5809,20.114,19.6465 ,19.1786,18.7104,18.2416,17.7725,17.303 ,16.8332,16.3631,15.8927,15.4219, 14.9509,14.4797,13.7793,13.3228,12.6378 ,12.1811,11.7242,11.0388,10.5819, 10.1249,9.66788,8.96708,8.49499,8.02303 ,7.55117,7.07943,6.60786,6.13648, 5.66532,5.19446,4.72384,4.25356,3.78358 ,3.31386,2.84445,2.37542,1.90676, 1.43848,0.970719,0.503326,0.0364584, -0.429909,-1.24129,-1.79604,-2.34991, -2.63605,-2.63944,-2.08563,-1.531, -0.975607,-0.208072,0.258135,0.726118, 1.19381,1.66196,2.13062,2.59969,3.06915 ,3.53888,4.00894,4.47936,4.95,5.42088, 5.89209,6.3636,6.83526,7.30716,7.77916, 8.25136,8.7236,9.19599,9.661,10.3469, 10.8041,11.4899,11.947,12.4041,12.8611, 13.3179,13.7747,14.4756,14.9471,15.4184 ,15.8894,16.3602,16.8307,17.3008, 17.7706,18.2401,18.7091,19.1778,19.646, 20.1138,20.5812,21.048,21.0545)
FOOTPRINT_POINT_LONGITUDE = (296.291,295.543,295.549,295.555,295.56 ,295.565,295.57,295.574,295.578,295.581 ,295.584,295.587,295.589,295.591, 295.593,295.594,295.596,295.596,295.596 ,295.596,295.596,295.594,295.593, 295.592,295.59,295.586,295.584,295.581, 295.578,295.574,295.571,295.567,295.562 ,295.558,295.553,295.548,295.543, 295.538,295.532,295.526,295.52,295.513, 295.507,295.499,295.492,295.485,295.471 ,295.461,295.452,296.11,296.757,296.755 ,296.754,296.753,296.752,296.752, 296.751,296.751,296.751,296.751,296.752 ,296.752,296.753,296.754,296.755, 296.756,296.757,296.759,296.76,296.762, 296.763,296.765,296.767,296.769,296.771 ,296.773,296.777,296.779,296.783, 296.786,296.788,296.791,296.794,296.797 ,296.802,296.806,296.809,296.813, 296.816,296.82,296.824,296.828,296.832, 296.836,296.84,296.844,296.849,296.853, 296.857,296.291)
ORBIT_NUMBER = 7244
ORBITAL_ECCENTRICITY = 0.575
ORBITAL_INCLINATION = 86.8
ORBITAL_SEMIMAJOR_AXIS = 8771.47
PERIAPSIS_ALTITUDE = 336.61
PERIAPSIS_ARGUMENT_ANGLE = 167.51
PERIAPSIS_TIME = 2009-08-26T01:49:11.000Z
SPACECRAFT_ORIENTATION = (0.0,-1.0,0.0)
^MEX_ORIENTATION_DESC = "MEX_ORIENTATION_DESC.TXT"
SPACECRAFT_POINTING_MODE = ACROSSTRACK
^MEX_POINTING_DESC = "MEX_POINTING_DESC.TXT"
RIGHT_ASCENSION = -1e+32
DECLINATION = -1e+32
OFFSET_ANGLE = -0.1
SPACECRAFT_SOLAR_DISTANCE = 2.21165e+08
TARGET_NAME = MARS
/* CAMERA DATA ELEMENTS */
DETECTOR_TEMPERATURE = 17.9627
FOCAL_PLANE_TEMPERATURE = 7.9716
INST_CMPRS_NAME = "DISCRETE COSINE TRANSFORMATION (DCT)"
INST_CMPRS_RATIO = 23.1508
INST_CMPRS_QUALITY = 0
INST_CMPRS_QUANTZ_TBL_ID = 0
INSTRUMENT_TEMPERATURE = 11.0301
LENS_TEMPERATURE = 8.5833
MACROPIXEL_SIZE = 8
MISSING_FRAMES = 0
PIXEL_SUBSAMPLING_FLAG = N
SIGNAL_CHAIN_ID = 2
/* RADIOMETRIC DATA ELEMENTS */
BANDWIDTH = 88.0
CENTER_FILTER_WAVELENGTH = 538.0
RADIANCE_OFFSET = 1.16527
RADIANCE_SCALING_FACTOR = 0.00398633
REFLECTANCE_SCALING_FACTOR = 0.000167877
MEX:REFLECTANCE_OFFSET = 0.0490733
/* IMAGE OBJECT DEFINITIONS */
OBJECT = IMAGE
  INTERCHANGE_FORMAT = BINARY
  LINES = 14046
  LINE_SAMPLES = 862
  SAMPLE_TYPE = UNSIGNED_INTEGER
  SAMPLE_BITS = 8
  BANDS = 1
  BAND_STORAGE_TYPE = BAND_SEQUENTIAL
  MAXIMUM = 255
  MEAN = 93.3459
  MINIMUM = 1
  STANDARD_DEVIATION = 17.7031
END_OBJECT = IMAGE
/* MAP OBJECT DEFINITIONS */
OBJECT = IMAGE_MAP_PROJECTION
  ^DATA_SET_MAP_PROJECTION_CATALOG= "DSMAP.CAT"
  A_AXIS_RADIUS = 3396.0
  B_AXIS_RADIUS = 3396.0
  C_AXIS_RADIUS = 3396.0
  CENTER_LATITUDE = 0.0
  CENTER_LONGITUDE = 296.0
  COORDINATE_SYSTEM_NAME = PLANETOGRAPHIC
  COORDINATE_SYSTEM_TYPE = "BODY-FIXED ROTATING"
  EASTERNMOST_LONGITUDE = 296.857
  FIRST_STANDARD_PARALLEL = "N/A"
  LINE_FIRST_PIXEL = 1
  LINE_LAST_PIXEL = 14046
  LINE_PROJECTION_OFFSET = 12479.5625
  MAP_PROJECTION_ROTATION = 0.0
  MAP_PROJECTION_TYPE = SINUSOIDAL
  MAP_RESOLUTION = 592.713803866667
  MAP_SCALE = 0.1
  MAXIMUM_LATITUDE = 21.0545
  MINIMUM_LATITUDE = -2.63944
  POSITIVE_LONGITUDE_DIRECTION = EAST
  REFERENCE_LATITUDE = "N/A"
  REFERENCE_LONGITUDE = "N/A"
  SAMPLE_FIRST_PIXEL = 1
  SAMPLE_LAST_PIXEL = 862
  SAMPLE_PROJECTION_OFFSET = 369.9375
  SECOND_STANDARD_PARALLEL = "N/A"
  WESTERNMOST_LONGITUDE = 295.452
END_OBJECT = IMAGE_MAP_PROJECTION
/* The JPEG2000 image data file associated with this label. */
OBJECT = COMPRESSED_FILE
  FILE_NAME = "H7244_0000_GR3.JP2"
  RECORD_TYPE = UNDEFINED
  FILE_RECORDS = UNK
  ENCODING_TYPE = "JP2"
  INTERCHANGE_FORMAT = BINARY
  UNCOMPRESSED_FILE_NAME = "H7244_0000_GR3.IMG"
  REQUIRED_STORAGE_BYTES = "12125754"
  ^DESCRIPTION = "JP2INFO.TXT"
END_OBJECT = COMPRESSED_FILE
END
