PDS_VERSION_ID = PDS3
/* FILE DATA ELEMENTS */
RECORD_TYPE = STREAM
/* POINTERS TO DATA OBJECTS */
^COMPRESSED_FILE = "H7245_0000_GR3.JP2"
/* IDENTIFICATION DATA ELEMENTS */
DATA_SET_ID = "MEX-M-HRSC-5-REFDR-MAPPROJECTED-V3.0"
DATA_SET_NAME = "MARS EXPRESS HRSC MAP PROJECTED REFDR V3.0"
DETECTOR_ID = MEX_HRSC_GREEN
EVENT_TYPE = "MARS-REGIONAL-MAPPING-Vo-Pf-Mw"
INSTRUMENT_HOST_ID = MEX
INSTRUMENT_HOST_NAME = "MARS EXPRESS"
INSTRUMENT_ID = HRSC
INSTRUMENT_NAME = "HIGH RESOLUTION STEREO CAMERA"
MISSION_NAME = "MARS EXPRESS"
MISSION_PHASE_NAME = ME_Phase_18
PROCESSING_LEVEL_ID = 3
PRODUCT_CREATION_TIME = 2016-06-30T05:04:16.000Z
PRODUCT_ID = "H7245_0000_GR3.JP2"
RELEASE_ID = 0080
REVISION_ID = 0000
/* QUALITY DATA ELEMENTS */
DATA_QUALITY_ID = 1
DATA_QUALITY_DESC = "Data calculated based on original SPICE kernels"
/* TIME DATA ELEMENTS */
SPACECRAFT_CLOCK_START_COUNT = "1/0199356002.09051"
SPACECRAFT_CLOCK_STOP_COUNT = "1/0199356362.07195"
START_TIME = 2009-08-26T08:40:32.343Z
STOP_TIME = 2009-08-26T08:45:23.333Z
/* ORBITAL DATA ELEMENTS */
ASCENDING_NODE_LONGITUDE = 79.27
MAXIMUM_RESOLUTION = 54.6
FOOTPRINT_POINT_LATITUDE = (21.222,21.2186,21.2141,20.8306,20.4578 ,20.0847,19.7114,19.3377,18.9638, 18.5895,18.215,17.8402,17.4652,17.09, 16.7145,16.3389,15.9631,15.5871,15.2108 ,14.8345,14.4581,14.0815,13.7048, 13.1395,12.5741,12.197,11.8199,11.4427, 11.0655,10.6884,10.1226,9.5568,9.17962, 8.8025,8.42542,8.04842,7.67148,7.29467, 6.91798,6.54132,6.1648,5.78842,5.4122, 5.03615,4.6603,4.09678,3.72138,3.15182, 2.77723,2.40234,2.32473,2.32368,2.88655 ,3.26155,3.83156,4.20728,4.58318, 4.95927,5.33554,5.712,6.08861,6.46531, 6.84217,7.21917,7.59634,8.16206,8.53936 ,8.91668,9.29409,9.67156,10.2378, 10.6152,10.9927,11.3702,11.7476,12.125, 12.691,13.0683,13.4455,13.8225,14.1996, 14.5764,14.9532,15.3298,15.8945,16.2707 ,16.6467,17.0226,17.3982,17.7736, 18.1488,18.5238,18.8985,19.273,19.6471, 20.0209,20.394,20.7677,21.1407,21.222)
FOOTPRINT_POINT_LONGITUDE = (195.206,194.811,194.412,194.147, 194.153,194.159,194.165,194.171,194.176 ,194.181,194.185,194.189,194.193, 194.197,194.201,194.204,194.207,194.21, 194.212,194.214,194.216,194.218,194.22, 194.221,194.223,194.223,194.224,194.224 ,194.224,194.223,194.223,194.221,194.22 ,194.219,194.217,194.215,194.213, 194.211,194.209,194.206,194.203,194.2, 194.197,194.193,194.19,194.184,194.179, 194.173,194.169,194.163,194.809,195.267 ,195.434,195.434,195.434,195.435, 195.435,195.435,195.436,195.436,195.437 ,195.437,195.438,195.439,195.44,195.441 ,195.442,195.443,195.444,195.445, 195.447,195.448,195.449,195.451,195.452 ,195.453,195.456,195.457,195.459,195.46 ,195.462,195.463,195.465,195.467, 195.469,195.471,195.473,195.475,195.477 ,195.479,195.481,195.483,195.485, 195.487,195.489,195.491,195.493,195.495 ,195.497,195.206)
ORBIT_NUMBER = 7245
ORBITAL_ECCENTRICITY = 0.574
ORBITAL_INCLINATION = 86.8
ORBITAL_SEMIMAJOR_AXIS = 8765.86
PERIAPSIS_ALTITUDE = 336.96
PERIAPSIS_ARGUMENT_ANGLE = 167.3
PERIAPSIS_TIME = 2009-08-26T08:42:49.000Z
SPACECRAFT_ORIENTATION = (0.0,-1.0,0.0)
^MEX_ORIENTATION_DESC = "MEX_ORIENTATION_DESC.TXT"
SPACECRAFT_POINTING_MODE = ACROSSTRACK
^MEX_POINTING_DESC = "MEX_POINTING_DESC.TXT"
RIGHT_ASCENSION = -1e+32
DECLINATION = -1e+32
OFFSET_ANGLE = -0.6
SPACECRAFT_SOLAR_DISTANCE = 2.21219e+08
TARGET_NAME = MARS
/* CAMERA DATA ELEMENTS */
DETECTOR_TEMPERATURE = 18.3705
FOCAL_PLANE_TEMPERATURE = 8.5833
INST_CMPRS_NAME = "DISCRETE COSINE TRANSFORMATION (DCT)"
INST_CMPRS_RATIO = 19.8247
INST_CMPRS_QUALITY = 0
INST_CMPRS_QUANTZ_TBL_ID = 0
INSTRUMENT_TEMPERATURE = 11.4379
LENS_TEMPERATURE = 8.9911
MACROPIXEL_SIZE = 4
MISSING_FRAMES = 1
PIXEL_SUBSAMPLING_FLAG = N
SIGNAL_CHAIN_ID = 2
/* RADIOMETRIC DATA ELEMENTS */
BANDWIDTH = 88.0
CENTER_FILTER_WAVELENGTH = 538.0
RADIANCE_OFFSET = 1.59111
RADIANCE_SCALING_FACTOR = 0.00251875
REFLECTANCE_SCALING_FACTOR = 0.000106125
MEX:REFLECTANCE_OFFSET = 0.0670397
/* IMAGE OBJECT DEFINITIONS */
OBJECT = IMAGE
  INTERCHANGE_FORMAT = BINARY
  LINES = 22395
  LINE_SAMPLES = 1632
  SAMPLE_TYPE = UNSIGNED_INTEGER
  SAMPLE_BITS = 8
  BANDS = 1
  BAND_STORAGE_TYPE = BAND_SEQUENTIAL
  MAXIMUM = 255
  MEAN = 114.732
  MINIMUM = 1
  STANDARD_DEVIATION = 49.6441
END_OBJECT = IMAGE
/* MAP OBJECT DEFINITIONS */
OBJECT = IMAGE_MAP_PROJECTION
  ^DATA_SET_MAP_PROJECTION_CATALOG= "DSMAP.CAT"
  A_AXIS_RADIUS = 3396.0
  B_AXIS_RADIUS = 3396.0
  C_AXIS_RADIUS = 3396.0
  CENTER_LATITUDE = 0.0
  CENTER_LONGITUDE = 195.0
  COORDINATE_SYSTEM_NAME = PLANETOGRAPHIC
  COORDINATE_SYSTEM_TYPE = "BODY-FIXED ROTATING"
  EASTERNMOST_LONGITUDE = 195.497
  FIRST_STANDARD_PARALLEL = "N/A"
  LINE_FIRST_PIXEL = 1
  LINE_LAST_PIXEL = 22395
  LINE_PROJECTION_OFFSET = 25157.375
  MAP_PROJECTION_ROTATION = 0.0
  MAP_PROJECTION_TYPE = SINUSOIDAL
  MAP_RESOLUTION = 1185.42760773333
  MAP_SCALE = 0.05
  MAXIMUM_LATITUDE = 21.222
  MINIMUM_LATITUDE = 2.32368
  POSITIVE_LONGITUDE_DIRECTION = EAST
  REFERENCE_LATITUDE = "N/A"
  REFERENCE_LONGITUDE = "N/A"
  SAMPLE_FIRST_PIXEL = 1
  SAMPLE_LAST_PIXEL = 1632
  SAMPLE_PROJECTION_OFFSET = 1083.375
  SECOND_STANDARD_PARALLEL = "N/A"
  WESTERNMOST_LONGITUDE = 194.147
END_OBJECT = IMAGE_MAP_PROJECTION
/* The JPEG2000 image data file associated with this label. */
OBJECT = COMPRESSED_FILE
  FILE_NAME = "H7245_0000_GR3.JP2"
  RECORD_TYPE = UNDEFINED
  FILE_RECORDS = UNK
  ENCODING_TYPE = "JP2"
  INTERCHANGE_FORMAT = BINARY
  UNCOMPRESSED_FILE_NAME = "H7245_0000_GR3.IMG"
  REQUIRED_STORAGE_BYTES = "36568224"
  ^DESCRIPTION = "JP2INFO.TXT"
END_OBJECT = COMPRESSED_FILE
END
