PDS_VERSION_ID = PDS3
/* FILE DATA ELEMENTS */
RECORD_TYPE = STREAM
/* POINTERS TO DATA OBJECTS */
^COMPRESSED_FILE = "H7245_0000_P13.JP2"
/* IDENTIFICATION DATA ELEMENTS */
DATA_SET_ID = "MEX-M-HRSC-5-REFDR-MAPPROJECTED-V3.0"
DATA_SET_NAME = "MARS EXPRESS HRSC MAP PROJECTED REFDR V3.0"
DETECTOR_ID = MEX_HRSC_P1
EVENT_TYPE = "MARS-REGIONAL-MAPPING-Vo-Pf-Mw"
INSTRUMENT_HOST_ID = MEX
INSTRUMENT_HOST_NAME = "MARS EXPRESS"
INSTRUMENT_ID = HRSC
INSTRUMENT_NAME = "HIGH RESOLUTION STEREO CAMERA"
MISSION_NAME = "MARS EXPRESS"
MISSION_PHASE_NAME = ME_Phase_18
PROCESSING_LEVEL_ID = 3
PRODUCT_CREATION_TIME = 2016-06-30T05:04:16.000Z
PRODUCT_ID = "H7245_0000_P13.JP2"
RELEASE_ID = 0080
REVISION_ID = 0000
/* QUALITY DATA ELEMENTS */
DATA_QUALITY_ID = 1
DATA_QUALITY_DESC = "Data calculated based on original SPICE kernels"
/* TIME DATA ELEMENTS */
SPACECRAFT_CLOCK_START_COUNT = "1/0199356002.09051"
SPACECRAFT_CLOCK_STOP_COUNT = "1/0199356362.07195"
START_TIME = 2009-08-26T08:40:16.258Z
STOP_TIME = 2009-08-26T08:45:07.778Z
/* ORBITAL DATA ELEMENTS */
ASCENDING_NODE_LONGITUDE = 79.27
MAXIMUM_RESOLUTION = 56
FOOTPRINT_POINT_LATITUDE = (21.2442,21.2334,21.2209,21.1829, 20.8145,20.4455,20.0761,19.7062,19.3355 ,18.9645,18.5928,18.2207,17.6615, 17.2884,16.9147,16.5407,16.1663,15.7916 ,15.4161,15.0405,14.6646,14.2885, 13.9119,13.535,13.1576,12.7805,12.4027, 12.0244,11.6461,11.2675,10.8887,10.5097 ,10.1306,9.75147,9.37175,8.99196, 8.61205,8.23196,7.85173,7.47139,7.09118 ,6.71068,6.33,5.94924,5.37808,4.80696, 4.42589,4.04502,3.66422,3.28238,2.90316 ,2.52218,2.30453,2.31048,2.3183,2.70447 ,3.27538,3.65613,4.22781,4.60893, 4.99002,5.56163,5.9428,6.32369,6.895, 7.46625,8.0375,8.60784,8.9879,9.36792, 9.748,10.1275,10.507,10.8861,11.4547, 11.8334,12.2118,12.7792,13.1569,13.5345 ,13.9116,14.2886,14.6653,15.0416, 15.4177,15.9811,16.356,16.7307,17.1049, 17.4788,17.8522,18.2252,18.5979,18.9699 ,19.3415,19.7124,20.0831,20.6382, 21.0072,21.2442)
FOOTPRINT_POINT_LONGITUDE = (195.21,194.81,194.404,194.129,194.136, 194.143,194.149,194.156,194.161,194.167 ,194.172,194.177,194.183,194.188, 194.192,194.195,194.199,194.202,194.205 ,194.207,194.21,194.212,194.214,194.216 ,194.217,194.219,194.219,194.22,194.22, 194.221,194.221,194.221,194.22,194.22, 194.219,194.218,194.217,194.215,194.213 ,194.212,194.21,194.207,194.205,194.202 ,194.197,194.193,194.189,194.185, 194.181,194.176,194.173,194.169,194.464 ,194.76,195.216,195.427,195.428,195.428 ,195.429,195.43,195.431,195.432,195.433 ,195.434,195.435,195.437,195.438,195.44 ,195.441,195.443,195.444,195.446, 195.447,195.449,195.451,195.453,195.454 ,195.457,195.459,195.461,195.462, 195.464,195.466,195.468,195.47,195.473, 195.476,195.478,195.48,195.482,195.484, 195.487,195.489,195.491,195.494,195.496 ,195.499,195.502,195.505,195.21)
ORBIT_NUMBER = 7245
ORBITAL_ECCENTRICITY = 0.574
ORBITAL_INCLINATION = 86.8
ORBITAL_SEMIMAJOR_AXIS = 8765.86
PERIAPSIS_ALTITUDE = 336.96
PERIAPSIS_ARGUMENT_ANGLE = 167.3
PERIAPSIS_TIME = 2009-08-26T08:42:49.000Z
SPACECRAFT_ORIENTATION = (0.0,-1.0,0.0)
^MEX_ORIENTATION_DESC = "MEX_ORIENTATION_DESC.TXT"
SPACECRAFT_POINTING_MODE = ACROSSTRACK
^MEX_POINTING_DESC = "MEX_POINTING_DESC.TXT"
RIGHT_ASCENSION = -1e+32
DECLINATION = -1e+32
OFFSET_ANGLE = -0.6
SPACECRAFT_SOLAR_DISTANCE = 2.21219e+08
TARGET_NAME = MARS
/* CAMERA DATA ELEMENTS */
DETECTOR_TEMPERATURE = 17.5549
FOCAL_PLANE_TEMPERATURE = 8.5833
INST_CMPRS_NAME = "DISCRETE COSINE TRANSFORMATION (DCT)"
INST_CMPRS_RATIO = 27.1236
INST_CMPRS_QUALITY = 0
INST_CMPRS_QUANTZ_TBL_ID = 0
INSTRUMENT_TEMPERATURE = 11.4379
LENS_TEMPERATURE = 8.9911
MACROPIXEL_SIZE = 4
MISSING_FRAMES = 0
PIXEL_SUBSAMPLING_FLAG = N
SIGNAL_CHAIN_ID = 3
/* RADIOMETRIC DATA ELEMENTS */
BANDWIDTH = 174.0
CENTER_FILTER_WAVELENGTH = 675.0
RADIANCE_OFFSET = 4.8176
RADIANCE_SCALING_FACTOR = 0.0083967
REFLECTANCE_SCALING_FACTOR = 0.000221024
MEX:REFLECTANCE_OFFSET = 0.126813
/* IMAGE OBJECT DEFINITIONS */
OBJECT = IMAGE
  INTERCHANGE_FORMAT = BINARY
  LINES = 22395
  LINE_SAMPLES = 1632
  SAMPLE_TYPE = UNSIGNED_INTEGER
  SAMPLE_BITS = 8
  BANDS = 1
  BAND_STORAGE_TYPE = BAND_SEQUENTIAL
  MAXIMUM = 255
  MEAN = 116.54
  MINIMUM = 5
  STANDARD_DEVIATION = 48.3373
END_OBJECT = IMAGE
/* MAP OBJECT DEFINITIONS */
OBJECT = IMAGE_MAP_PROJECTION
  ^DATA_SET_MAP_PROJECTION_CATALOG= "DSMAP.CAT"
  A_AXIS_RADIUS = 3396.0
  B_AXIS_RADIUS = 3396.0
  C_AXIS_RADIUS = 3396.0
  CENTER_LATITUDE = 0.0
  CENTER_LONGITUDE = 195.0
  COORDINATE_SYSTEM_NAME = PLANETOGRAPHIC
  COORDINATE_SYSTEM_TYPE = "BODY-FIXED ROTATING"
  EASTERNMOST_LONGITUDE = 195.505
  FIRST_STANDARD_PARALLEL = "N/A"
  LINE_FIRST_PIXEL = 1
  LINE_LAST_PIXEL = 22395
  LINE_PROJECTION_OFFSET = 25157.375
  MAP_PROJECTION_ROTATION = 0.0
  MAP_PROJECTION_TYPE = SINUSOIDAL
  MAP_RESOLUTION = 1185.42760773333
  MAP_SCALE = 0.05
  MAXIMUM_LATITUDE = 21.2442
  MINIMUM_LATITUDE = 2.30453
  POSITIVE_LONGITUDE_DIRECTION = EAST
  REFERENCE_LATITUDE = "N/A"
  REFERENCE_LONGITUDE = "N/A"
  SAMPLE_FIRST_PIXEL = 1
  SAMPLE_LAST_PIXEL = 1632
  SAMPLE_PROJECTION_OFFSET = 1083.375
  SECOND_STANDARD_PARALLEL = "N/A"
  WESTERNMOST_LONGITUDE = 194.129
END_OBJECT = IMAGE_MAP_PROJECTION
/* The JPEG2000 image data file associated with this label. */
OBJECT = COMPRESSED_FILE
  FILE_NAME = "H7245_0000_P13.JP2"
  RECORD_TYPE = UNDEFINED
  FILE_RECORDS = UNK
  ENCODING_TYPE = "JP2"
  INTERCHANGE_FORMAT = BINARY
  UNCOMPRESSED_FILE_NAME = "H7245_0000_P13.IMG"
  REQUIRED_STORAGE_BYTES = "36568224"
  ^DESCRIPTION = "JP2INFO.TXT"
END_OBJECT = COMPRESSED_FILE
END
