PDS_VERSION_ID = PDS3
/* FILE DATA ELEMENTS */
RECORD_TYPE = STREAM
/* POINTERS TO DATA OBJECTS */
^COMPRESSED_FILE = "H7247_0000_BL3.JP2"
/* IDENTIFICATION DATA ELEMENTS */
DATA_SET_ID = "MEX-M-HRSC-5-REFDR-MAPPROJECTED-V3.0"
DATA_SET_NAME = "MARS EXPRESS HRSC MAP PROJECTED REFDR V3.0"
DETECTOR_ID = MEX_HRSC_BLUE
EVENT_TYPE = "MARS-REGIONAL-MAPPING-Im-Fl-La"
INSTRUMENT_HOST_ID = MEX
INSTRUMENT_HOST_NAME = "MARS EXPRESS"
INSTRUMENT_ID = HRSC
INSTRUMENT_NAME = "HIGH RESOLUTION STEREO CAMERA"
MISSION_NAME = "MARS EXPRESS"
MISSION_PHASE_NAME = ME_Phase_18
PROCESSING_LEVEL_ID = 3
PRODUCT_CREATION_TIME = 2016-06-30T05:04:16.000Z
PRODUCT_ID = "H7247_0000_BL3.JP2"
RELEASE_ID = 0080
REVISION_ID = 0000
/* QUALITY DATA ELEMENTS */
DATA_QUALITY_ID = 1
DATA_QUALITY_DESC = "Data calculated based on original SPICE kernels"
/* TIME DATA ELEMENTS */
SPACECRAFT_CLOCK_START_COUNT = "1/0199405750.09043"
SPACECRAFT_CLOCK_STOP_COUNT = "1/0199405907.65441"
START_TIME = 2009-08-26T22:29:48.483Z
STOP_TIME = 2009-08-26T22:31:22.650Z
/* ORBITAL DATA ELEMENTS */
ASCENDING_NODE_LONGITUDE = 79.23
MAXIMUM_RESOLUTION = 54.4
FOOTPRINT_POINT_LATITUDE = (14.9455,14.9469,14.9481,14.9493, 14.9504,14.9513,14.9554,14.8332,14.7108 ,14.5885,14.4662,14.344,14.2216,14.0994 ,13.977,13.8544,13.6709,13.5482,13.4268 ,13.3058,13.1843,13.0623,12.879,12.6956 ,12.5734,12.4508,12.3279,12.2044, 12.0816,11.9597,11.8378,11.7157,11.5936 ,11.4103,11.2881,11.166,11.0438,10.9228 ,10.801,10.6786,10.5563,10.3727,10.2511 ,10.1291,10.0069,9.82407,9.70207, 9.57998,9.45799,9.27501,9.15327,8.97073 ,8.83261,8.83118,8.82988,8.82816, 8.82527,8.82313,8.82213,9.00494,9.12683 ,9.24883,9.37074,9.49278,9.67568,9.7977 ,9.91965,10.0417,10.2248,10.4086, 10.5312,10.7144,10.8977,11.2015,11.3234 ,11.4458,11.5681,11.6902,11.8736,12.057 ,12.1792,12.3015,12.424,12.6073,12.7296 ,12.9132,13.0356,13.2193,13.3416,13.464 ,13.6476,13.7699,13.9534,14.0757, 14.2592,14.4429,14.6265,14.8101,14.933, 14.9455)
FOOTPRINT_POINT_LONGITUDE = (353.738,353.558,353.376,353.194, 353.011,352.826,352.659,352.659,352.66, 352.66,352.661,352.661,352.661,352.662, 352.662,352.664,352.664,352.666,352.663 ,352.66,352.657,352.657,352.657,352.657 ,352.657,352.659,352.661,352.665, 352.667,352.666,352.665,352.665,352.664 ,352.664,352.664,352.664,352.664, 352.661,352.66,352.661,352.661,352.662, 352.661,352.661,352.661,352.66,352.66, 352.66,352.66,352.66,352.659,352.658, 352.749,352.911,353.048,353.23,353.514, 353.705,353.876,353.876,353.877,353.877 ,353.877,353.877,353.878,353.878, 353.878,353.879,353.879,353.88,353.88, 353.881,353.881,353.882,353.882,353.883 ,353.883,353.883,353.884,353.885, 353.885,353.885,353.886,353.886,353.887 ,353.888,353.888,353.889,353.889,353.89 ,353.89,353.891,353.891,353.892,353.893 ,353.893,353.894,353.895,353.895, 353.738)
ORBIT_NUMBER = 7247
ORBITAL_ECCENTRICITY = 0.574
ORBITAL_INCLINATION = 86.8
ORBITAL_SEMIMAJOR_AXIS = 8767.58
PERIAPSIS_ALTITUDE = 337.36
PERIAPSIS_ARGUMENT_ANGLE = 166.94
PERIAPSIS_TIME = 2009-08-26T22:30:12.000Z
SPACECRAFT_ORIENTATION = (0.0,-1.0,0.0)
^MEX_ORIENTATION_DESC = "MEX_ORIENTATION_DESC.TXT"
SPACECRAFT_POINTING_MODE = ACROSSTRACK
^MEX_POINTING_DESC = "MEX_POINTING_DESC.TXT"
RIGHT_ASCENSION = -1e+32
DECLINATION = -1e+32
OFFSET_ANGLE = -0.5
SPACECRAFT_SOLAR_DISTANCE = 2.21329e+08
TARGET_NAME = MARS
/* CAMERA DATA ELEMENTS */
DETECTOR_TEMPERATURE = 18.1666
FOCAL_PLANE_TEMPERATURE = 8.5833
INST_CMPRS_NAME = "DISCRETE COSINE TRANSFORMATION (DCT)"
INST_CMPRS_RATIO = 6.82618
INST_CMPRS_QUALITY = 0
INST_CMPRS_QUANTZ_TBL_ID = 0
INSTRUMENT_TEMPERATURE = 11.234
LENS_TEMPERATURE = 8.9911
MACROPIXEL_SIZE = 4
MISSING_FRAMES = 0
PIXEL_SUBSAMPLING_FLAG = N
SIGNAL_CHAIN_ID = 2
/* RADIOMETRIC DATA ELEMENTS */
BANDWIDTH = 76.0
CENTER_FILTER_WAVELENGTH = 444.0
RADIANCE_OFFSET = 0.510997
RADIANCE_SCALING_FACTOR = 0.00111907
REFLECTANCE_SCALING_FACTOR = 5.63232e-05
MEX:REFLECTANCE_OFFSET = 0.0257188
/* IMAGE OBJECT DEFINITIONS */
OBJECT = IMAGE
  INTERCHANGE_FORMAT = BINARY
  LINES = 7256
  LINE_SAMPLES = 1523
  SAMPLE_TYPE = UNSIGNED_INTEGER
  SAMPLE_BITS = 8
  BANDS = 1
  BAND_STORAGE_TYPE = BAND_SEQUENTIAL
  MAXIMUM = 255
  MEAN = 124.307
  MINIMUM = 1
  STANDARD_DEVIATION = 36.0243
END_OBJECT = IMAGE
/* MAP OBJECT DEFINITIONS */
OBJECT = IMAGE_MAP_PROJECTION
  ^DATA_SET_MAP_PROJECTION_CATALOG= "DSMAP.CAT"
  A_AXIS_RADIUS = 3396.0
  B_AXIS_RADIUS = 3396.0
  C_AXIS_RADIUS = 3396.0
  CENTER_LATITUDE = 0.0
  CENTER_LONGITUDE = 353.0
  COORDINATE_SYSTEM_NAME = PLANETOGRAPHIC
  COORDINATE_SYSTEM_TYPE = "BODY-FIXED ROTATING"
  EASTERNMOST_LONGITUDE = 353.895
  FIRST_STANDARD_PARALLEL = "N/A"
  LINE_FIRST_PIXEL = 1
  LINE_LAST_PIXEL = 7256
  LINE_PROJECTION_OFFSET = 17721.125
  MAP_PROJECTION_ROTATION = 0.0
  MAP_PROJECTION_TYPE = SINUSOIDAL
  MAP_RESOLUTION = 1185.42760773333
  MAP_SCALE = 0.05
  MAXIMUM_LATITUDE = 14.9554
  MINIMUM_LATITUDE = 8.82213
  POSITIVE_LONGITUDE_DIRECTION = EAST
  REFERENCE_LATITUDE = "N/A"
  REFERENCE_LONGITUDE = "N/A"
  SAMPLE_FIRST_PIXEL = 1
  SAMPLE_LAST_PIXEL = 1523
  SAMPLE_PROJECTION_OFFSET = 489.875
  SECOND_STANDARD_PARALLEL = "N/A"
  WESTERNMOST_LONGITUDE = 352.657
END_OBJECT = IMAGE_MAP_PROJECTION
/* The JPEG2000 image data file associated with this label. */
OBJECT = COMPRESSED_FILE
  FILE_NAME = "H7247_0000_BL3.JP2"
  RECORD_TYPE = UNDEFINED
  FILE_RECORDS = UNK
  ENCODING_TYPE = "JP2"
  INTERCHANGE_FORMAT = BINARY
  UNCOMPRESSED_FILE_NAME = "H7247_0000_BL3.IMG"
  REQUIRED_STORAGE_BYTES = "11070687"
  ^DESCRIPTION = "JP2INFO.TXT"
END_OBJECT = COMPRESSED_FILE
END
