PDS_VERSION_ID = PDS3
/* FILE DATA ELEMENTS */
RECORD_TYPE = STREAM
/* POINTERS TO DATA OBJECTS */
^COMPRESSED_FILE = "H7248_0000_S13.JP2"
/* IDENTIFICATION DATA ELEMENTS */
DATA_SET_ID = "MEX-M-HRSC-5-REFDR-MAPPROJECTED-V3.0"
DATA_SET_NAME = "MARS EXPRESS HRSC MAP PROJECTED REFDR V3.0"
DETECTOR_ID = MEX_HRSC_S1
EVENT_TYPE = "MARS-LOCAL-STEREO-Vo-Te"
INSTRUMENT_HOST_ID = MEX
INSTRUMENT_HOST_NAME = "MARS EXPRESS"
INSTRUMENT_ID = HRSC
INSTRUMENT_NAME = "HIGH RESOLUTION STEREO CAMERA"
MISSION_NAME = "MARS EXPRESS"
MISSION_PHASE_NAME = ME_Phase_18
PROCESSING_LEVEL_ID = 3
PRODUCT_CREATION_TIME = 2016-06-30T05:04:16.000Z
PRODUCT_ID = "H7248_0000_S13.JP2"
RELEASE_ID = 0080
REVISION_ID = 0000
/* QUALITY DATA ELEMENTS */
DATA_QUALITY_ID = 1
DATA_QUALITY_DESC = "Data calculated based on original SPICE kernels"
/* TIME DATA ELEMENTS */
SPACECRAFT_CLOCK_START_COUNT = "1/0199430316.08243"
SPACECRAFT_CLOCK_STOP_COUNT = "1/0199430533.00110"
START_TIME = 2009-08-27T05:18:38.582Z
STOP_TIME = 2009-08-27T05:21:08.832Z
/* ORBITAL DATA ELEMENTS */
ASCENDING_NODE_LONGITUDE = 79.21
MAXIMUM_RESOLUTION = 15.3
FOOTPRINT_POINT_LATITUDE = (31.1816,31.1801,31.1771,31.1736, 31.1682,31.0622,30.8746,30.6867,30.4985 ,30.3097,30.1214,29.9336,29.7496, 29.5648,29.3793,29.1934,29.008,28.8232, 28.6422,28.3702,28.1888,28.0068,27.8245 ,27.6422,27.4596,27.2766,27.0937, 26.9102,26.6351,26.4511,26.2671,25.9924 ,25.8072,25.6234,25.4378,25.1585, 24.8796,24.6935,24.4136,24.2262,24.0408 ,23.8536,23.5725,23.3842,23.1953, 23.0067,22.8344,22.5967,22.4382,22.2011 ,22.0426,22.0276,22.0288,22.0292, 22.0294,22.0287,22.028,22.2655,22.4237, 22.7399,22.8984,23.1768,23.3658,23.5543 ,23.8372,24.1185,24.4,24.5867,24.7728, 25.0521,25.3308,25.5163,25.7012,25.8865 ,26.0705,26.3463,26.5314,26.7149, 26.9889,27.1726,27.3545,27.5367,27.8103 ,27.9929,28.2666,28.4484,28.6305, 28.8124,29.0901,29.2758,29.5533,29.7384 ,29.9233,30.1106,30.2999,30.4889, 30.6779,30.8665,31.0546,31.1816)
FOOTPRINT_POINT_LONGITUDE = (253.408,253.151,252.825,252.551, 252.225,252.03,252.038,252.045,252.052, 252.059,252.067,252.073,252.08,252.087, 252.093,252.1,252.106,252.112,252.118, 252.127,252.133,252.139,252.144,252.15, 252.155,252.16,252.166,252.171,252.178, 252.183,252.188,252.196,252.201,252.205 ,252.21,252.216,252.222,252.226,252.232 ,252.236,252.24,252.244,252.25,252.253, 252.256,252.259,252.262,252.266,252.268 ,252.272,252.275,252.544,252.718, 252.933,253.148,253.404,253.579,253.642 ,253.644,253.648,253.65,253.653,253.655 ,253.657,253.66,253.663,253.667,253.669 ,253.672,253.675,253.679,253.682, 253.684,253.687,253.69,253.694,253.697, 253.699,253.704,253.707,253.71,253.713, 253.718,253.72,253.725,253.727,253.73, 253.733,253.737,253.74,253.745,253.748, 253.751,253.755,253.758,253.761,253.764 ,253.767,253.77,253.408)
ORBIT_NUMBER = 7248
ORBITAL_ECCENTRICITY = 0.575
ORBITAL_INCLINATION = 86.79
ORBITAL_SEMIMAJOR_AXIS = 8783.63
PERIAPSIS_ALTITUDE = 336.74
PERIAPSIS_ARGUMENT_ANGLE = 166.78
PERIAPSIS_TIME = 2009-08-27T05:23:57.000Z
SPACECRAFT_ORIENTATION = (0.0,-1.0,0.0)
^MEX_ORIENTATION_DESC = "MEX_ORIENTATION_DESC.TXT"
SPACECRAFT_POINTING_MODE = NADIR
^MEX_POINTING_DESC = "MEX_POINTING_DESC.TXT"
RIGHT_ASCENSION = -1e+32
DECLINATION = -1e+32
OFFSET_ANGLE = -1e+32
SPACECRAFT_SOLAR_DISTANCE = 2.21383e+08
TARGET_NAME = MARS
/* CAMERA DATA ELEMENTS */
DETECTOR_TEMPERATURE = 17.5549
FOCAL_PLANE_TEMPERATURE = 8.3794
INST_CMPRS_NAME = "DISCRETE COSINE TRANSFORMATION (DCT)"
INST_CMPRS_RATIO = 7.70045
INST_CMPRS_QUALITY = 0
INST_CMPRS_QUANTZ_TBL_ID = 0
INSTRUMENT_TEMPERATURE = 11.234
LENS_TEMPERATURE = 8.9911
MACROPIXEL_SIZE = 1
MISSING_FRAMES = 0
PIXEL_SUBSAMPLING_FLAG = N
SIGNAL_CHAIN_ID = 2
/* RADIOMETRIC DATA ELEMENTS */
BANDWIDTH = 180.0
CENTER_FILTER_WAVELENGTH = 677.0
RADIANCE_OFFSET = 2.44061
RADIANCE_SCALING_FACTOR = 0.0174018
REFLECTANCE_SCALING_FACTOR = 0.000444965
MEX:REFLECTANCE_OFFSET = 0.0624063
/* IMAGE OBJECT DEFINITIONS */
OBJECT = IMAGE
  INTERCHANGE_FORMAT = BINARY
  LINES = 43308
  LINE_SAMPLES = 7068
  SAMPLE_TYPE = UNSIGNED_INTEGER
  SAMPLE_BITS = 8
  BANDS = 1
  BAND_STORAGE_TYPE = BAND_SEQUENTIAL
  MAXIMUM = 255
  MEAN = 91.2804
  MINIMUM = 1
  STANDARD_DEVIATION = 37.8064
END_OBJECT = IMAGE
/* MAP OBJECT DEFINITIONS */
OBJECT = IMAGE_MAP_PROJECTION
  ^DATA_SET_MAP_PROJECTION_CATALOG= "DSMAP.CAT"
  A_AXIS_RADIUS = 3396.0
  B_AXIS_RADIUS = 3396.0
  C_AXIS_RADIUS = 3396.0
  CENTER_LATITUDE = 0.0
  CENTER_LONGITUDE = 253.0
  COORDINATE_SYSTEM_NAME = PLANETOGRAPHIC
  COORDINATE_SYSTEM_TYPE = "BODY-FIXED ROTATING"
  EASTERNMOST_LONGITUDE = 253.77
  FIRST_STANDARD_PARALLEL = "N/A"
  LINE_FIRST_PIXEL = 1
  LINE_LAST_PIXEL = 43308
  LINE_PROJECTION_OFFSET = 147605.0
  MAP_PROJECTION_ROTATION = 0.0
  MAP_PROJECTION_TYPE = SINUSOIDAL
  MAP_RESOLUTION = 4741.71043093333
  MAP_SCALE = 0.0125
  MAXIMUM_LATITUDE = 31.1816
  MINIMUM_LATITUDE = 22.0276
  POSITIVE_LONGITUDE_DIRECTION = EAST
  REFERENCE_LATITUDE = "N/A"
  REFERENCE_LONGITUDE = "N/A"
  SAMPLE_FIRST_PIXEL = 1
  SAMPLE_LAST_PIXEL = 7068
  SAMPLE_PROJECTION_OFFSET = 3952.0
  SECOND_STANDARD_PARALLEL = "N/A"
  WESTERNMOST_LONGITUDE = 252.03
END_OBJECT = IMAGE_MAP_PROJECTION
/* The JPEG2000 image data file associated with this label. */
OBJECT = COMPRESSED_FILE
  FILE_NAME = "H7248_0000_S13.JP2"
  RECORD_TYPE = UNDEFINED
  FILE_RECORDS = UNK
  ENCODING_TYPE = "JP2"
  INTERCHANGE_FORMAT = BINARY
  UNCOMPRESSED_FILE_NAME = "H7248_0000_S13.IMG"
  REQUIRED_STORAGE_BYTES = "306129216"
  ^DESCRIPTION = "JP2INFO.TXT"
END_OBJECT = COMPRESSED_FILE
END
