PDS_VERSION_ID = PDS3
/* FILE DATA ELEMENTS */
RECORD_TYPE = STREAM
/* POINTERS TO DATA OBJECTS */
^COMPRESSED_FILE = "H7248_0000_S23.JP2"
/* IDENTIFICATION DATA ELEMENTS */
DATA_SET_ID = "MEX-M-HRSC-5-REFDR-MAPPROJECTED-V3.0"
DATA_SET_NAME = "MARS EXPRESS HRSC MAP PROJECTED REFDR V3.0"
DETECTOR_ID = MEX_HRSC_S2
EVENT_TYPE = "MARS-LOCAL-STEREO-Vo-Te"
INSTRUMENT_HOST_ID = MEX
INSTRUMENT_HOST_NAME = "MARS EXPRESS"
INSTRUMENT_ID = HRSC
INSTRUMENT_NAME = "HIGH RESOLUTION STEREO CAMERA"
MISSION_NAME = "MARS EXPRESS"
MISSION_PHASE_NAME = ME_Phase_18
PROCESSING_LEVEL_ID = 3
PRODUCT_CREATION_TIME = 2016-06-30T05:04:16.000Z
PRODUCT_ID = "H7248_0000_S23.JP2"
RELEASE_ID = 0080
REVISION_ID = 0000
/* QUALITY DATA ELEMENTS */
DATA_QUALITY_ID = 1
DATA_QUALITY_DESC = "Data calculated based on original SPICE kernels"
/* TIME DATA ELEMENTS */
SPACECRAFT_CLOCK_START_COUNT = "1/0199430316.08243"
SPACECRAFT_CLOCK_STOP_COUNT = "1/0199430533.00110"
START_TIME = 2009-08-27T05:19:55.337Z
STOP_TIME = 2009-08-27T05:22:13.461Z
/* ORBITAL DATA ELEMENTS */
ASCENDING_NODE_LONGITUDE = 79.21
MAXIMUM_RESOLUTION = 14.7
FOOTPRINT_POINT_LATITUDE = (31.0801,31.0786,31.0757,31.0738, 30.9759,30.7739,30.4709,30.1679,29.9653 ,29.7625,29.5604,29.3589,29.1564, 28.9538,28.7513,28.5444,28.2407,28.038, 27.8357,27.6329,27.3293,27.1342,26.9644 ,26.7949,26.6248,26.4538,26.2839, 26.1122,25.9435,25.7733,25.6047,25.4355 ,25.1826,25.0123,24.7575,24.5881, 24.3344,24.1648,23.9956,23.8265,23.657, 23.4878,23.3197,23.1513,22.8994,22.7305 ,22.5622,22.3935,22.2237,21.959,21.9593 ,21.9598,21.9601,21.961,22.2155,22.3848 ,22.5542,22.7236,22.8928,23.0613, 23.2297,23.4821,23.6507,23.8196,23.9887 ,24.1584,24.3268,24.4959,24.6654, 24.8358,25.0053,25.1747,25.3449,25.5148 ,25.7695,25.94,26.1106,26.2806,26.4501, 26.6202,26.8753,27.1304,27.4273,27.631, 27.936,28.1385,28.3412,28.5438,28.8512, 29.0539,29.2567,29.4595,29.6622,29.865, 30.0675,30.2699,30.5735,30.7759,30.9781 ,31.0801)
FOOTPRINT_POINT_LONGITUDE = (253.347,253.096,252.657,252.406, 252.101,252.108,252.118,252.127,252.134 ,252.14,252.146,252.152,252.158,252.164 ,252.169,252.175,252.183,252.188, 252.194,252.199,252.206,252.211,252.215 ,252.218,252.222,252.227,252.23,252.235 ,252.238,252.242,252.245,252.248, 252.252,252.256,252.261,252.263,252.268 ,252.271,252.273,252.276,252.279, 252.281,252.283,252.285,252.288,252.291 ,252.293,252.295,252.297,252.416,252.61 ,252.907,253.152,253.514,253.612, 253.614,253.615,253.617,253.618,253.619 ,253.62,253.622,253.623,253.624,253.625 ,253.627,253.628,253.629,253.631, 253.632,253.634,253.635,253.637,253.639 ,253.641,253.643,253.645,253.646, 253.648,253.65,253.652,253.655,253.658, 253.661,253.664,253.666,253.668,253.67, 253.673,253.675,253.677,253.679,253.682 ,253.684,253.686,253.688,253.691, 253.693,253.695,253.347)
ORBIT_NUMBER = 7248
ORBITAL_ECCENTRICITY = 0.575
ORBITAL_INCLINATION = 86.79
ORBITAL_SEMIMAJOR_AXIS = 8783.63
PERIAPSIS_ALTITUDE = 336.74
PERIAPSIS_ARGUMENT_ANGLE = 166.78
PERIAPSIS_TIME = 2009-08-27T05:23:57.000Z
SPACECRAFT_ORIENTATION = (0.0,-1.0,0.0)
^MEX_ORIENTATION_DESC = "MEX_ORIENTATION_DESC.TXT"
SPACECRAFT_POINTING_MODE = NADIR
^MEX_POINTING_DESC = "MEX_POINTING_DESC.TXT"
RIGHT_ASCENSION = -1e+32
DECLINATION = -1e+32
OFFSET_ANGLE = -1e+32
SPACECRAFT_SOLAR_DISTANCE = 2.21383e+08
TARGET_NAME = MARS
/* CAMERA DATA ELEMENTS */
DETECTOR_TEMPERATURE = 18.3705
FOCAL_PLANE_TEMPERATURE = 8.3794
INST_CMPRS_NAME = "DISCRETE COSINE TRANSFORMATION (DCT)"
INST_CMPRS_RATIO = 7.69676
INST_CMPRS_QUALITY = 0
INST_CMPRS_QUANTZ_TBL_ID = 0
INSTRUMENT_TEMPERATURE = 11.234
LENS_TEMPERATURE = 8.9911
MACROPIXEL_SIZE = 1
MISSING_FRAMES = 2
PIXEL_SUBSAMPLING_FLAG = N
SIGNAL_CHAIN_ID = 1
/* RADIOMETRIC DATA ELEMENTS */
BANDWIDTH = 178.0
CENTER_FILTER_WAVELENGTH = 679.0
RADIANCE_OFFSET = 2.39571
RADIANCE_SCALING_FACTOR = 0.0169109
REFLECTANCE_SCALING_FACTOR = 0.000438918
MEX:REFLECTANCE_OFFSET = 0.06218
/* IMAGE OBJECT DEFINITIONS */
OBJECT = IMAGE
  INTERCHANGE_FORMAT = BINARY
  LINES = 43308
  LINE_SAMPLES = 7068
  SAMPLE_TYPE = UNSIGNED_INTEGER
  SAMPLE_BITS = 8
  BANDS = 1
  BAND_STORAGE_TYPE = BAND_SEQUENTIAL
  MAXIMUM = 255
  MEAN = 91.8224
  MINIMUM = 1
  STANDARD_DEVIATION = 38.7065
END_OBJECT = IMAGE
/* MAP OBJECT DEFINITIONS */
OBJECT = IMAGE_MAP_PROJECTION
  ^DATA_SET_MAP_PROJECTION_CATALOG= "DSMAP.CAT"
  A_AXIS_RADIUS = 3396.0
  B_AXIS_RADIUS = 3396.0
  C_AXIS_RADIUS = 3396.0
  CENTER_LATITUDE = 0.0
  CENTER_LONGITUDE = 253.0
  COORDINATE_SYSTEM_NAME = PLANETOGRAPHIC
  COORDINATE_SYSTEM_TYPE = "BODY-FIXED ROTATING"
  EASTERNMOST_LONGITUDE = 253.695
  FIRST_STANDARD_PARALLEL = "N/A"
  LINE_FIRST_PIXEL = 1
  LINE_LAST_PIXEL = 43308
  LINE_PROJECTION_OFFSET = 147605.0
  MAP_PROJECTION_ROTATION = 0.0
  MAP_PROJECTION_TYPE = SINUSOIDAL
  MAP_RESOLUTION = 4741.71043093333
  MAP_SCALE = 0.0125
  MAXIMUM_LATITUDE = 31.0801
  MINIMUM_LATITUDE = 21.959
  POSITIVE_LONGITUDE_DIRECTION = EAST
  REFERENCE_LATITUDE = "N/A"
  REFERENCE_LONGITUDE = "N/A"
  SAMPLE_FIRST_PIXEL = 1
  SAMPLE_LAST_PIXEL = 7068
  SAMPLE_PROJECTION_OFFSET = 3952.0
  SECOND_STANDARD_PARALLEL = "N/A"
  WESTERNMOST_LONGITUDE = 252.101
END_OBJECT = IMAGE_MAP_PROJECTION
/* The JPEG2000 image data file associated with this label. */
OBJECT = COMPRESSED_FILE
  FILE_NAME = "H7248_0000_S23.JP2"
  RECORD_TYPE = UNDEFINED
  FILE_RECORDS = UNK
  ENCODING_TYPE = "JP2"
  INTERCHANGE_FORMAT = BINARY
  UNCOMPRESSED_FILE_NAME = "H7248_0000_S23.IMG"
  REQUIRED_STORAGE_BYTES = "306129216"
  ^DESCRIPTION = "JP2INFO.TXT"
END_OBJECT = COMPRESSED_FILE
END
