PDS_VERSION_ID = PDS3
/* FILE DATA ELEMENTS */
RECORD_TYPE = STREAM
/* POINTERS TO DATA OBJECTS */
^COMPRESSED_FILE = "H7248_0001_ND3.JP2"
/* IDENTIFICATION DATA ELEMENTS */
DATA_SET_ID = "MEX-M-HRSC-5-REFDR-MAPPROJECTED-V3.0"
DATA_SET_NAME = "MARS EXPRESS HRSC MAP PROJECTED REFDR V3.0"
DETECTOR_ID = MEX_HRSC_NADIR
EVENT_TYPE = "MARS-REGIONAL-MAPPING-Vo-Gl"
INSTRUMENT_HOST_ID = MEX
INSTRUMENT_HOST_NAME = "MARS EXPRESS"
INSTRUMENT_ID = HRSC
INSTRUMENT_NAME = "HIGH RESOLUTION STEREO CAMERA"
MISSION_NAME = "MARS EXPRESS"
MISSION_PHASE_NAME = ME_Phase_18
PROCESSING_LEVEL_ID = 3
PRODUCT_CREATION_TIME = 2016-06-30T05:04:16.000Z
PRODUCT_ID = "H7248_0001_ND3.JP2"
RELEASE_ID = 0080
REVISION_ID = 0000
/* QUALITY DATA ELEMENTS */
DATA_QUALITY_ID = 1
DATA_QUALITY_DESC = "Data calculated based on original SPICE kernels"
/* TIME DATA ELEMENTS */
SPACECRAFT_CLOCK_START_COUNT = "1/0199430698.09044"
SPACECRAFT_CLOCK_STOP_COUNT = "1/0199430912.00617"
START_TIME = 2009-08-27T05:25:31.099Z
STOP_TIME = 2009-08-27T05:27:55.089Z
/* ORBITAL DATA ELEMENTS */
ASCENDING_NODE_LONGITUDE = 79.21
MAXIMUM_RESOLUTION = 13.4
FOOTPRINT_POINT_LATITUDE = (7.08517,7.08691,7.08869,7.08975, 7.09072,6.91255,6.73501,6.5575,6.38004, 6.20263,6.02527,5.84796,5.67071,5.4935, 5.31635,5.13925,4.96221,4.78522,4.6083, 4.43143,4.25463,4.07789,3.90122,3.72461 ,3.54807,3.3716,3.1952,3.01887,2.8426, 2.66641,2.31425,1.9624,1.61086,1.25964, 0.908755,0.558208,0.356486,0.147582, -0.0611941,-0.269842,-0.478357, -0.686735,-0.894984,-1.10309,-1.31105, -1.51886,-1.72654,-1.93407,-2.14146, -2.16259,-2.1646,-2.16635,-2.16808, -2.16949,-2.17113,-1.96369,-1.75609, -1.54835,-1.34047,-1.13244,-0.924276, -0.715973,-0.507532,-0.298951, -0.0902404,0.1186,0.327571,0.532513, 0.883177,1.23418,1.58552,1.93718, 2.28915,2.46526,2.64144,2.81769,2.99401 ,3.17041,3.34688,3.52342,3.70003,3.8767 ,4.05344,4.23025,4.40712,4.58405, 4.76104,4.93809,5.1152,5.29237,5.46959, 5.64686,5.82419,6.00156,6.17899,6.35647 ,6.534,6.71158,6.8892,7.08517)
FOOTPRINT_POINT_LONGITUDE = (253.406,253.132,252.822,252.619, 252.416,252.328,252.326,252.324,252.322 ,252.321,252.319,252.317,252.315, 252.313,252.311,252.309,252.307,252.304 ,252.302,252.3,252.298,252.296,252.294, 252.291,252.289,252.287,252.284,252.282 ,252.279,252.277,252.272,252.267, 252.261,252.256,252.25,252.245,252.241, 252.238,252.234,252.231,252.227,252.223 ,252.22,252.216,252.212,252.208,252.204 ,252.2,252.196,252.391,252.638,252.859, 253.08,253.262,253.516,253.515,253.514, 253.513,253.513,253.512,253.512,253.511 ,253.511,253.51,253.51,253.509,253.509, 253.509,253.508,253.508,253.507,253.507 ,253.506,253.506,253.506,253.506, 253.506,253.506,253.506,253.506,253.506 ,253.506,253.506,253.507,253.507, 253.507,253.507,253.507,253.507,253.507 ,253.508,253.508,253.508,253.508, 253.508,253.508,253.508,253.508,253.509 ,253.406)
ORBIT_NUMBER = 7248
ORBITAL_ECCENTRICITY = 0.575
ORBITAL_INCLINATION = 86.79
ORBITAL_SEMIMAJOR_AXIS = 8783.63
PERIAPSIS_ALTITUDE = 336.74
PERIAPSIS_ARGUMENT_ANGLE = 166.78
PERIAPSIS_TIME = 2009-08-27T05:23:57.000Z
SPACECRAFT_ORIENTATION = (0.0,-1.0,0.0)
^MEX_ORIENTATION_DESC = "MEX_ORIENTATION_DESC.TXT"
SPACECRAFT_POINTING_MODE = NADIR
^MEX_POINTING_DESC = "MEX_POINTING_DESC.TXT"
RIGHT_ASCENSION = -1e+32
DECLINATION = -1e+32
OFFSET_ANGLE = -1e+32
SPACECRAFT_SOLAR_DISTANCE = 2.21383e+08
TARGET_NAME = MARS
/* CAMERA DATA ELEMENTS */
DETECTOR_TEMPERATURE = 19.39
FOCAL_PLANE_TEMPERATURE = 8.5833
INST_CMPRS_NAME = "DISCRETE COSINE TRANSFORMATION (DCT)"
INST_CMPRS_RATIO = 6.40008
INST_CMPRS_QUALITY = 0
INST_CMPRS_QUANTZ_TBL_ID = 0
INSTRUMENT_TEMPERATURE = 12.8652
LENS_TEMPERATURE = 8.9911
MACROPIXEL_SIZE = 1
MISSING_FRAMES = 0
PIXEL_SUBSAMPLING_FLAG = N
SIGNAL_CHAIN_ID = 0
/* RADIOMETRIC DATA ELEMENTS */
BANDWIDTH = 177.0
CENTER_FILTER_WAVELENGTH = 677.5
RADIANCE_OFFSET = 2.91681
RADIANCE_SCALING_FACTOR = 0.0193819
REFLECTANCE_SCALING_FACTOR = 0.00050463
MEX:REFLECTANCE_OFFSET = 0.0759427
/* IMAGE OBJECT DEFINITIONS */
OBJECT = IMAGE
  INTERCHANGE_FORMAT = BINARY
  LINES = 43918
  LINE_SAMPLES = 6766
  SAMPLE_TYPE = UNSIGNED_INTEGER
  SAMPLE_BITS = 8
  BANDS = 1
  BAND_STORAGE_TYPE = BAND_SEQUENTIAL
  MAXIMUM = 255
  MEAN = 128.521
  MINIMUM = 1
  STANDARD_DEVIATION = 12.7366
END_OBJECT = IMAGE
/* MAP OBJECT DEFINITIONS */
OBJECT = IMAGE_MAP_PROJECTION
  ^DATA_SET_MAP_PROJECTION_CATALOG= "DSMAP.CAT"
  A_AXIS_RADIUS = 3396.0
  B_AXIS_RADIUS = 3396.0
  C_AXIS_RADIUS = 3396.0
  CENTER_LATITUDE = 0.0
  CENTER_LONGITUDE = 253.0
  COORDINATE_SYSTEM_NAME = PLANETOGRAPHIC
  COORDINATE_SYSTEM_TYPE = "BODY-FIXED ROTATING"
  EASTERNMOST_LONGITUDE = 253.516
  FIRST_STANDARD_PARALLEL = "N/A"
  LINE_FIRST_PIXEL = 1
  LINE_LAST_PIXEL = 43918
  LINE_PROJECTION_OFFSET = 33624.0
  MAP_PROJECTION_ROTATION = 0.0
  MAP_PROJECTION_TYPE = SINUSOIDAL
  MAP_RESOLUTION = 4741.71043093333
  MAP_SCALE = 0.0125
  MAXIMUM_LATITUDE = 7.09072
  MINIMUM_LATITUDE = -2.17113
  POSITIVE_LONGITUDE_DIRECTION = EAST
  REFERENCE_LATITUDE = "N/A"
  REFERENCE_LONGITUDE = "N/A"
  SAMPLE_FIRST_PIXEL = 1
  SAMPLE_LAST_PIXEL = 6766
  SAMPLE_PROJECTION_OFFSET = 4065.0
  SECOND_STANDARD_PARALLEL = "N/A"
  WESTERNMOST_LONGITUDE = 252.196
END_OBJECT = IMAGE_MAP_PROJECTION
/* The JPEG2000 image data file associated with this label. */
OBJECT = COMPRESSED_FILE
  FILE_NAME = "H7248_0001_ND3.JP2"
  RECORD_TYPE = UNDEFINED
  FILE_RECORDS = UNK
  ENCODING_TYPE = "JP2"
  INTERCHANGE_FORMAT = BINARY
  UNCOMPRESSED_FILE_NAME = "H7248_0001_ND3.IMG"
  REQUIRED_STORAGE_BYTES = "297183018"
  ^DESCRIPTION = "JP2INFO.TXT"
END_OBJECT = COMPRESSED_FILE
END
