PDS_VERSION_ID = PDS3
/* FILE DATA ELEMENTS */
RECORD_TYPE = STREAM
/* POINTERS TO DATA OBJECTS */
^COMPRESSED_FILE = "H7254_0000_RE3.JP2"
/* IDENTIFICATION DATA ELEMENTS */
DATA_SET_ID = "MEX-M-HRSC-5-REFDR-MAPPROJECTED-V3.0"
DATA_SET_NAME = "MARS EXPRESS HRSC MAP PROJECTED REFDR V3.0"
DETECTOR_ID = MEX_HRSC_RED
EVENT_TYPE = "MARS-REGIONAL-MAPPING-Im-Fl-Lc"
INSTRUMENT_HOST_ID = MEX
INSTRUMENT_HOST_NAME = "MARS EXPRESS"
INSTRUMENT_ID = HRSC
INSTRUMENT_NAME = "HIGH RESOLUTION STEREO CAMERA"
MISSION_NAME = "MARS EXPRESS"
MISSION_PHASE_NAME = ME_Phase_18
PROCESSING_LEVEL_ID = 3
PRODUCT_CREATION_TIME = 2016-06-30T05:04:16.000Z
PRODUCT_ID = "H7254_0000_RE3.JP2"
RELEASE_ID = 0080
REVISION_ID = 0000
/* QUALITY DATA ELEMENTS */
DATA_QUALITY_ID = 1
DATA_QUALITY_DESC = "Data calculated based on original SPICE kernels"
/* TIME DATA ELEMENTS */
SPACECRAFT_CLOCK_START_COUNT = "1/0199579445.07299"
SPACECRAFT_CLOCK_STOP_COUNT = "1/0199579770.56107"
START_TIME = 2009-08-28T22:45:04.984Z
STOP_TIME = 2009-08-28T22:49:25.399Z
/* ORBITAL DATA ELEMENTS */
ASCENDING_NODE_LONGITUDE = 79.1
MAXIMUM_RESOLUTION = 56.9
FOOTPRINT_POINT_LATITUDE = (19.8966,19.8978,19.8995,19.9237, 19.5811,19.2418,18.7326,18.2258,17.8826 ,17.5446,17.2059,16.867,16.3584,15.8515 ,15.3456,15.0083,14.6716,14.1667,13.83, 13.4944,13.1583,12.6555,12.3203,11.8183 ,11.4845,11.1504,10.818,10.4824,10.15, 9.81715,9.48595,9.1568,8.82224,8.32613, 7.83124,7.5012,7.17706,6.8433,6.51583, 6.02486,5.6981,5.37159,5.04519,4.72009, 4.23319,3.90983,3.58585,3.20616,3.18683 ,3.18424,3.17925,3.17786,3.37036, 3.55981,3.88269,4.20727,4.53139,4.85617 ,5.18476,5.50992,5.83926,6.16254, 6.49043,6.81915,7.14815,7.47758,7.97215 ,8.30127,8.63292,8.96383,9.29498, 9.63474,9.96788,10.2911,10.6252,11.1265 ,11.4616,11.7954,12.1307,12.4688, 12.8013,13.1372,13.4739,13.9781,14.3148 ,14.6499,14.9873,15.4954,16.0019,16.34, 16.8484,17.1876,17.5261,17.8656,18.2061 ,18.7143,19.0542,19.3946,19.7344, 19.8966)
FOOTPRINT_POINT_LONGITUDE = (8.14441,7.83758,7.44775,7.20886, 7.21288,7.2154,7.21896,7.22118,7.22482, 7.22607,7.22754,7.22899,7.23105,7.2322, 7.23274,7.23303,7.23298,7.23275,7.23256 ,7.23186,7.23133,7.22988,7.22886, 7.22696,7.22534,7.22379,7.22154,7.22059 ,7.21836,7.21628,7.21354,7.20999, 7.20864,7.20434,7.1996,7.19653,7.19114, 7.18963,7.18565,7.17968,7.17555,7.17137 ,7.16722,7.16261,7.15554,7.15043, 7.14565,7.13933,7.46906,7.71293,8.15171 ,8.44809,8.44763,8.44709,8.44628, 8.44591,8.4453,8.44482,8.44545,8.4449, 8.4456,8.44427,8.44433,8.44457,8.44482, 8.44513,8.44558,8.44559,8.44634,8.44678 ,8.44723,8.45036,8.45131,8.44903, 8.45015,8.45177,8.45307,8.4539,8.45513, 8.45725,8.45749,8.45878,8.46026,8.46216 ,8.46355,8.46437,8.46593,8.4688,8.47111 ,8.47271,8.4755,8.47742,8.47911,8.48106 ,8.48336,8.48588,8.48794,8.49012, 8.49212,8.14441)
ORBIT_NUMBER = 7254
ORBITAL_ECCENTRICITY = 0.574
ORBITAL_INCLINATION = 86.79
ORBITAL_SEMIMAJOR_AXIS = 8769.0
PERIAPSIS_ALTITUDE = 338.01
PERIAPSIS_ARGUMENT_ANGLE = 165.73
PERIAPSIS_TIME = 2009-08-28T22:46:06.000Z
SPACECRAFT_ORIENTATION = (0.0,-1.0,0.0)
^MEX_ORIENTATION_DESC = "MEX_ORIENTATION_DESC.TXT"
SPACECRAFT_POINTING_MODE = ACROSSTRACK
^MEX_POINTING_DESC = "MEX_POINTING_DESC.TXT"
RIGHT_ASCENSION = -1e+32
DECLINATION = -1e+32
OFFSET_ANGLE = -0.08
SPACECRAFT_SOLAR_DISTANCE = 2.21713e+08
TARGET_NAME = MARS
/* CAMERA DATA ELEMENTS */
DETECTOR_TEMPERATURE = 18.5744
FOCAL_PLANE_TEMPERATURE = 8.7872
INST_CMPRS_NAME = "DISCRETE COSINE TRANSFORMATION (DCT)"
INST_CMPRS_RATIO = 16.7765
INST_CMPRS_QUALITY = 0
INST_CMPRS_QUANTZ_TBL_ID = 0
INSTRUMENT_TEMPERATURE = 11.234
LENS_TEMPERATURE = 9.195
MACROPIXEL_SIZE = 4
MISSING_FRAMES = 0
PIXEL_SUBSAMPLING_FLAG = N
SIGNAL_CHAIN_ID = 2
/* RADIOMETRIC DATA ELEMENTS */
BANDWIDTH = 48.0
CENTER_FILTER_WAVELENGTH = 748.0
RADIANCE_OFFSET = 0.796033
RADIANCE_SCALING_FACTOR = 0.00490553
REFLECTANCE_SCALING_FACTOR = 0.000550293
MEX:REFLECTANCE_OFFSET = 0.0892976
/* IMAGE OBJECT DEFINITIONS */
OBJECT = IMAGE
  INTERCHANGE_FORMAT = BINARY
  LINES = 19852
  LINE_SAMPLES = 1630
  SAMPLE_TYPE = UNSIGNED_INTEGER
  SAMPLE_BITS = 8
  BANDS = 1
  BAND_STORAGE_TYPE = BAND_SEQUENTIAL
  MAXIMUM = 255
  MEAN = 125.403
  MINIMUM = 1
  STANDARD_DEVIATION = 20.8956
END_OBJECT = IMAGE
/* MAP OBJECT DEFINITIONS */
OBJECT = IMAGE_MAP_PROJECTION
  ^DATA_SET_MAP_PROJECTION_CATALOG= "DSMAP.CAT"
  A_AXIS_RADIUS = 3396.0
  B_AXIS_RADIUS = 3396.0
  C_AXIS_RADIUS = 3396.0
  CENTER_LATITUDE = 0.0
  CENTER_LONGITUDE = 8.0
  COORDINATE_SYSTEM_NAME = PLANETOGRAPHIC
  COORDINATE_SYSTEM_TYPE = "BODY-FIXED ROTATING"
  EASTERNMOST_LONGITUDE = 8.49212
  FIRST_STANDARD_PARALLEL = "N/A"
  LINE_FIRST_PIXEL = 1
  LINE_LAST_PIXEL = 19852
  LINE_PROJECTION_OFFSET = 23613.875
  MAP_PROJECTION_ROTATION = 0.0
  MAP_PROJECTION_TYPE = SINUSOIDAL
  MAP_RESOLUTION = 1185.42760773333
  MAP_SCALE = 0.05
  MAXIMUM_LATITUDE = 19.9237
  MINIMUM_LATITUDE = 3.17786
  POSITIVE_LONGITUDE_DIRECTION = EAST
  REFERENCE_LATITUDE = "N/A"
  REFERENCE_LONGITUDE = "N/A"
  SAMPLE_FIRST_PIXEL = 1
  SAMPLE_LAST_PIXEL = 1630
  SAMPLE_PROJECTION_OFFSET = 1042.625
  SECOND_STANDARD_PARALLEL = "N/A"
  WESTERNMOST_LONGITUDE = 7.13933
END_OBJECT = IMAGE_MAP_PROJECTION
/* The JPEG2000 image data file associated with this label. */
OBJECT = COMPRESSED_FILE
  FILE_NAME = "H7254_0000_RE3.JP2"
  RECORD_TYPE = UNDEFINED
  FILE_RECORDS = UNK
  ENCODING_TYPE = "JP2"
  INTERCHANGE_FORMAT = BINARY
  UNCOMPRESSED_FILE_NAME = "H7254_0000_RE3.IMG"
  REQUIRED_STORAGE_BYTES = "32378320"
  ^DESCRIPTION = "JP2INFO.TXT"
END_OBJECT = COMPRESSED_FILE
END
