PDS_VERSION_ID = PDS3
/* FILE DATA ELEMENTS */
RECORD_TYPE = STREAM
/* POINTERS TO DATA OBJECTS */
^COMPRESSED_FILE = "H7254_0001_GR3.JP2"
/* IDENTIFICATION DATA ELEMENTS */
DATA_SET_ID = "MEX-M-HRSC-5-REFDR-MAPPROJECTED-V3.0"
DATA_SET_NAME = "MARS EXPRESS HRSC MAP PROJECTED REFDR V3.0"
DETECTOR_ID = MEX_HRSC_GREEN
EVENT_TYPE = "MARS-REGIONAL-MAPPING-Im-Fl"
INSTRUMENT_HOST_ID = MEX
INSTRUMENT_HOST_NAME = "MARS EXPRESS"
INSTRUMENT_ID = HRSC
INSTRUMENT_NAME = "HIGH RESOLUTION STEREO CAMERA"
MISSION_NAME = "MARS EXPRESS"
MISSION_PHASE_NAME = ME_Phase_18
PROCESSING_LEVEL_ID = 3
PRODUCT_CREATION_TIME = 2016-06-30T05:04:16.000Z
PRODUCT_ID = "H7254_0001_GR3.JP2"
RELEASE_ID = 0080
REVISION_ID = 0000
/* QUALITY DATA ELEMENTS */
DATA_QUALITY_ID = 1
DATA_QUALITY_DESC = "Data calculated based on original SPICE kernels"
/* TIME DATA ELEMENTS */
SPACECRAFT_CLOCK_START_COUNT = "1/0199579937.07295"
SPACECRAFT_CLOCK_STOP_COUNT = "1/0199580239.52094"
START_TIME = 2009-08-28T22:52:55.654Z
STOP_TIME = 2009-08-28T22:55:53.473Z
/* ORBITAL DATA ELEMENTS */
ASCENDING_NODE_LONGITUDE = 79.1
MAXIMUM_RESOLUTION = 77
FOOTPRINT_POINT_LATITUDE = (-12.1956,-12.1936,-12.1911,-12.1887, -12.1862,-12.1835,-12.5629,-12.941, -13.3252,-13.5178,-13.8071,-14.1003, -14.296,-14.5894,-14.8879,-15.0871, -15.2859,-15.4869,-15.6894,-15.8918, -16.094,-16.4025,-16.6082,-16.8135, -17.0221,-17.2309,-17.5438,-17.756, -17.9681,-18.1797,-18.3941,-18.6091, -18.824,-19.0412,-19.2594,-19.4772, -19.698,-19.9193,-20.1401,-20.3645, -20.7007,-21.0407,-21.2678,-21.4968, -21.7273,-21.9573,-22.1909,-22.4237, -22.6856,-22.6886,-22.694,-22.697, -22.6987,-22.7001,-22.7009,-22.4645, -22.2314,-21.9995,-21.7688,-21.5375, -21.3075,-21.0805,-20.8531,-20.6283, -20.4052,-20.0701,-19.8491,-19.6277, -19.2984,-19.0805,-18.8626,-18.6492, -18.4343,-18.2195,-17.9007,-17.6886, -17.4778,-17.2692,-17.0603,-16.8514, -16.6461,-16.4405,-16.2346,-15.9295, -15.7271,-15.5243,-15.323,-15.1249, -14.9256,-14.6259,-14.4303,-14.2346, -13.9411,-13.6508,-13.4583,-13.2654, -12.9764,-12.598,-12.2191,-12.1956)
FOOTPRINT_POINT_LONGITUDE = (8.30066,8.04636,7.74389,7.48937, 7.23458,6.97914,6.80078,6.78887,6.77611 ,6.76976,6.75827,6.7494,6.7432,6.73309, 6.72242,6.71534,6.70851,6.70132,6.69407 ,6.68671,6.67901,6.66732,6.65935,6.6516 ,6.64337,6.63542,6.62304,6.61466, 6.60608,6.59766,6.589,6.58041,6.57152, 6.56256,6.55357,6.54455,6.53533,6.52596 ,6.5167,6.50696,6.49224,6.47746,6.46752 ,6.45748,6.44674,6.43659,6.42562, 6.41536,6.46803,6.7328,7.21575,7.58896, 7.8525,8.2038,8.48896,8.75237,8.74484, 8.74043,8.73289,8.72392,8.7162,8.70959, 8.70325,8.69704,8.69286,8.6838,8.67791, 8.67208,8.66178,8.65678,8.65092,8.64823 ,8.64346,8.63836,8.62866,8.62382, 8.61913,8.61445,8.60995,8.60555,8.60133 ,8.59699,8.59277,8.58689,8.58288, 8.57882,8.57538,8.57331,8.56942,8.56272 ,8.55941,8.55625,8.5527,8.54813,8.54502 ,8.54185,8.53611,8.53033,8.52526, 8.30066)
ORBIT_NUMBER = 7254
ORBITAL_ECCENTRICITY = 0.574
ORBITAL_INCLINATION = 86.79
ORBITAL_SEMIMAJOR_AXIS = 8769.0
PERIAPSIS_ALTITUDE = 338.01
PERIAPSIS_ARGUMENT_ANGLE = 165.73
PERIAPSIS_TIME = 2009-08-28T22:46:06.000Z
SPACECRAFT_ORIENTATION = (0.0,-1.0,0.0)
^MEX_ORIENTATION_DESC = "MEX_ORIENTATION_DESC.TXT"
SPACECRAFT_POINTING_MODE = ACROSSTRACK
^MEX_POINTING_DESC = "MEX_POINTING_DESC.TXT"
RIGHT_ASCENSION = -1e+32
DECLINATION = -1e+32
OFFSET_ANGLE = -0.08
SPACECRAFT_SOLAR_DISTANCE = 2.21713e+08
TARGET_NAME = MARS
/* CAMERA DATA ELEMENTS */
DETECTOR_TEMPERATURE = 19.5939
FOCAL_PLANE_TEMPERATURE = 10.2145
INST_CMPRS_NAME = "DISCRETE COSINE TRANSFORMATION (DCT)"
INST_CMPRS_RATIO = 15.3114
INST_CMPRS_QUALITY = 0
INST_CMPRS_QUANTZ_TBL_ID = 0
INSTRUMENT_TEMPERATURE = 13.273
LENS_TEMPERATURE = 9.6028
MACROPIXEL_SIZE = 4
MISSING_FRAMES = 0
PIXEL_SUBSAMPLING_FLAG = N
SIGNAL_CHAIN_ID = 2
/* RADIOMETRIC DATA ELEMENTS */
BANDWIDTH = 88.0
CENTER_FILTER_WAVELENGTH = 538.0
RADIANCE_OFFSET = 1.02745
RADIANCE_SCALING_FACTOR = 0.00424506
REFLECTANCE_SCALING_FACTOR = 0.000179662
MEX:REFLECTANCE_OFFSET = 0.0434844
/* IMAGE OBJECT DEFINITIONS */
OBJECT = IMAGE
  INTERCHANGE_FORMAT = BINARY
  LINES = 6235
  LINE_SAMPLES = 1355
  SAMPLE_TYPE = UNSIGNED_INTEGER
  SAMPLE_BITS = 8
  BANDS = 1
  BAND_STORAGE_TYPE = BAND_SEQUENTIAL
  MAXIMUM = 255
  MEAN = 129.708
  MINIMUM = 1
  STANDARD_DEVIATION = 21.1546
END_OBJECT = IMAGE
/* MAP OBJECT DEFINITIONS */
OBJECT = IMAGE_MAP_PROJECTION
  ^DATA_SET_MAP_PROJECTION_CATALOG= "DSMAP.CAT"
  A_AXIS_RADIUS = 3396.0
  B_AXIS_RADIUS = 3396.0
  C_AXIS_RADIUS = 3396.0
  CENTER_LATITUDE = 0.0
  CENTER_LONGITUDE = 8.0
  COORDINATE_SYSTEM_NAME = PLANETOGRAPHIC
  COORDINATE_SYSTEM_TYPE = "BODY-FIXED ROTATING"
  EASTERNMOST_LONGITUDE = 8.752370000000001
  FIRST_STANDARD_PARALLEL = "N/A"
  LINE_FIRST_PIXEL = 1
  LINE_LAST_PIXEL = 6235
  LINE_PROJECTION_OFFSET = -7214.625
  MAP_PROJECTION_ROTATION = 0.0
  MAP_PROJECTION_TYPE = SINUSOIDAL
  MAP_RESOLUTION = 592.713803866667
  MAP_SCALE = 0.1
  MAXIMUM_LATITUDE = -12.1835
  MINIMUM_LATITUDE = -22.7009
  POSITIVE_LONGITUDE_DIRECTION = EAST
  REFERENCE_LATITUDE = "N/A"
  REFERENCE_LONGITUDE = "N/A"
  SAMPLE_FIRST_PIXEL = 1
  SAMPLE_LAST_PIXEL = 1355
  SAMPLE_PROJECTION_OFFSET = 910.625
  SECOND_STANDARD_PARALLEL = "N/A"
  WESTERNMOST_LONGITUDE = 6.41536
END_OBJECT = IMAGE_MAP_PROJECTION
/* The JPEG2000 image data file associated with this label. */
OBJECT = COMPRESSED_FILE
  FILE_NAME = "H7254_0001_GR3.JP2"
  RECORD_TYPE = UNDEFINED
  FILE_RECORDS = UNK
  ENCODING_TYPE = "JP2"
  INTERCHANGE_FORMAT = BINARY
  UNCOMPRESSED_FILE_NAME = "H7254_0001_GR3.IMG"
  REQUIRED_STORAGE_BYTES = "8467395"
  ^DESCRIPTION = "JP2INFO.TXT"
END_OBJECT = COMPRESSED_FILE
END
